BEGIN:VCALENDAR
VERSION:2.0
PRODID:-//De Hoofdzaak - ECPv6.15.20//NONSGML v1.0//EN
CALSCALE:GREGORIAN
METHOD:PUBLISH
X-ORIGINAL-URL:https://dehoofdzaak.org
X-WR-CALDESC:Evenementen voor De Hoofdzaak
REFRESH-INTERVAL;VALUE=DURATION:PT1H
X-Robots-Tag:noindex
X-PUBLISHED-TTL:PT1H
BEGIN:VTIMEZONE
TZID:Europe/Amsterdam
BEGIN:DAYLIGHT
TZOFFSETFROM:+0100
TZOFFSETTO:+0200
TZNAME:CEST
DTSTART:20240331T010000
END:DAYLIGHT
BEGIN:STANDARD
TZOFFSETFROM:+0200
TZOFFSETTO:+0100
TZNAME:CET
DTSTART:20241027T010000
END:STANDARD
BEGIN:DAYLIGHT
TZOFFSETFROM:+0100
TZOFFSETTO:+0200
TZNAME:CEST
DTSTART:20250330T010000
END:DAYLIGHT
BEGIN:STANDARD
TZOFFSETFROM:+0200
TZOFFSETTO:+0100
TZNAME:CET
DTSTART:20251026T010000
END:STANDARD
BEGIN:DAYLIGHT
TZOFFSETFROM:+0100
TZOFFSETTO:+0200
TZNAME:CEST
DTSTART:20260329T010000
END:DAYLIGHT
BEGIN:STANDARD
TZOFFSETFROM:+0200
TZOFFSETTO:+0100
TZNAME:CET
DTSTART:20261025T010000
END:STANDARD
END:VTIMEZONE
BEGIN:VEVENT
DTSTART;TZID=Europe/Amsterdam:20251208T100000
DTEND;TZID=Europe/Amsterdam:20251208T120000
DTSTAMP:20260424T102305
CREATED:20240214T111832Z
LAST-MODIFIED:20251218T105158Z
UID:10013956-1765188000-1765195200@dehoofdzaak.org
SUMMARY:Opgeruimd huis\, opgeruimd hoofd
DESCRIPTION:Een opgeruimd huis geeft rust. Lukt het jou niet je huis op orde te krijgen? En wil je daarover in gesprek? Doe dan mee met deze groep.
URL:https://dehoofdzaak.org/agenda/opgeruimd-huis-opgeruimd-hoofd/2025-12-08/
LOCATION:De Hoofdzaak Hoorn\, Wilhelminalaan 2\, Hoorn\, 1623 MA\, Nederland
CATEGORIES:Westfriesland
END:VEVENT
BEGIN:VEVENT
DTSTART;TZID=Europe/Amsterdam:20251208T094500
DTEND;TZID=Europe/Amsterdam:20251208T110000
DTSTAMP:20260424T102305
CREATED:20240809T141325Z
LAST-MODIFIED:20250908T143819Z
UID:10034595-1765187100-1765191600@dehoofdzaak.org
SUMMARY:Easy yoga
DESCRIPTION:De Hoofdzaak\, Sport-Z\, VROUWenKRACHT en Beschermd Wonen organiseren samen wekelijkse lessen EasyYoga in Wijkcentrum Overdie. Op maandagochtend kan je meedoen aan deze lessen onder begeleiding van een professionele yogadocent van Sport-Z. \n\n\n\nEasyYoga is goed voor je lichaam en kan ook rust geven aan in je hoofd. Om mee te doen hoef je niet lenig\, zen of heel sterk te zijn. De docent houdt in de gaten of iedereen mee kan doen op zijn of haar eigen niveau. Zo haal jij voldoende uitdaging uit de les\, kan je met plezier bewegen en ontmoet je anderen.  \n\n\n\nEasyYoga helpt jou vooruit\, je krijgt energie om ‘in beweging’ te komen. En op een rustige manier ga jij ontdekken wat beweging voor jou doet. Ben je nieuwsgierig? Doe dan gerust een keertje mee!  \n\n\n\nWaar: Wijkcentrum Overdie\, Van Maerlantstraat 8-10\, Alkmaar Wanneer: Elke maandag van 9.45-11.00 uur\, van 11.00-12.15 uur en van 12.15-13.30 uur (niet in de schoolvakanties) \n\n\n\nAanmelden voor een proefles kan bij Marlies Schoenmakers-van Kuijk\, via schoenmakers.marlies@gmail.com of 06-50514975.
URL:https://dehoofdzaak.org/agenda/easy-yoga/2025-12-08/
LOCATION:De Hoofdzaak Alkmaar\, van Maerlantstraat 8-10\, Alkmaar\, 1813 BH\, Nederland
CATEGORIES:Noord-Kennemerland
END:VEVENT
BEGIN:VEVENT
DTSTART;TZID=Europe/Amsterdam:20251206T130000
DTEND;TZID=Europe/Amsterdam:20251206T160000
DTSTAMP:20260424T102305
CREATED:20250418T072603Z
LAST-MODIFIED:20250418T072702Z
UID:10010970-1765026000-1765036800@dehoofdzaak.org
SUMMARY:Weekend workshops (i.s.m. Dalisay recovery)
DESCRIPTION:Twee keer per maand organiseren we een leuke workshop op zaterdag middag\, in samenwerking met Dalisay recovery. Afwisselend in Hoorn en Medemblik.
URL:https://dehoofdzaak.org/agenda/weekend-workshops-i-s-m-dalisay-recovery-5/2025-12-06/
CATEGORIES:Westfriesland
END:VEVENT
BEGIN:VEVENT
DTSTART;TZID=Europe/Amsterdam:20251205T190000
DTEND;TZID=Europe/Amsterdam:20251205T220000
DTSTAMP:20260424T102305
CREATED:20250424T150141Z
LAST-MODIFIED:20250911T093559Z
UID:10035448-1764961200-1764972000@dehoofdzaak.org
SUMMARY:Spelletjes avonden in De Verbinding
DESCRIPTION:Om de week organiseren we in de Verbinding spelletjes avonden. De spelletjes staan klaar en we kijken elke keer waar we zin in hebben. Heb je een zelf een leuk spel? Neem hem mee! Speel je gezellig met ons een spelletje mee?
URL:https://dehoofdzaak.org/agenda/frisse-avonden-in-de-verbinding-2/2025-12-05/
LOCATION:De Hoofdzaak Hoorn\, Wilhelminalaan 2\, Hoorn\, 1623 MA\, Nederland
CATEGORIES:Westfriesland
END:VEVENT
BEGIN:VEVENT
DTSTART;TZID=Europe/Amsterdam:20251205T150000
DTEND;TZID=Europe/Amsterdam:20251205T170000
DTSTAMP:20260424T102305
CREATED:20251009T080623Z
LAST-MODIFIED:20260224T152659Z
UID:10037236-1764946800-1764954000@dehoofdzaak.org
SUMMARY:Let's get social
DESCRIPTION:Vriendschap\, jezelf durven laten zien\, écht contact maken — het klinkt simpel\, maar dat is het niet altijd.In de training ‘Let’s get social’ ontdek je als jongere wat voor jouw belangrijk is in vriendschappen\, hoe jeverbinding kan maken en hoe je steviger in je schoenen kan staan.Samen met leeftijdsgenoten en begeleid door ervaringsdeskundigen ga je aan de slag met thema’s alszelfvertrouwen\, communicatie en grenzen aangeven.Je komt er achter wat jij belangrijk vind en hoe jij verder en sterker in je kracht komt te staan.In 8 bijeenkomsten werk je aan persoonlijke doelen\, in een veilige en gezellige setting.De training is voor jongeren tussen de 16 en 27 jaar en bestaat uit bijeenkomsten van 2 uur.Deelname is natuurlijk gratis!
URL:https://dehoofdzaak.org/agenda/lets-get-social-3/2025-12-05/
LOCATION:Kopzorg\, Oudegracht 162\, Alkmaar\, 1811CN\, Netherlands
CATEGORIES:Noord-Kennemerland
END:VEVENT
BEGIN:VEVENT
DTSTART;TZID=Europe/Amsterdam:20251205T140000
DTEND;TZID=Europe/Amsterdam:20251205T170000
DTSTAMP:20260424T102305
CREATED:20250206T140901Z
LAST-MODIFIED:20250702T090220Z
UID:10033018-1764943200-1764954000@dehoofdzaak.org
SUMMARY:Emotietekenen Heiloo
DESCRIPTION:Voel jij je ook zo verbonden met muziek\, en houd je ervan om creatiefbezig te zijn? Dan is emotie tekenen zeker iets voor jou!Tijdens het emotie tekenen\, willen we gezamenlijk onze emoties inbeeld brengen. We doen dit op muziek\, die iedereen zelf meebrengt.We delen het verhaal achter onze tekeningen met elkaar als je dat wilt.Wil jij samen met ons jouw eigen creativiteit ontdekken door muzieken tekenen te combineren? Doe dan met ons mee! \n\n\n\nAanmelden kan via emotietekenen-heiloo@dehoofdzaak.org
URL:https://dehoofdzaak.org/agenda/emotietekenen-heiloo-2/2025-12-05/
LOCATION:’t Trefpunt\, Abraham du bois-hof 2\, Heiloo\, 1852 EZ\, Nederland
CATEGORIES:Noord-Kennemerland
END:VEVENT
BEGIN:VEVENT
DTSTART;TZID=Europe/Amsterdam:20251205T134500
DTEND;TZID=Europe/Amsterdam:20251205T153000
DTSTAMP:20260424T102305
CREATED:20251017T095805Z
LAST-MODIFIED:20251017T095808Z
UID:10037251-1764942300-1764948600@dehoofdzaak.org
SUMMARY:Mannengroep
DESCRIPTION:De bijeenkomsten\, specifiek voor mannen\, starten met een zitmeditatie. Daarna is er ruimte om datgene met elkaar te delen wat je op dat moment zou willen delen. Alles is oké. We sluiten af met een klein beetje Tai Chi.
URL:https://dehoofdzaak.org/agenda/mannengroep-2/2025-12-05/
LOCATION:De Hoofdzaak Hoorn\, Wilhelminalaan 2\, Hoorn\, 1623 MA\, Nederland
CATEGORIES:Westfriesland
END:VEVENT
BEGIN:VEVENT
DTSTART;TZID=Europe/Amsterdam:20251205T130000
DTEND;TZID=Europe/Amsterdam:20251205T160000
DTSTAMP:20260424T102305
CREATED:20250618T104508Z
LAST-MODIFIED:20250618T104539Z
UID:10032463-1764939600-1764950400@dehoofdzaak.org
SUMMARY:Ontwikkelplein Alkmaar
DESCRIPTION:Wat is het Ontwikkelplein? \n\n\n\nBij het Ontwikkelplein kun je terecht met al je vragen over taal\, wonen\, werk\, welzijn\, studie\, geld\, je mobiele telefoon en de digitale overheid. Je kunt zo binnenlopen voor gratis hulp van verschillende organisaties. Een afspraak maken is niet nodig.  \n\n\n\nWelke organisaties zijn aanwezig bij het Ontwikkelplein?\n\n\n\nNiet alleen De Hoofdzaak is aanwezig op het ontwikkelplein maar ook een aantal organisaties waar we mee samenwerken zoals MEE & de Wering\, DUO (Dienst Uitvoering Onderwijs) en de bibliotheek. Zo vinden we altijd de juiste persoon om je te helpen.
URL:https://dehoofdzaak.org/agenda/ontwikkelplein-alkmaar/2025-12-05/
LOCATION:Bibliotheek Alkmaar\, Gasthuisstraat 2\, Alkmaar\, 1811KC
CATEGORIES:Noord-Kennemerland
END:VEVENT
BEGIN:VEVENT
DTSTART;TZID=Europe/Amsterdam:20251205T130000
DTEND;TZID=Europe/Amsterdam:20251205T150000
DTSTAMP:20260424T102305
CREATED:20250411T130712Z
LAST-MODIFIED:20250702T092359Z
UID:10028522-1764939600-1764946800@dehoofdzaak.org
SUMMARY:Depressiegroep
DESCRIPTION:Sluit je aan bij onze depressie gespreksgroep\, begeleid door ervaringsdeskundigen. Een veilige ruimte voor steun\, begrip en gedeelde ervaringen.
URL:https://dehoofdzaak.org/agenda/depressiegroep/2025-12-05/
LOCATION:Wijkcentrum Thuis in Overdie\, Van Maerlantstraat 8A\, Alkmaar\, 1813 BH
CATEGORIES:Noord-Kennemerland
END:VEVENT
BEGIN:VEVENT
DTSTART;TZID=Europe/Amsterdam:20251205T100000
DTEND;TZID=Europe/Amsterdam:20251205T130000
DTSTAMP:20260424T102305
CREATED:20250605T134033Z
LAST-MODIFIED:20250605T134035Z
UID:10031690-1764928800-1764939600@dehoofdzaak.org
SUMMARY:Ontmoetingspunt de Jutter - Den Helder
DESCRIPTION:Elke vrijdag: Kom ook eens gezellig binnenlopen op onze locatie in de Jutter. Je bent welkom!
URL:https://dehoofdzaak.org/agenda/ontmoetingspunt-de-jutter-den-helder/2025-12-05/
CATEGORIES:Kop Noord Holland
END:VEVENT
BEGIN:VEVENT
DTSTART;TZID=Europe/Amsterdam:20251205T100000
DTEND;TZID=Europe/Amsterdam:20251205T113000
DTSTAMP:20260424T102305
CREATED:20250120T090723Z
LAST-MODIFIED:20250120T090908Z
UID:10018440-1764928800-1764934200@dehoofdzaak.org
SUMMARY:Herstelgroep 0.0
DESCRIPTION:Bij Herstelgroep 0.0 delen we de ups en downs van ons leven in herstel. Na een worsteling met onze verslaving zijn we ondertussen een tijdje clean en is het probleem minder om uit gebruik te blijven dan om met de nieuwe situatie om te gaan. \n\n\n\nWe zijn elkaar tot steun en inspireren elkaar aan de hand van gezamenlijke thema’s. In een sfeer van warmte en verbinding en onder het genot van een kopje koffie of thee.
URL:https://dehoofdzaak.org/agenda/herstelgroep-0-0-2/2025-12-05/
LOCATION:Wijkcentrum Thuis in Overdie\, Van Maerlantstraat 8A\, Alkmaar\, 1813 BH
CATEGORIES:Noord-Kennemerland
END:VEVENT
BEGIN:VEVENT
DTSTART;TZID=Europe/Amsterdam:20251205T093000
DTEND;TZID=Europe/Amsterdam:20251205T120000
DTSTAMP:20260424T102305
CREATED:20230822T124559Z
LAST-MODIFIED:20230822T124602Z
UID:10002910-1764927000-1764936000@dehoofdzaak.org
SUMMARY:Ontmoetingscafé De Verbinding
DESCRIPTION:Kom gerust binnen voor een kop koffie of thee. Ontmoet anderen in een gezellige ruimte\, waar je jezelf kunt zijn. En wie weet brengt deze ontmoetingsplek jou wel op ideeën voor leuke activiteiten!
URL:https://dehoofdzaak.org/agenda/ontmoetingscafe-de-verbinding-2/2025-12-05/
LOCATION:Herstelcafé De Verbinding\, Wilhelminalaan 2\, Hoorn\, 1623 MA
CATEGORIES:Westfriesland
END:VEVENT
BEGIN:VEVENT
DTSTART;TZID=Europe/Amsterdam:20251205T093000
DTEND;TZID=Europe/Amsterdam:20251205T113000
DTSTAMP:20260424T102305
CREATED:20240116T145131Z
LAST-MODIFIED:20240909T114704Z
UID:10012383-1764927000-1764934200@dehoofdzaak.org
SUMMARY:Verbindend wandelen (Bovenkarspel)
DESCRIPTION:Wandelen met gelijkgestemden\, waarbij ook elementen uit Mindfulness worden gebruikt.
URL:https://dehoofdzaak.org/agenda/verbindend-wandelen-bovenkarspel/2025-12-05/
LOCATION:’t Stadsplein\, Hoofdstraat 17\, Bovenkarspel\, 1611AA
CATEGORIES:Westfriesland
END:VEVENT
BEGIN:VEVENT
DTSTART;TZID=Europe/Amsterdam:20251204T190000
DTEND;TZID=Europe/Amsterdam:20251204T220000
DTSTAMP:20260424T102305
CREATED:20250313T102543Z
LAST-MODIFIED:20260313T110505Z
UID:10027051-1764874800-1764885600@dehoofdzaak.org
SUMMARY:Jongerenavond Hoorn
DESCRIPTION:Heb je behoefte aan een gezellige avond met gelijkgestemde jongeren\, die jou begrijpen en waar je jezelf kunt zijn? Kom dan naar de jongerenavonden bij de Hoofdzaak. Samen doen we leuke activiteiten\, zoals een spelletje Hitster\, gamen\, weerwolven\, en nog veel meer.  \n\n\n\nDeze avonden worden georganiseerd door onze ervaringsdeskundigen\, voor en door jongeren van 16 t/m 27 jaar. Zij weten door eigen ervaring wat je voelt en begrijpen jouw kwetsbaarheid.
URL:https://dehoofdzaak.org/agenda/jongerenavond-2/2025-12-04/
LOCATION:De Hoofdzaak Hoorn\, Wilhelminalaan 2\, Hoorn\, 1623 MA\, Nederland
CATEGORIES:Westfriesland
END:VEVENT
BEGIN:VEVENT
DTSTART;TZID=Europe/Amsterdam:20251204T190000
DTEND;TZID=Europe/Amsterdam:20251204T210000
DTSTAMP:20260424T102305
CREATED:20251016T140248Z
LAST-MODIFIED:20251016T140251Z
UID:10037471-1764874800-1764882000@dehoofdzaak.org
SUMMARY:Samen sterk\, lotgenotengroep voor naasten Alkmaar
DESCRIPTION:Als je te maken hebt met een partner\, familielid of bijvoorbeeld een vriend met psychische ontregeling\, kan het fijn zijn om contact te hebben met andere naasten. Onderling kun je elkaar steunen\, alleen al omdat je elkaars zorgen en uitdagingen vanuit ervaring echt begrijpt.
URL:https://dehoofdzaak.org/agenda/samen-sterk-lotgenotengroep-voor-naasten-alkmaar-2/2025-12-04/
LOCATION:Wijkcentrum Overdie\, Van Maerlantstraat 8-10\, Alkmaar\, 1813 BH
CATEGORIES:Noord-Kennemerland
END:VEVENT
BEGIN:VEVENT
DTSTART;TZID=Europe/Amsterdam:20251204T150000
DTEND;TZID=Europe/Amsterdam:20251204T171500
DTSTAMP:20260424T102305
CREATED:20250325T161005Z
LAST-MODIFIED:20250325T161111Z
UID:10027400-1764860400-1764868500@dehoofdzaak.org
SUMMARY:Zaans Praatcafé
DESCRIPTION:Binnen en vanuit het Zaans Praatcafé vinden op verschillende manieren en op diverse plaatsen ontmoetingen plaats. Voorop staat de ontmoetingen met lotgenoten.Elke donderdag van 15.00 tot 17.15 uur in de Fabriek op de Jan Sijbrandsteeg 12 in ZaandamKlik hier voor meer informatie.
URL:https://dehoofdzaak.org/agenda/zaans-praatcafe/2025-12-04/
CATEGORIES:Zaanstreek-Waterland
END:VEVENT
BEGIN:VEVENT
DTSTART;TZID=Europe/Amsterdam:20251204T130000
DTEND;TZID=Europe/Amsterdam:20251204T150000
DTSTAMP:20260424T102305
CREATED:20250304T080244Z
LAST-MODIFIED:20250304T080249Z
UID:10026433-1764853200-1764860400@dehoofdzaak.org
SUMMARY:Soul Art
DESCRIPTION:Geef uiting aan je gedachten en gevoelens met creatieve materialen.
URL:https://dehoofdzaak.org/agenda/soul-art-3/2025-12-04/
LOCATION:De Hoofdzaak Hoorn\, Wilhelminalaan 2\, Hoorn\, 1623 MA\, Nederland
CATEGORIES:Westfriesland
END:VEVENT
BEGIN:VEVENT
DTSTART;TZID=Europe/Amsterdam:20251204T113000
DTEND;TZID=Europe/Amsterdam:20251204T130000
DTSTAMP:20260424T102305
CREATED:20230822T095646Z
LAST-MODIFIED:20250502T110902Z
UID:10024997-1764847800-1764853200@dehoofdzaak.org
SUMMARY:Wandelen en koffie
DESCRIPTION:Kom je om 10.00 naar de Veldschuit in Zaandam voor een kop koffie? Dan gaan we rond 11.00 samen een wandeling maken.
URL:https://dehoofdzaak.org/agenda/wandelen-en-koffie/2025-12-04/
LOCATION:Buurtcentrum De Veldschuit\, Veldbloemenweg 6C\, Zaandam\, Nederland
CATEGORIES:Zaanstreek-Waterland
END:VEVENT
BEGIN:VEVENT
DTSTART;TZID=Europe/Amsterdam:20251204T100000
DTEND;TZID=Europe/Amsterdam:20251204T111500
DTSTAMP:20260424T102305
CREATED:20250930T141517Z
LAST-MODIFIED:20250930T141629Z
UID:10036655-1764842400-1764846900@dehoofdzaak.org
SUMMARY:Wandel/hardloop groep
DESCRIPTION:Start je dag bij onze wandel en hardloop groep voor mensen met een psychische kwetsbaarheid.Kies per keer of je graag samen wil wandelen of hardlopen.Net wat bij jou past op dat moment en geniet samen van een kop koffie of thee. \n\n\n\nPraktische info:Wanneer: Iedere donderdagTijd: 10.00 tot ongeveer 11.15Locatie: van Maerlantstraat 8-10 AlkmaarDeelname: Gratis graag aanmelden via de mailVragen: wandelgroep-nk@dehoofdzaak.org
URL:https://dehoofdzaak.org/agenda/wandel-hardloop-groep/2025-12-04/
LOCATION:De Hoofdzaak Alkmaar\, van Maerlantstraat 8-10\, Alkmaar\, 1813 BH\, Nederland
CATEGORIES:Noord-Kennemerland
END:VEVENT
BEGIN:VEVENT
DTSTART;TZID=Europe/Amsterdam:20251204T093000
DTEND;TZID=Europe/Amsterdam:20251204T120000
DTSTAMP:20260424T102305
CREATED:20230822T124853Z
LAST-MODIFIED:20240327T125713Z
UID:10003219-1764840600-1764849600@dehoofdzaak.org
SUMMARY:Ontmoetingscafé De Verbinding
DESCRIPTION:Kom gerust binnen voor een kop koffie of thee. Ontmoet anderen in een gezellige ruimte\, waar je jezelf kunt zijn. En wie weet brengt deze ontmoetingsplek jou wel op ideeën voor leuke activiteiten!
URL:https://dehoofdzaak.org/agenda/ontmoetingscafe-de-verbinding-3/2025-12-04/
LOCATION:Herstelcafé De Verbinding\, Wilhelminalaan 2\, Hoorn\, 1623 MA
CATEGORIES:Westfriesland
END:VEVENT
BEGIN:VEVENT
DTSTART;TZID=Europe/Amsterdam:20251204T090000
DTEND;TZID=Europe/Amsterdam:20251204T120000
DTSTAMP:20260424T102305
CREATED:20250618T105051Z
LAST-MODIFIED:20260224T152738Z
UID:10032724-1764838800-1764849600@dehoofdzaak.org
SUMMARY:Ontwikkelplein Heerhugowaard
DESCRIPTION:Wat is het Ontwikkelplein? \n\n\n\nBij het Ontwikkelplein kun je terecht met al je vragen over taal\, wonen\, welzijn\, zorg\, geld\, mobiele telefoon of digitale overheid. Je kunt zo binnenlopen voor gratis hulp van verschillende organisaties. Een afspraak maken is niet nodig.  \n\n\n\nMet welke vragen kan ik terecht bij het Ontwikkelplein?\n\n\n\nNiet alleen De Hoofdzaak is aanwezig op het ontwikkelplein maar ook een aantal organisaties waar we mee samenwerken zoals Het Sociaalplein\, MET\, de bibliotjeel en Zaffier (om de week\, de even weken). Zo vinden we altijd de juiste persoon om je te helpen met je vragen.
URL:https://dehoofdzaak.org/agenda/ontwikkelplein-heerhugowaard/2025-12-04/
LOCATION:Bibliotheek Heerhugowaard\, Parelhof 1A\, Heerhugowaard\, 1703EZ
CATEGORIES:Noord-Kennemerland
END:VEVENT
BEGIN:VEVENT
DTSTART;TZID=Europe/Amsterdam:20251203T133000
DTEND;TZID=Europe/Amsterdam:20251203T160000
DTSTAMP:20260424T102305
CREATED:20230822T124126Z
LAST-MODIFIED:20230822T124130Z
UID:10002596-1764768600-1764777600@dehoofdzaak.org
SUMMARY:Ontmoetingscafé De Verbinding
DESCRIPTION:Kom gerust binnen voor een kop koffie of thee. Ontmoet anderen in een gezellige ruimte\, waar je jezelf kunt zijn. En wie weet brengt deze ontmoetingsplek jou wel op ideeën voor leuke activiteiten!
URL:https://dehoofdzaak.org/agenda/ontmoetingscafe-de-verbinding/2025-12-03/
LOCATION:Herstelcafé De Verbinding\, Wilhelminalaan 2\, Hoorn\, 1623 MA
CATEGORIES:Westfriesland
END:VEVENT
BEGIN:VEVENT
DTSTART;TZID=Europe/Amsterdam:20251203T130000
DTEND;TZID=Europe/Amsterdam:20251203T150000
DTSTAMP:20260424T102305
CREATED:20241001T105952Z
LAST-MODIFIED:20241205T113306Z
UID:10005182-1764766800-1764774000@dehoofdzaak.org
SUMMARY:Schrijfclub Den Helder
DESCRIPTION:Als je van schrijven houdt\, dan ben je misschien op je plek bij de schrijfclub van De Hoofdzaak in Den Helder. We schrijven over alles wat het leven brengt. Over herinneringen\, eenzaamheid\, over sport en spel\, over dieren\, vakanties en andere thema’s. Door het schrijven delen we en zoeken we verbinding.
URL:https://dehoofdzaak.org/agenda/schrijfclub-den-helder-3/2025-12-03/
LOCATION:De Hoofdzaak Den Helder\, Bernhardplein 76 C\, Den Helder\, 1781 HK\, Nederland
CATEGORIES:Kop Noord Holland
END:VEVENT
BEGIN:VEVENT
DTSTART;TZID=Europe/Amsterdam:20251203T120000
DTEND;TZID=Europe/Amsterdam:20251203T140000
DTSTAMP:20260424T102305
CREATED:20251119T111113Z
LAST-MODIFIED:20251119T111115Z
UID:10038765-1764763200-1764770400@dehoofdzaak.org
SUMMARY:Workshop Beeld van Binnenuit
DESCRIPTION:Kom je ook? Aanmelden bij d.snellebrand@dehoofdzaak.orgDeelname is compleet gratis. Het wordt gehouden op 3 december van 12.00 tot 14.00 in buurtcentrum T&O in Bergen. \n\n\n\n\n\n\n\n\n\nDe Hoofdzaak | Beeld van Binnenuit
URL:https://dehoofdzaak.org/agenda/workshop-beeld-van-binnenuit/
LOCATION:Middenzaal\, Jaap Veldheerhof 1\, Bergen\, 1862 XT
CATEGORIES:Noord-Kennemerland
END:VEVENT
BEGIN:VEVENT
DTSTART;TZID=Europe/Amsterdam:20251203T113000
DTEND;TZID=Europe/Amsterdam:20251203T130000
DTSTAMP:20260424T102305
CREATED:20251105T135933Z
LAST-MODIFIED:20260112T090202Z
UID:10033645-1764761400-1764766800@dehoofdzaak.org
SUMMARY:Schagen: creagroep 't luisterend oor'
DESCRIPTION:De groep is bedoeld voor iedereen die het leuk vindt om creatief bezig te zijn of voor als je een plek zoekt om met anderen in contact te komen. Wij zorgen ervoor dat er spullen aanwezig zijn\, zodat jij je kan concentreren op het aansluiten en meedoen. Als je er liever alleen bij wilt zitten en wilt socializen ben je zeker ook welkom. \n\n\n\nDe groep is voor alle leeftijden en wordt om de week gegeven. Ook is er natuurlijk altijd de gelegenheid om met een ervaringsdeskundige apart te zitten voor een gesprek.  \n\n\n\nLocatie: Scagon de Luxe in Schagen
URL:https://dehoofdzaak.org/agenda/schagen-creagroep-t-luisterend-oor-2/2025-12-03/
LOCATION:Scagon de Luxe\, Torenstraat 1B\, Schagen\, 1741CB
CATEGORIES:Kop Noord Holland
END:VEVENT
BEGIN:VEVENT
DTSTART;TZID=Europe/Amsterdam:20251203T103000
DTEND;TZID=Europe/Amsterdam:20251203T130000
DTSTAMP:20260424T102305
CREATED:20250214T122655Z
LAST-MODIFIED:20250224T092211Z
UID:10025537-1764757800-1764766800@dehoofdzaak.org
SUMMARY:Verbindend wandelen groep 2 (Hoorn)
DESCRIPTION:Kom in beweging met gelijkgestemden. Ben je graag buiten in de frisse lucht en vind je het fijn om in groepsverband te wandelen? Doe dan gezellig mee! We starten en sluiten af met een kopje koffie of thee.
URL:https://dehoofdzaak.org/agenda/verbindend-wandelen-groep-2-hoorn/2025-12-03/
LOCATION:De Hoofdzaak Hoorn\, Wilhelminalaan 2\, Hoorn\, 1623 MA\, Nederland
CATEGORIES:Westfriesland
END:VEVENT
BEGIN:VEVENT
DTSTART;TZID=Europe/Amsterdam:20251203T100000
DTEND;TZID=Europe/Amsterdam:20251203T130000
DTSTAMP:20260424T102305
CREATED:20251105T135804Z
LAST-MODIFIED:20260112T085830Z
UID:10016860-1764756000-1764766800@dehoofdzaak.org
SUMMARY:Ontmoetingspunt Schagen
DESCRIPTION:Op de woensdag in de even weken: Kom ook eens gezellig binnenlopen op onze locatie in Schagen. Je bent welkom!
URL:https://dehoofdzaak.org/agenda/ontmoetingspunt-schagen-2/2025-12-03/
LOCATION:Scagon de Luxe\, Torenstraat 1B\, Schagen\, 1741CB
CATEGORIES:Kop Noord Holland
END:VEVENT
BEGIN:VEVENT
DTSTART;TZID=Europe/Amsterdam:20251203T100000
DTEND;TZID=Europe/Amsterdam:20251203T130000
DTSTAMP:20260424T102305
CREATED:20250410T131015Z
LAST-MODIFIED:20260224T152055Z
UID:10028204-1764756000-1764766800@dehoofdzaak.org
SUMMARY:Bordspellen dag Purmerend
DESCRIPTION:Elke 2e en 4e woensdag van de maand hebben we een bordspellen dag voor mensen met autisme (of een vermoeden van) \n\n\n\nVoor meer informatie klik hier.
URL:https://dehoofdzaak.org/agenda/bordspellen-dag-purmerend/2025-12-03/
CATEGORIES:Zaanstreek-Waterland
END:VEVENT
BEGIN:VEVENT
DTSTART;TZID=Europe/Amsterdam:20251203T100000
DTEND;TZID=Europe/Amsterdam:20251203T130000
DTSTAMP:20260424T102305
CREATED:20241113T152354Z
LAST-MODIFIED:20260224T152028Z
UID:10021893-1764756000-1764766800@dehoofdzaak.org
SUMMARY:Inloop Purmerend
DESCRIPTION:Elke woensdag van 10:00 tot 13:00 organiseren wij bij De Hoofdzaak Purmerend een inloop voor mensen die behoefte hebben aan een luisterend oor\, even de deur uit willen of informatie willen over ons aanbod. \n\n\n\n** Woensdag 31 december is er geen inloop \n\n\n\nLocatie:Wijkplein WhereTriton 731443 BM Purmerend \n\n\n\nKlik hier  voor meer informatie.
URL:https://dehoofdzaak.org/agenda/inloop-purmerend/2025-12-03/
CATEGORIES:Zaanstreek-Waterland
END:VEVENT
BEGIN:VEVENT
DTSTART;TZID=Europe/Amsterdam:20251203T100000
DTEND;TZID=Europe/Amsterdam:20251203T120000
DTSTAMP:20260424T102306
CREATED:20250911T110816Z
LAST-MODIFIED:20260224T151907Z
UID:10035583-1764756000-1764763200@dehoofdzaak.org
SUMMARY:Krachtig vanuit kwetsbaarheid Lutjewinkel
DESCRIPTION:Als je te maken hebt met een psychische kwetsbaarheid\, kun je daardoor erg overweldigd zijn. Maar herstel is mogelijk! Lotgenoten kunnen je daarbij ondersteunen. En jij kunt anderen ondersteunen bij hun herstel. \n\n\n\nJe hoeft het niet alleen te doen. Zoek de steun van lotgenoten in deze herstelgroep. Ze hebben vergelijkbare ervaring als jij en begrijpen je worsteling. Ze begrijpen je verhaal en helpen je vanuit hun eigen ervaring met herstel. De groep wordt begeleid door twee ervaringsdeskundigen.
URL:https://dehoofdzaak.org/agenda/krachtig-vanuit-kwetsbaarheid-de-kop-2/2025-12-03/
LOCATION:Cultuurhuis de Kolk\, Weereweg 32\, Lutjewinkel
CATEGORIES:Kop Noord Holland
END:VEVENT
END:VCALENDAR