BEGIN:VCALENDAR
VERSION:2.0
PRODID:-//De Hoofdzaak - ECPv6.15.20//NONSGML v1.0//EN
CALSCALE:GREGORIAN
METHOD:PUBLISH
X-ORIGINAL-URL:https://dehoofdzaak.org
X-WR-CALDESC:Evenementen voor De Hoofdzaak
REFRESH-INTERVAL;VALUE=DURATION:PT1H
X-Robots-Tag:noindex
X-PUBLISHED-TTL:PT1H
BEGIN:VTIMEZONE
TZID:Europe/Amsterdam
BEGIN:DAYLIGHT
TZOFFSETFROM:+0100
TZOFFSETTO:+0200
TZNAME:CEST
DTSTART:20240331T010000
END:DAYLIGHT
BEGIN:STANDARD
TZOFFSETFROM:+0200
TZOFFSETTO:+0100
TZNAME:CET
DTSTART:20241027T010000
END:STANDARD
BEGIN:DAYLIGHT
TZOFFSETFROM:+0100
TZOFFSETTO:+0200
TZNAME:CEST
DTSTART:20250330T010000
END:DAYLIGHT
BEGIN:STANDARD
TZOFFSETFROM:+0200
TZOFFSETTO:+0100
TZNAME:CET
DTSTART:20251026T010000
END:STANDARD
BEGIN:DAYLIGHT
TZOFFSETFROM:+0100
TZOFFSETTO:+0200
TZNAME:CEST
DTSTART:20260329T010000
END:DAYLIGHT
BEGIN:STANDARD
TZOFFSETFROM:+0200
TZOFFSETTO:+0100
TZNAME:CET
DTSTART:20261025T010000
END:STANDARD
END:VTIMEZONE
BEGIN:VEVENT
DTSTART;TZID=Europe/Amsterdam:20251127T100000
DTEND;TZID=Europe/Amsterdam:20251127T120000
DTSTAMP:20260424T220016
CREATED:20241210T102306Z
LAST-MODIFIED:20250225T121055Z
UID:10023716-1764237600-1764244800@dehoofdzaak.org
SUMMARY:Zelfhulpgroep depressie donderdag
DESCRIPTION:Gespreksgroep voor mensen die te maken hebben met depressie.
URL:https://dehoofdzaak.org/agenda/zelfhulpgroep-depressie-donderdag/2025-11-27/
LOCATION:De Hoofdzaak Hoorn\, Wilhelminalaan 2\, Hoorn\, 1623 MA\, Nederland
CATEGORIES:Westfriesland
END:VEVENT
BEGIN:VEVENT
DTSTART;TZID=Europe/Amsterdam:20251127T100000
DTEND;TZID=Europe/Amsterdam:20251127T111500
DTSTAMP:20260424T220016
CREATED:20250930T141517Z
LAST-MODIFIED:20250930T141629Z
UID:10036654-1764237600-1764242100@dehoofdzaak.org
SUMMARY:Wandel/hardloop groep
DESCRIPTION:Start je dag bij onze wandel en hardloop groep voor mensen met een psychische kwetsbaarheid.Kies per keer of je graag samen wil wandelen of hardlopen.Net wat bij jou past op dat moment en geniet samen van een kop koffie of thee. \n\n\n\nPraktische info:Wanneer: Iedere donderdagTijd: 10.00 tot ongeveer 11.15Locatie: van Maerlantstraat 8-10 AlkmaarDeelname: Gratis graag aanmelden via de mailVragen: wandelgroep-nk@dehoofdzaak.org
URL:https://dehoofdzaak.org/agenda/wandel-hardloop-groep/2025-11-27/
LOCATION:De Hoofdzaak Alkmaar\, van Maerlantstraat 8-10\, Alkmaar\, 1813 BH\, Nederland
CATEGORIES:Noord-Kennemerland
END:VEVENT
BEGIN:VEVENT
DTSTART;TZID=Europe/Amsterdam:20251127T093000
DTEND;TZID=Europe/Amsterdam:20251127T120000
DTSTAMP:20260424T220016
CREATED:20230822T124853Z
LAST-MODIFIED:20240327T125713Z
UID:10003218-1764235800-1764244800@dehoofdzaak.org
SUMMARY:Ontmoetingscafé De Verbinding
DESCRIPTION:Kom gerust binnen voor een kop koffie of thee. Ontmoet anderen in een gezellige ruimte\, waar je jezelf kunt zijn. En wie weet brengt deze ontmoetingsplek jou wel op ideeën voor leuke activiteiten!
URL:https://dehoofdzaak.org/agenda/ontmoetingscafe-de-verbinding-3/2025-11-27/
LOCATION:Herstelcafé De Verbinding\, Wilhelminalaan 2\, Hoorn\, 1623 MA
CATEGORIES:Westfriesland
END:VEVENT
BEGIN:VEVENT
DTSTART;TZID=Europe/Amsterdam:20251127T090000
DTEND;TZID=Europe/Amsterdam:20251127T120000
DTSTAMP:20260424T220016
CREATED:20250618T105051Z
LAST-MODIFIED:20260224T152738Z
UID:10032723-1764234000-1764244800@dehoofdzaak.org
SUMMARY:Ontwikkelplein Heerhugowaard
DESCRIPTION:Wat is het Ontwikkelplein? \n\n\n\nBij het Ontwikkelplein kun je terecht met al je vragen over taal\, wonen\, welzijn\, zorg\, geld\, mobiele telefoon of digitale overheid. Je kunt zo binnenlopen voor gratis hulp van verschillende organisaties. Een afspraak maken is niet nodig.  \n\n\n\nMet welke vragen kan ik terecht bij het Ontwikkelplein?\n\n\n\nNiet alleen De Hoofdzaak is aanwezig op het ontwikkelplein maar ook een aantal organisaties waar we mee samenwerken zoals Het Sociaalplein\, MET\, de bibliotjeel en Zaffier (om de week\, de even weken). Zo vinden we altijd de juiste persoon om je te helpen met je vragen.
URL:https://dehoofdzaak.org/agenda/ontwikkelplein-heerhugowaard/2025-11-27/
LOCATION:Bibliotheek Heerhugowaard\, Parelhof 1A\, Heerhugowaard\, 1703EZ
CATEGORIES:Noord-Kennemerland
END:VEVENT
BEGIN:VEVENT
DTSTART;TZID=Europe/Amsterdam:20251126T190000
DTEND;TZID=Europe/Amsterdam:20251126T210000
DTSTAMP:20260424T220016
CREATED:20230822T094224Z
LAST-MODIFIED:20250813T105633Z
UID:10000559-1764183600-1764190800@dehoofdzaak.org
SUMMARY:Let's get social
DESCRIPTION:Open inloopavond voor jongvolwassenen. Kom je ook een keertje langs?
URL:https://dehoofdzaak.org/agenda/lets-get-social-2/2025-11-26/
LOCATION:Buurtcentrum De Veldschuit\, Veldbloemenweg 6C\, Zaandam\, Nederland
CATEGORIES:Zaanstreek-Waterland
END:VEVENT
BEGIN:VEVENT
DTSTART;TZID=Europe/Amsterdam:20251126T133000
DTEND;TZID=Europe/Amsterdam:20251126T161500
DTSTAMP:20260424T220016
CREATED:20230822T142950Z
LAST-MODIFIED:20250711T094007Z
UID:10005614-1764163800-1764173700@dehoofdzaak.org
SUMMARY:Met beide benen op de grond
DESCRIPTION:Vaak hebben mensen allerlei doemscenario’s in hun hoofd die niets met de realiteit te maken hebben. In deze bewustwordingsgroep leer je om vanuit het hier en nu te kijken of er werkelijk een probleem is.
URL:https://dehoofdzaak.org/agenda/met-beide-benen-op-de-grond/2025-11-26/
LOCATION:De Hoofdzaak Hoorn\, Wilhelminalaan 2\, Hoorn\, 1623 MA\, Nederland
CATEGORIES:Westfriesland
END:VEVENT
BEGIN:VEVENT
DTSTART;TZID=Europe/Amsterdam:20251126T133000
DTEND;TZID=Europe/Amsterdam:20251126T160000
DTSTAMP:20260424T220016
CREATED:20230822T124126Z
LAST-MODIFIED:20230822T124130Z
UID:10002595-1764163800-1764172800@dehoofdzaak.org
SUMMARY:Ontmoetingscafé De Verbinding
DESCRIPTION:Kom gerust binnen voor een kop koffie of thee. Ontmoet anderen in een gezellige ruimte\, waar je jezelf kunt zijn. En wie weet brengt deze ontmoetingsplek jou wel op ideeën voor leuke activiteiten!
URL:https://dehoofdzaak.org/agenda/ontmoetingscafe-de-verbinding/2025-11-26/
LOCATION:Herstelcafé De Verbinding\, Wilhelminalaan 2\, Hoorn\, 1623 MA
CATEGORIES:Westfriesland
END:VEVENT
BEGIN:VEVENT
DTSTART;TZID=Europe/Amsterdam:20251126T130000
DTEND;TZID=Europe/Amsterdam:20251126T150000
DTSTAMP:20260424T220016
CREATED:20241001T105952Z
LAST-MODIFIED:20241205T113306Z
UID:10005181-1764162000-1764169200@dehoofdzaak.org
SUMMARY:Schrijfclub Den Helder
DESCRIPTION:Als je van schrijven houdt\, dan ben je misschien op je plek bij de schrijfclub van De Hoofdzaak in Den Helder. We schrijven over alles wat het leven brengt. Over herinneringen\, eenzaamheid\, over sport en spel\, over dieren\, vakanties en andere thema’s. Door het schrijven delen we en zoeken we verbinding.
URL:https://dehoofdzaak.org/agenda/schrijfclub-den-helder-3/2025-11-26/
LOCATION:De Hoofdzaak Den Helder\, Bernhardplein 76 C\, Den Helder\, 1781 HK\, Nederland
CATEGORIES:Kop Noord Holland
END:VEVENT
BEGIN:VEVENT
DTSTART;TZID=Europe/Amsterdam:20251126T103000
DTEND;TZID=Europe/Amsterdam:20251126T130000
DTSTAMP:20260424T220016
CREATED:20250214T122655Z
LAST-MODIFIED:20250224T092211Z
UID:10025536-1764153000-1764162000@dehoofdzaak.org
SUMMARY:Verbindend wandelen groep 2 (Hoorn)
DESCRIPTION:Kom in beweging met gelijkgestemden. Ben je graag buiten in de frisse lucht en vind je het fijn om in groepsverband te wandelen? Doe dan gezellig mee! We starten en sluiten af met een kopje koffie of thee.
URL:https://dehoofdzaak.org/agenda/verbindend-wandelen-groep-2-hoorn/2025-11-26/
LOCATION:De Hoofdzaak Hoorn\, Wilhelminalaan 2\, Hoorn\, 1623 MA\, Nederland
CATEGORIES:Westfriesland
END:VEVENT
BEGIN:VEVENT
DTSTART;TZID=Europe/Amsterdam:20251126T100000
DTEND;TZID=Europe/Amsterdam:20251126T130000
DTSTAMP:20260424T220016
CREATED:20250410T131215Z
LAST-MODIFIED:20250520T074836Z
UID:10028325-1764151200-1764162000@dehoofdzaak.org
SUMMARY:Bordspellen dag Purmerend
DESCRIPTION:Elke 2e en 4e woensdag van de maand hebben we een bordspellen dag. \n\n\n\nVoor meer informatie klik hier.
URL:https://dehoofdzaak.org/agenda/bordspellen-dag-purmerend-2/2025-11-26/
CATEGORIES:Zaanstreek-Waterland
END:VEVENT
BEGIN:VEVENT
DTSTART;TZID=Europe/Amsterdam:20251126T100000
DTEND;TZID=Europe/Amsterdam:20251126T130000
DTSTAMP:20260424T220016
CREATED:20241113T152354Z
LAST-MODIFIED:20260224T152028Z
UID:10021892-1764151200-1764162000@dehoofdzaak.org
SUMMARY:Inloop Purmerend
DESCRIPTION:Elke woensdag van 10:00 tot 13:00 organiseren wij bij De Hoofdzaak Purmerend een inloop voor mensen die behoefte hebben aan een luisterend oor\, even de deur uit willen of informatie willen over ons aanbod. \n\n\n\n** Woensdag 31 december is er geen inloop \n\n\n\nLocatie:Wijkplein WhereTriton 731443 BM Purmerend \n\n\n\nKlik hier  voor meer informatie.
URL:https://dehoofdzaak.org/agenda/inloop-purmerend/2025-11-26/
CATEGORIES:Zaanstreek-Waterland
END:VEVENT
BEGIN:VEVENT
DTSTART;TZID=Europe/Amsterdam:20251126T100000
DTEND;TZID=Europe/Amsterdam:20251126T123000
DTSTAMP:20260424T220016
CREATED:20251119T124447Z
LAST-MODIFIED:20260224T151959Z
UID:10036910-1764151200-1764160200@dehoofdzaak.org
SUMMARY:Autisme gespreksgroep
DESCRIPTION:Heb je behoefte aan een gespreksgroep waar mensen met autisme of naasten van samenkomen om te delen hoe het voor jou is\, welke uitdagingen je kent of juist wat een leven met ass jou heeft opgeleverd? Kom dan ook eens langs.
URL:https://dehoofdzaak.org/agenda/autisme-gespreksgroep-2/2025-11-26/
LOCATION:NVA Den Helder\, Dintelstraat 177\, Den Helder\, 1784GR\, Netherlands
CATEGORIES:Kop Noord Holland
END:VEVENT
BEGIN:VEVENT
DTSTART;TZID=Europe/Amsterdam:20251126T093000
DTEND;TZID=Europe/Amsterdam:20251126T113000
DTSTAMP:20260424T220016
CREATED:20251119T125245Z
LAST-MODIFIED:20251119T125257Z
UID:10038834-1764149400-1764156600@dehoofdzaak.org
SUMMARY:Schrijfgroep Hippolytushoef
DESCRIPTION:Is schrijven voor jou ook zo waardevol? Bij de schrijfgroep van De Hoofdzaak willen we je een veilige plek bieden om op een creatieve en laagdrempelige manier uit te drukken wat er in je leeft en dat te delen als dat voor jou goed voelt. Schrijven brengt je dichter bij jezelf. Schrijven is\, zeker ook door herkenning\, een inspirerende en verrassende ontdekkingstocht. Het verbindt en kan je helpen bij herstel. Wil je een keertje aanschuiven om te ervaren of dit wat voor je is; je bent welkom!
URL:https://dehoofdzaak.org/agenda/schrijfgroep-hippolytushoef-3/2025-11-26/
LOCATION:Dorpshuis Hippo\, Kerkhofsteeg 2-4\, Hippolytushoef\, 1777CC\, Netherlands
CATEGORIES:Kop Noord Holland
END:VEVENT
BEGIN:VEVENT
DTSTART;TZID=Europe/Amsterdam:20251126T093000
DTEND;TZID=Europe/Amsterdam:20251126T113000
DTSTAMP:20260424T220016
CREATED:20230822T131002Z
LAST-MODIFIED:20250217T085733Z
UID:10004044-1764149400-1764156600@dehoofdzaak.org
SUMMARY:Verbindend wandelen groep 1 (Hoorn)
DESCRIPTION:Kom in beweging met gelijkgestemden. Ben je graag buiten in de frisse lucht en vind je het fijn om in groepsverband te wandelen? Doe dan gezellig mee! We starten en sluiten af met een kopje koffie of thee.
URL:https://dehoofdzaak.org/agenda/wandelgroep-westfriesland/2025-11-26/
LOCATION:De Hoofdzaak Hoorn\, Wilhelminalaan 2\, Hoorn\, 1623 MA\, Nederland
CATEGORIES:Westfriesland
END:VEVENT
BEGIN:VEVENT
DTSTART;TZID=Europe/Amsterdam:20251125T190000
DTEND;TZID=Europe/Amsterdam:20251125T200000
DTSTAMP:20260424T220016
CREATED:20251009T113334Z
LAST-MODIFIED:20251009T113337Z
UID:10037379-1764097200-1764100800@dehoofdzaak.org
SUMMARY:Online vrouwengroep ASS
DESCRIPTION:De online vrouwengroep is voor volwassen vrouwen uit Westfriesland met een (late) diagnose ASS of een vermoeden daarvan. In deze online vrouwengroep mag alles gedeeld worden op gebied van ervaringen en kun je (h)erkenning en steun bij elkaar vinden.
URL:https://dehoofdzaak.org/agenda/online-vrouwengroep-ass/2025-11-25/
CATEGORIES:Westfriesland
END:VEVENT
BEGIN:VEVENT
DTSTART;TZID=Europe/Amsterdam:20251125T140000
DTEND;TZID=Europe/Amsterdam:20251125T160000
DTSTAMP:20260424T220016
CREATED:20250813T105647Z
LAST-MODIFIED:20260224T145742Z
UID:10033972-1764079200-1764086400@dehoofdzaak.org
SUMMARY:Wandelen en koffie
DESCRIPTION:Heb jij zin in een wandeling met gelijkgestemden? Wandel dan met ons mee! \n\n\n\nElke dinsdag en donderdag starten we met een koffiemomentje in De Veldschuit. Daarna maken we samen een wandeling. Er zijn geen kosten aan verbonden en iedereen kan meedoen\, jong en oud! Ervaringsdeskundigen van De Hoofdzaak begeleiden de groep. \n\n\n\nJe hoeft je niet aan te melden om mee te doen. \n\n\n\nOp dinsdag 14.00 uur kun je gewoon binnenlopen voor een kop koffie of thee aan de Veldbloemenweg 6c in Zaandam. Rond 15.30 uur vertrekken we voor de wandeling. Geniet je mee? \n\n\n\nOp donderdag starten we om 10.00 uur met een kop koffie of thee en starten we de wandeling om 11.30 uur. \n\n\n\nWil je hier meer over weten? Stuur dan een email naar: info-zw@dehoofdzaak.org
URL:https://dehoofdzaak.org/agenda/wandelen-en-koffie-2/2025-11-25/
CATEGORIES:Zaanstreek-Waterland
END:VEVENT
BEGIN:VEVENT
DTSTART;TZID=Europe/Amsterdam:20251125T140000
DTEND;TZID=Europe/Amsterdam:20251125T160000
DTSTAMP:20260424T220016
CREATED:20250702T082947Z
LAST-MODIFIED:20250702T082948Z
UID:10032990-1764079200-1764086400@dehoofdzaak.org
SUMMARY:Krachtig vanuit kwetsbaarheid Noord-Kennemerland
DESCRIPTION:Als je te maken hebt met een psychische kwetsbaarheid\, kun je daardoor erg overweldigd zijn. Maar herstel is mogelijk! Lotgenoten kunnen je daarbij ondersteunen. En jij kunt anderen ondersteunen bij hun herstel. Je hoeft het niet alleen te doen. Zoek de steun van lotgenoten in deze herstelgroep. Ze hebben vergelijkbare ervaring als jij en begrijpen je worsteling. Ze begrijpen je verhaal en helpen je vanuit hun eigen ervaring met herstel. De groep wordt begeleid door twee ervaringsdeskundigen.
URL:https://dehoofdzaak.org/agenda/krachtig-vanuit-kwetsbaarheid-noord-kennemerland-2/2025-11-25/
LOCATION:De Hoofdzaak Alkmaar\, van Maerlantstraat 8-10\, Alkmaar\, 1813 BH\, Nederland
CATEGORIES:Noord-Kennemerland
END:VEVENT
BEGIN:VEVENT
DTSTART;TZID=Europe/Amsterdam:20251125T140000
DTEND;TZID=Europe/Amsterdam:20251125T160000
DTSTAMP:20260424T220017
CREATED:20250527T080529Z
LAST-MODIFIED:20260224T145159Z
UID:10029317-1764079200-1764086400@dehoofdzaak.org
SUMMARY:Koffiemoment "De Verbinding" Zaanstad
DESCRIPTION:Elke dinsdagmiddag van 14:00 tot 16:00 organiseren wij bij De Hoofdzaak Zaanstad een inloop voor mensen die behoefte hebben aan een luisterend oor\, even de deur uit willen of informatie willen over ons aanbod. \n\n\n\nKlik hier voor meer informatie.
URL:https://dehoofdzaak.org/agenda/koffiemoment-de-verbinding-zaanstad/2025-11-25/
CATEGORIES:Zaanstreek-Waterland
END:VEVENT
BEGIN:VEVENT
DTSTART;TZID=Europe/Amsterdam:20251125T133000
DTEND;TZID=Europe/Amsterdam:20251125T153000
DTSTAMP:20260424T220017
CREATED:20240228T104044Z
LAST-MODIFIED:20240228T104047Z
UID:10014215-1764077400-1764084600@dehoofdzaak.org
SUMMARY:Dagelijks Autisme
DESCRIPTION:Gespreksgroep voor mensen met autisme.
URL:https://dehoofdzaak.org/agenda/dagelijks-autisme/2025-11-25/
LOCATION:De Hoofdzaak Hoorn\, Wilhelminalaan 2\, Hoorn\, 1623 MA\, Nederland
CATEGORIES:Westfriesland
END:VEVENT
BEGIN:VEVENT
DTSTART;TZID=Europe/Amsterdam:20251125T100000
DTEND;TZID=Europe/Amsterdam:20251125T120000
DTSTAMP:20260424T220017
CREATED:20250923T143109Z
LAST-MODIFIED:20250923T143113Z
UID:10036115-1764064800-1764072000@dehoofdzaak.org
SUMMARY:Ontmoetingspunt 't Trefpunt
DESCRIPTION:Op zoek naar een plek waar je gewoon even jezelf mag zijn?Waar je welkom bent met je verhaal\, of juist even zonder?Bij De Hoofdzaak ben je welkom!Kom ook eens naar ons Ontmoetingscafé in ’t Trefpunt in Heiloo. \n\n\n\nLocatie: In de huiskamer in ‘t Trefpunt in HeilooDeelname: Gratis incl. koffie/thee/waterAanmelden: Hoeft niet
URL:https://dehoofdzaak.org/agenda/ontmoetingspunt-t-trefpunt/2025-11-25/
LOCATION:’t Trefpunt\, Abraham du bois-hof 2\, Heiloo\, 1852 EZ\, Nederland
CATEGORIES:Noord-Kennemerland
END:VEVENT
BEGIN:VEVENT
DTSTART;TZID=Europe/Amsterdam:20251125T100000
DTEND;TZID=Europe/Amsterdam:20251125T120000
DTSTAMP:20260424T220017
CREATED:20240701T093136Z
LAST-MODIFIED:20241126T085659Z
UID:10018961-1764064800-1764072000@dehoofdzaak.org
SUMMARY:Mama+ café
DESCRIPTION:Het Mama+ café is specifiek voor moeders met (jonge) kinderen. Moeders met een psychische kwetsbaarheid kunnen elkaar ontmoeten en ervaringen delen\, maar er is ook ruimte voor gezelligheid en ontspanning. Het Mama+ café is een plek waar je jezelf kunt zijn. Je kunt er gewoon binnenkomen voor een kop koffie of thee en ook de kind(eren) zijn van harte welkom. Vrijwilligers van De Hoofdzaak heten je welkom en staan voor je klaar.
URL:https://dehoofdzaak.org/agenda/mama-cafe/2025-11-25/
LOCATION:De Hoofdzaak Hoorn\, Wilhelminalaan 2\, Hoorn\, 1623 MA\, Nederland
CATEGORIES:Westfriesland
END:VEVENT
BEGIN:VEVENT
DTSTART;TZID=Europe/Amsterdam:20251125T090000
DTEND;TZID=Europe/Amsterdam:20251125T120000
DTSTAMP:20260424T220017
CREATED:20251006T190541Z
LAST-MODIFIED:20251006T190542Z
UID:10036976-1764061200-1764072000@dehoofdzaak.org
SUMMARY:Ontmoetingspunt de Binding
DESCRIPTION:Op zoek naar een plek waar je gewoon even jezelf mag zijn?Waar je welkom bent met je verhaal\, of juist even zonder?Bij De Hoofdzaak ben je welkom!
URL:https://dehoofdzaak.org/agenda/ontmoetingspunt-de-binding/2025-11-25/
LOCATION:De Binding\, Bosgroet 2\, Zuid-Scharwoude\, 1722KA\, Netherlands
CATEGORIES:Noord-Kennemerland
END:VEVENT
BEGIN:VEVENT
DTSTART;TZID=Europe/Amsterdam:20251124T133000
DTEND;TZID=Europe/Amsterdam:20251124T150000
DTSTAMP:20260424T220017
CREATED:20250214T102131Z
LAST-MODIFIED:20250214T103430Z
UID:10025367-1763991000-1763996400@dehoofdzaak.org
SUMMARY:Gespreksgroep Lighthouse
DESCRIPTION:Gespreksgroep voor volwassenen met persoonlijke ervaring met zelfbeschadiging.
URL:https://dehoofdzaak.org/agenda/gespreksgroep-lighthouse/2025-11-24/
LOCATION:De Hoofdzaak Hoorn\, Wilhelminalaan 2\, Hoorn\, 1623 MA\, Nederland
CATEGORIES:Westfriesland
END:VEVENT
BEGIN:VEVENT
DTSTART;TZID=Europe/Amsterdam:20251124T130000
DTEND;TZID=Europe/Amsterdam:20251124T153000
DTSTAMP:20260424T220017
CREATED:20250716T082536Z
LAST-MODIFIED:20250716T082538Z
UID:10033579-1763989200-1763998200@dehoofdzaak.org
SUMMARY:Positief uit verslaving
DESCRIPTION:Hoe blijf je positief tijdens je weg uit verslaving? Een verslaving de baas worden en positief blijven is ontzettend moeilijk. \n\n\n\nLijkt het je leuk om in een positieve en veilige groep je ervaringen te delen en nieuwe dingen leren? \n\n\n\nMeld je dan aan voor onze nieuwe groep!
URL:https://dehoofdzaak.org/agenda/positief-uit-verslaving-2/2025-11-24/
LOCATION:’t Trefpunt\, Abraham du bois-hof 2\, Heiloo\, 1852 EZ\, Nederland
CATEGORIES:Noord-Kennemerland
END:VEVENT
BEGIN:VEVENT
DTSTART;TZID=Europe/Amsterdam:20251124T130000
DTEND;TZID=Europe/Amsterdam:20251124T150000
DTSTAMP:20260424T220017
CREATED:20251017T064546Z
LAST-MODIFIED:20251017T064547Z
UID:10037656-1763989200-1763996400@dehoofdzaak.org
SUMMARY:Krachtig vanuit kwetsbaarheid Wieringerwerf
DESCRIPTION:Als je te maken hebt met een psychische kwetsbaarheid\, kun je daardoor erg overweldigd zijn. Maar herstel is mogelijk! Lotgenoten kunnen je daarbij ondersteunen. En jij kunt anderen ondersteunen bij hun herstel. \n\n\n\nJe hoeft het niet alleen te doen. Zoek de steun van lotgenoten in deze herstelgroep. Ze hebben vergelijkbare ervaring als jij en begrijpen je worsteling. Ze begrijpen je verhaal en helpen je vanuit hun eigen ervaring met herstel. De groep wordt begeleid door twee ervaringsdeskundigen.
URL:https://dehoofdzaak.org/agenda/krachtig-vanuit-kwetsbaarheid-wieringerwerf/2025-11-24/
LOCATION:De Cultuurschuur\, Loggersplein 1\, Wieringerwerf\, 1771 CE\, Netherlands
CATEGORIES:Kop Noord Holland
END:VEVENT
BEGIN:VEVENT
DTSTART;TZID=Europe/Amsterdam:20251124T130000
DTEND;TZID=Europe/Amsterdam:20251124T140000
DTSTAMP:20260424T220017
CREATED:20250101T124813Z
LAST-MODIFIED:20250620T122531Z
UID:10024665-1763989200-1763992800@dehoofdzaak.org
SUMMARY:Open informatie-uur
DESCRIPTION:Open informatie-uur (i.s.m. de Herstelacademie van GGZ NHN). Wil je weten wat er bij beide organisaties te doen is? Kom gewoon zonder afspraak langs!
URL:https://dehoofdzaak.org/agenda/open-informatie-uur/2025-11-24/
LOCATION:De Hoofdzaak Hoorn\, Wilhelminalaan 2\, Hoorn\, 1623 MA\, Nederland
CATEGORIES:Westfriesland
END:VEVENT
BEGIN:VEVENT
DTSTART;TZID=Europe/Amsterdam:20251124T121500
DTEND;TZID=Europe/Amsterdam:20251124T133000
DTSTAMP:20260424T220017
CREATED:20250908T144037Z
LAST-MODIFIED:20250908T144039Z
UID:10034854-1763986500-1763991000@dehoofdzaak.org
SUMMARY:Easy yoga
DESCRIPTION:De Hoofdzaak\, Sport-Z\, VROUWenKRACHT en Beschermd Wonen organiseren samen wekelijkse lessen EasyYoga in Wijkcentrum Overdie. Op maandagochtend kan je meedoen aan deze lessen onder begeleiding van een professionele yogadocent van Sport-Z. \n\n\n\nEasyYoga is goed voor je lichaam en kan ook rust geven aan in je hoofd. Om mee te doen hoef je niet lenig\, zen of heel sterk te zijn. De docent houdt in de gaten of iedereen mee kan doen op zijn of haar eigen niveau. Zo haal jij voldoende uitdaging uit de les\, kan je met plezier bewegen en ontmoet je anderen.  \n\n\n\nEasyYoga helpt jou vooruit\, je krijgt energie om ‘in beweging’ te komen. En op een rustige manier ga jij ontdekken wat beweging voor jou doet. Ben je nieuwsgierig? Doe dan gerust een keertje mee!  \n\n\n\nWaar: Wijkcentrum Overdie\, Van Maerlantstraat 8-10\, Alkmaar Wanneer: Elke maandag van 9.45-11.00 uur\, van 11.00-12.15 uur en van 12.15-13.30 uur (niet in de schoolvakanties) \n\n\n\nAanmelden voor een proefles kan bij Marlies Schoenmakers-van Kuijk\, via schoenmakers.marlies@gmail.com of 06-50514975.
URL:https://dehoofdzaak.org/agenda/easy-yoga-3/2025-11-24/
LOCATION:De Hoofdzaak Alkmaar\, van Maerlantstraat 8-10\, Alkmaar\, 1813 BH\, Nederland
CATEGORIES:Noord-Kennemerland
END:VEVENT
BEGIN:VEVENT
DTSTART;TZID=Europe/Amsterdam:20251124T110000
DTEND;TZID=Europe/Amsterdam:20251124T121500
DTSTAMP:20260424T220017
CREATED:20240415T165523Z
LAST-MODIFIED:20250908T144227Z
UID:10035182-1763982000-1763986500@dehoofdzaak.org
SUMMARY:EasyYoga
DESCRIPTION:De Hoofdzaak\, Sport-Z\, VROUWenKRACHT en Beschermd Wonen organiseren samen wekelijkse lessen EasyYoga in Wijkcentrum Overdie. Op maandagochtend kan je meedoen aan deze lessen onder begeleiding van een professionele yogadocent van Sport-Z. \n\n\n\nEasyYoga is goed voor je lichaam en kan ook rust geven aan in je hoofd. Om mee te doen hoef je niet lenig\, zen of heel sterk te zijn. De docent houdt in de gaten of iedereen mee kan doen op zijn of haar eigen niveau. Zo haal jij voldoende uitdaging uit de les\, kan je met plezier bewegen en ontmoet je anderen. \n\n\n\nEasyYoga helpt jou vooruit\, je krijgt energie om ‘in beweging’ te komen. En op een rustige manier ga jij ontdekken wat beweging voor jou doet. Ben je nieuwsgierig? Doe dan gerust een keertje mee! \n\n\n\nWaar: Wijkcentrum Overdie\, Van Maerlantstraat 8-10\, AlkmaarWanneer: Elke maandag van 09.45-11.00 uur\, van 11.00-12.15 uur en van 12.15-13.30 uur (niet in de schoolvakanties) \n\n\n\nAanmelden voor een proefles kan bij Marlies Schoenmakers-van Kuijk\, via schoenmakers.marlies@gmail.com of 06-50514975.
URL:https://dehoofdzaak.org/agenda/easyyoga/2025-11-24/
LOCATION:De Hoofdzaak Alkmaar\, van Maerlantstraat 8-10\, Alkmaar\, 1813 BH\, Nederland
CATEGORIES:Noord-Kennemerland
END:VEVENT
BEGIN:VEVENT
DTSTART;TZID=Europe/Amsterdam:20251124T100000
DTEND;TZID=Europe/Amsterdam:20251124T120000
DTSTAMP:20260424T220017
CREATED:20251017T062509Z
LAST-MODIFIED:20251017T062511Z
UID:10037520-1763978400-1763985600@dehoofdzaak.org
SUMMARY:Creatieve workshop de Veerburg
DESCRIPTION:Tijdens deze workshop ga je aan de slag met klei om een beeldje te maken dat symbool staat voor iets in jou dat meer aandacht\, liefde of kracht mag krijgen. Dat kan je innerlijk kind zijn\, een beschermfiguur\, een krachtbron of iets wat spontaan onder je handen ontstaat. \n\n\n\nJe hebt geen ervaring nodig en het hoeft niet perfect te zijn. Het gaat niet om techniek of resultaat\, maar om het proces – even uit je hoofd en in contact met wat er vanbinnen leeft. \n\n\n\nIn een rustige sfeer\, met zachte muziek en aandacht\, creëren we samen een veilige ruimte waar je helemaal jezelf mag zijn. Aan het eind neem je jouw beeldje mee naar huis als een tastbare herinnering aan iets waardevols in jezelf.
URL:https://dehoofdzaak.org/agenda/creatieve-workshop-de-veerburg/
LOCATION:Dorpshuis de Veerburg\, Sportlaan 21\, Anna Paulowna\, 1761ZA\, Netherlands
CATEGORIES:Kop Noord Holland
END:VEVENT
BEGIN:VEVENT
DTSTART;TZID=Europe/Amsterdam:20251124T100000
DTEND;TZID=Europe/Amsterdam:20251124T120000
DTSTAMP:20260424T220017
CREATED:20241218T101941Z
LAST-MODIFIED:20251009T084949Z
UID:10002354-1763978400-1763985600@dehoofdzaak.org
SUMMARY:Fotografiegroep 'Hoofdzaken door de lens'
DESCRIPTION:Tijdens de bijeenkomsten van ‘Hoofdzaken door de lens’ gaat het niet om het perfecte plaatje. Je gebruikt beelden om je eigen verhaal te vertellen. Bijvoorbeeld aan de hand van verschillende thema’s en opdrachten. \n\n\n\nMeer info: Fotografiegroep ‘Hoofdzaken door de lens’ | De Hoofdzaak
URL:https://dehoofdzaak.org/agenda/fotografiegroep-hoofdzaken-door-de-lens-2/2025-11-24/
LOCATION:De Hoofdzaak Hoorn\, Wilhelminalaan 2\, Hoorn\, 1623 MA\, Nederland
CATEGORIES:Westfriesland
END:VEVENT
END:VCALENDAR