BEGIN:VCALENDAR
VERSION:2.0
PRODID:-//De Hoofdzaak - ECPv6.15.20//NONSGML v1.0//EN
CALSCALE:GREGORIAN
METHOD:PUBLISH
X-WR-CALNAME:De Hoofdzaak
X-ORIGINAL-URL:https://dehoofdzaak.org
X-WR-CALDESC:Evenementen voor De Hoofdzaak
REFRESH-INTERVAL;VALUE=DURATION:PT1H
X-Robots-Tag:noindex
X-PUBLISHED-TTL:PT1H
BEGIN:VTIMEZONE
TZID:Europe/Amsterdam
BEGIN:DAYLIGHT
TZOFFSETFROM:+0100
TZOFFSETTO:+0200
TZNAME:CEST
DTSTART:20250330T010000
END:DAYLIGHT
BEGIN:STANDARD
TZOFFSETFROM:+0200
TZOFFSETTO:+0100
TZNAME:CET
DTSTART:20251026T010000
END:STANDARD
BEGIN:DAYLIGHT
TZOFFSETFROM:+0100
TZOFFSETTO:+0200
TZNAME:CEST
DTSTART:20260329T010000
END:DAYLIGHT
BEGIN:STANDARD
TZOFFSETFROM:+0200
TZOFFSETTO:+0100
TZNAME:CET
DTSTART:20261025T010000
END:STANDARD
BEGIN:DAYLIGHT
TZOFFSETFROM:+0100
TZOFFSETTO:+0200
TZNAME:CEST
DTSTART:20270328T010000
END:DAYLIGHT
BEGIN:STANDARD
TZOFFSETFROM:+0200
TZOFFSETTO:+0100
TZNAME:CET
DTSTART:20271031T010000
END:STANDARD
END:VTIMEZONE
BEGIN:VEVENT
DTSTART;TZID=Europe/Amsterdam:20260424T100000
DTEND;TZID=Europe/Amsterdam:20260424T130000
DTSTAMP:20260420T124521
CREATED:20250605T134033Z
LAST-MODIFIED:20250605T134035Z
UID:10031710-1777024800-1777035600@dehoofdzaak.org
SUMMARY:Ontmoetingspunt de Jutter - Den Helder
DESCRIPTION:Elke vrijdag: Kom ook eens gezellig binnenlopen op onze locatie in de Jutter. Je bent welkom!
URL:https://dehoofdzaak.org/agenda/ontmoetingspunt-de-jutter-den-helder/2026-04-24/
CATEGORIES:Kop Noord Holland
END:VEVENT
BEGIN:VEVENT
DTSTART;TZID=Europe/Amsterdam:20260501T100000
DTEND;TZID=Europe/Amsterdam:20260501T130000
DTSTAMP:20260420T124521
CREATED:20250605T134033Z
LAST-MODIFIED:20250605T134035Z
UID:10031711-1777629600-1777640400@dehoofdzaak.org
SUMMARY:Ontmoetingspunt de Jutter - Den Helder
DESCRIPTION:Elke vrijdag: Kom ook eens gezellig binnenlopen op onze locatie in de Jutter. Je bent welkom!
URL:https://dehoofdzaak.org/agenda/ontmoetingspunt-de-jutter-den-helder/2026-05-01/
CATEGORIES:Kop Noord Holland
END:VEVENT
BEGIN:VEVENT
DTSTART;TZID=Europe/Amsterdam:20260508T100000
DTEND;TZID=Europe/Amsterdam:20260508T130000
DTSTAMP:20260420T124521
CREATED:20250605T134033Z
LAST-MODIFIED:20250605T134035Z
UID:10031712-1778234400-1778245200@dehoofdzaak.org
SUMMARY:Ontmoetingspunt de Jutter - Den Helder
DESCRIPTION:Elke vrijdag: Kom ook eens gezellig binnenlopen op onze locatie in de Jutter. Je bent welkom!
URL:https://dehoofdzaak.org/agenda/ontmoetingspunt-de-jutter-den-helder/2026-05-08/
CATEGORIES:Kop Noord Holland
END:VEVENT
BEGIN:VEVENT
DTSTART;TZID=Europe/Amsterdam:20260515T100000
DTEND;TZID=Europe/Amsterdam:20260515T130000
DTSTAMP:20260420T124521
CREATED:20250605T134033Z
LAST-MODIFIED:20250605T134035Z
UID:10031713-1778839200-1778850000@dehoofdzaak.org
SUMMARY:Ontmoetingspunt de Jutter - Den Helder
DESCRIPTION:Elke vrijdag: Kom ook eens gezellig binnenlopen op onze locatie in de Jutter. Je bent welkom!
URL:https://dehoofdzaak.org/agenda/ontmoetingspunt-de-jutter-den-helder/2026-05-15/
CATEGORIES:Kop Noord Holland
END:VEVENT
BEGIN:VEVENT
DTSTART;TZID=Europe/Amsterdam:20260522T100000
DTEND;TZID=Europe/Amsterdam:20260522T130000
DTSTAMP:20260420T124521
CREATED:20250605T134033Z
LAST-MODIFIED:20250605T134035Z
UID:10031714-1779444000-1779454800@dehoofdzaak.org
SUMMARY:Ontmoetingspunt de Jutter - Den Helder
DESCRIPTION:Elke vrijdag: Kom ook eens gezellig binnenlopen op onze locatie in de Jutter. Je bent welkom!
URL:https://dehoofdzaak.org/agenda/ontmoetingspunt-de-jutter-den-helder/2026-05-22/
CATEGORIES:Kop Noord Holland
END:VEVENT
BEGIN:VEVENT
DTSTART;TZID=Europe/Amsterdam:20260529T100000
DTEND;TZID=Europe/Amsterdam:20260529T130000
DTSTAMP:20260420T124521
CREATED:20250605T134033Z
LAST-MODIFIED:20250605T134035Z
UID:10031715-1780048800-1780059600@dehoofdzaak.org
SUMMARY:Ontmoetingspunt de Jutter - Den Helder
DESCRIPTION:Elke vrijdag: Kom ook eens gezellig binnenlopen op onze locatie in de Jutter. Je bent welkom!
URL:https://dehoofdzaak.org/agenda/ontmoetingspunt-de-jutter-den-helder/2026-05-29/
CATEGORIES:Kop Noord Holland
END:VEVENT
BEGIN:VEVENT
DTSTART;TZID=Europe/Amsterdam:20260605T100000
DTEND;TZID=Europe/Amsterdam:20260605T130000
DTSTAMP:20260420T124521
CREATED:20250605T134033Z
LAST-MODIFIED:20250605T134035Z
UID:10031716-1780653600-1780664400@dehoofdzaak.org
SUMMARY:Ontmoetingspunt de Jutter - Den Helder
DESCRIPTION:Elke vrijdag: Kom ook eens gezellig binnenlopen op onze locatie in de Jutter. Je bent welkom!
URL:https://dehoofdzaak.org/agenda/ontmoetingspunt-de-jutter-den-helder/2026-06-05/
CATEGORIES:Kop Noord Holland
END:VEVENT
BEGIN:VEVENT
DTSTART;TZID=Europe/Amsterdam:20260612T100000
DTEND;TZID=Europe/Amsterdam:20260612T130000
DTSTAMP:20260420T124521
CREATED:20250605T134033Z
LAST-MODIFIED:20250605T134035Z
UID:10031717-1781258400-1781269200@dehoofdzaak.org
SUMMARY:Ontmoetingspunt de Jutter - Den Helder
DESCRIPTION:Elke vrijdag: Kom ook eens gezellig binnenlopen op onze locatie in de Jutter. Je bent welkom!
URL:https://dehoofdzaak.org/agenda/ontmoetingspunt-de-jutter-den-helder/2026-06-12/
CATEGORIES:Kop Noord Holland
END:VEVENT
BEGIN:VEVENT
DTSTART;TZID=Europe/Amsterdam:20260619T100000
DTEND;TZID=Europe/Amsterdam:20260619T130000
DTSTAMP:20260420T124521
CREATED:20250605T134033Z
LAST-MODIFIED:20250605T134035Z
UID:10031718-1781863200-1781874000@dehoofdzaak.org
SUMMARY:Ontmoetingspunt de Jutter - Den Helder
DESCRIPTION:Elke vrijdag: Kom ook eens gezellig binnenlopen op onze locatie in de Jutter. Je bent welkom!
URL:https://dehoofdzaak.org/agenda/ontmoetingspunt-de-jutter-den-helder/2026-06-19/
CATEGORIES:Kop Noord Holland
END:VEVENT
BEGIN:VEVENT
DTSTART;TZID=Europe/Amsterdam:20260626T100000
DTEND;TZID=Europe/Amsterdam:20260626T130000
DTSTAMP:20260420T124521
CREATED:20250605T134033Z
LAST-MODIFIED:20250605T134035Z
UID:10031719-1782468000-1782478800@dehoofdzaak.org
SUMMARY:Ontmoetingspunt de Jutter - Den Helder
DESCRIPTION:Elke vrijdag: Kom ook eens gezellig binnenlopen op onze locatie in de Jutter. Je bent welkom!
URL:https://dehoofdzaak.org/agenda/ontmoetingspunt-de-jutter-den-helder/2026-06-26/
CATEGORIES:Kop Noord Holland
END:VEVENT
BEGIN:VEVENT
DTSTART;TZID=Europe/Amsterdam:20260703T100000
DTEND;TZID=Europe/Amsterdam:20260703T130000
DTSTAMP:20260420T124521
CREATED:20250605T134033Z
LAST-MODIFIED:20250605T134035Z
UID:10031720-1783072800-1783083600@dehoofdzaak.org
SUMMARY:Ontmoetingspunt de Jutter - Den Helder
DESCRIPTION:Elke vrijdag: Kom ook eens gezellig binnenlopen op onze locatie in de Jutter. Je bent welkom!
URL:https://dehoofdzaak.org/agenda/ontmoetingspunt-de-jutter-den-helder/2026-07-03/
CATEGORIES:Kop Noord Holland
END:VEVENT
BEGIN:VEVENT
DTSTART;TZID=Europe/Amsterdam:20260710T100000
DTEND;TZID=Europe/Amsterdam:20260710T130000
DTSTAMP:20260420T124521
CREATED:20250605T134033Z
LAST-MODIFIED:20250605T134035Z
UID:10031721-1783677600-1783688400@dehoofdzaak.org
SUMMARY:Ontmoetingspunt de Jutter - Den Helder
DESCRIPTION:Elke vrijdag: Kom ook eens gezellig binnenlopen op onze locatie in de Jutter. Je bent welkom!
URL:https://dehoofdzaak.org/agenda/ontmoetingspunt-de-jutter-den-helder/2026-07-10/
CATEGORIES:Kop Noord Holland
END:VEVENT
BEGIN:VEVENT
DTSTART;TZID=Europe/Amsterdam:20260717T100000
DTEND;TZID=Europe/Amsterdam:20260717T130000
DTSTAMP:20260420T124521
CREATED:20250605T134033Z
LAST-MODIFIED:20250605T134035Z
UID:10031722-1784282400-1784293200@dehoofdzaak.org
SUMMARY:Ontmoetingspunt de Jutter - Den Helder
DESCRIPTION:Elke vrijdag: Kom ook eens gezellig binnenlopen op onze locatie in de Jutter. Je bent welkom!
URL:https://dehoofdzaak.org/agenda/ontmoetingspunt-de-jutter-den-helder/2026-07-17/
CATEGORIES:Kop Noord Holland
END:VEVENT
BEGIN:VEVENT
DTSTART;TZID=Europe/Amsterdam:20260724T100000
DTEND;TZID=Europe/Amsterdam:20260724T130000
DTSTAMP:20260420T124521
CREATED:20250605T134033Z
LAST-MODIFIED:20250605T134035Z
UID:10031723-1784887200-1784898000@dehoofdzaak.org
SUMMARY:Ontmoetingspunt de Jutter - Den Helder
DESCRIPTION:Elke vrijdag: Kom ook eens gezellig binnenlopen op onze locatie in de Jutter. Je bent welkom!
URL:https://dehoofdzaak.org/agenda/ontmoetingspunt-de-jutter-den-helder/2026-07-24/
CATEGORIES:Kop Noord Holland
END:VEVENT
BEGIN:VEVENT
DTSTART;TZID=Europe/Amsterdam:20260731T100000
DTEND;TZID=Europe/Amsterdam:20260731T130000
DTSTAMP:20260420T124521
CREATED:20250605T134033Z
LAST-MODIFIED:20250605T134035Z
UID:10031724-1785492000-1785502800@dehoofdzaak.org
SUMMARY:Ontmoetingspunt de Jutter - Den Helder
DESCRIPTION:Elke vrijdag: Kom ook eens gezellig binnenlopen op onze locatie in de Jutter. Je bent welkom!
URL:https://dehoofdzaak.org/agenda/ontmoetingspunt-de-jutter-den-helder/2026-07-31/
CATEGORIES:Kop Noord Holland
END:VEVENT
BEGIN:VEVENT
DTSTART;TZID=Europe/Amsterdam:20260807T100000
DTEND;TZID=Europe/Amsterdam:20260807T130000
DTSTAMP:20260420T124521
CREATED:20250605T134033Z
LAST-MODIFIED:20250605T134035Z
UID:10031725-1786096800-1786107600@dehoofdzaak.org
SUMMARY:Ontmoetingspunt de Jutter - Den Helder
DESCRIPTION:Elke vrijdag: Kom ook eens gezellig binnenlopen op onze locatie in de Jutter. Je bent welkom!
URL:https://dehoofdzaak.org/agenda/ontmoetingspunt-de-jutter-den-helder/2026-08-07/
CATEGORIES:Kop Noord Holland
END:VEVENT
BEGIN:VEVENT
DTSTART;TZID=Europe/Amsterdam:20260814T100000
DTEND;TZID=Europe/Amsterdam:20260814T130000
DTSTAMP:20260420T124521
CREATED:20250605T134033Z
LAST-MODIFIED:20250605T134035Z
UID:10031726-1786701600-1786712400@dehoofdzaak.org
SUMMARY:Ontmoetingspunt de Jutter - Den Helder
DESCRIPTION:Elke vrijdag: Kom ook eens gezellig binnenlopen op onze locatie in de Jutter. Je bent welkom!
URL:https://dehoofdzaak.org/agenda/ontmoetingspunt-de-jutter-den-helder/2026-08-14/
CATEGORIES:Kop Noord Holland
END:VEVENT
BEGIN:VEVENT
DTSTART;TZID=Europe/Amsterdam:20260821T100000
DTEND;TZID=Europe/Amsterdam:20260821T130000
DTSTAMP:20260420T124521
CREATED:20250605T134033Z
LAST-MODIFIED:20250605T134035Z
UID:10031727-1787306400-1787317200@dehoofdzaak.org
SUMMARY:Ontmoetingspunt de Jutter - Den Helder
DESCRIPTION:Elke vrijdag: Kom ook eens gezellig binnenlopen op onze locatie in de Jutter. Je bent welkom!
URL:https://dehoofdzaak.org/agenda/ontmoetingspunt-de-jutter-den-helder/2026-08-21/
CATEGORIES:Kop Noord Holland
END:VEVENT
BEGIN:VEVENT
DTSTART;TZID=Europe/Amsterdam:20260828T100000
DTEND;TZID=Europe/Amsterdam:20260828T130000
DTSTAMP:20260420T124521
CREATED:20250605T134033Z
LAST-MODIFIED:20250605T134035Z
UID:10031728-1787911200-1787922000@dehoofdzaak.org
SUMMARY:Ontmoetingspunt de Jutter - Den Helder
DESCRIPTION:Elke vrijdag: Kom ook eens gezellig binnenlopen op onze locatie in de Jutter. Je bent welkom!
URL:https://dehoofdzaak.org/agenda/ontmoetingspunt-de-jutter-den-helder/2026-08-28/
CATEGORIES:Kop Noord Holland
END:VEVENT
BEGIN:VEVENT
DTSTART;TZID=Europe/Amsterdam:20260904T100000
DTEND;TZID=Europe/Amsterdam:20260904T130000
DTSTAMP:20260420T124521
CREATED:20250605T134033Z
LAST-MODIFIED:20250605T134035Z
UID:10031729-1788516000-1788526800@dehoofdzaak.org
SUMMARY:Ontmoetingspunt de Jutter - Den Helder
DESCRIPTION:Elke vrijdag: Kom ook eens gezellig binnenlopen op onze locatie in de Jutter. Je bent welkom!
URL:https://dehoofdzaak.org/agenda/ontmoetingspunt-de-jutter-den-helder/2026-09-04/
CATEGORIES:Kop Noord Holland
END:VEVENT
BEGIN:VEVENT
DTSTART;TZID=Europe/Amsterdam:20260911T100000
DTEND;TZID=Europe/Amsterdam:20260911T130000
DTSTAMP:20260420T124521
CREATED:20250605T134033Z
LAST-MODIFIED:20250605T134035Z
UID:10031730-1789120800-1789131600@dehoofdzaak.org
SUMMARY:Ontmoetingspunt de Jutter - Den Helder
DESCRIPTION:Elke vrijdag: Kom ook eens gezellig binnenlopen op onze locatie in de Jutter. Je bent welkom!
URL:https://dehoofdzaak.org/agenda/ontmoetingspunt-de-jutter-den-helder/2026-09-11/
CATEGORIES:Kop Noord Holland
END:VEVENT
BEGIN:VEVENT
DTSTART;TZID=Europe/Amsterdam:20260918T100000
DTEND;TZID=Europe/Amsterdam:20260918T130000
DTSTAMP:20260420T124521
CREATED:20250605T134033Z
LAST-MODIFIED:20250605T134035Z
UID:10031731-1789725600-1789736400@dehoofdzaak.org
SUMMARY:Ontmoetingspunt de Jutter - Den Helder
DESCRIPTION:Elke vrijdag: Kom ook eens gezellig binnenlopen op onze locatie in de Jutter. Je bent welkom!
URL:https://dehoofdzaak.org/agenda/ontmoetingspunt-de-jutter-den-helder/2026-09-18/
CATEGORIES:Kop Noord Holland
END:VEVENT
BEGIN:VEVENT
DTSTART;TZID=Europe/Amsterdam:20260925T100000
DTEND;TZID=Europe/Amsterdam:20260925T130000
DTSTAMP:20260420T124521
CREATED:20250605T134033Z
LAST-MODIFIED:20250605T134035Z
UID:10031732-1790330400-1790341200@dehoofdzaak.org
SUMMARY:Ontmoetingspunt de Jutter - Den Helder
DESCRIPTION:Elke vrijdag: Kom ook eens gezellig binnenlopen op onze locatie in de Jutter. Je bent welkom!
URL:https://dehoofdzaak.org/agenda/ontmoetingspunt-de-jutter-den-helder/2026-09-25/
CATEGORIES:Kop Noord Holland
END:VEVENT
BEGIN:VEVENT
DTSTART;TZID=Europe/Amsterdam:20261002T100000
DTEND;TZID=Europe/Amsterdam:20261002T130000
DTSTAMP:20260420T124521
CREATED:20250605T134033Z
LAST-MODIFIED:20250605T134035Z
UID:10031733-1790935200-1790946000@dehoofdzaak.org
SUMMARY:Ontmoetingspunt de Jutter - Den Helder
DESCRIPTION:Elke vrijdag: Kom ook eens gezellig binnenlopen op onze locatie in de Jutter. Je bent welkom!
URL:https://dehoofdzaak.org/agenda/ontmoetingspunt-de-jutter-den-helder/2026-10-02/
CATEGORIES:Kop Noord Holland
END:VEVENT
BEGIN:VEVENT
DTSTART;TZID=Europe/Amsterdam:20261009T100000
DTEND;TZID=Europe/Amsterdam:20261009T130000
DTSTAMP:20260420T124521
CREATED:20250605T134033Z
LAST-MODIFIED:20250605T134035Z
UID:10031734-1791540000-1791550800@dehoofdzaak.org
SUMMARY:Ontmoetingspunt de Jutter - Den Helder
DESCRIPTION:Elke vrijdag: Kom ook eens gezellig binnenlopen op onze locatie in de Jutter. Je bent welkom!
URL:https://dehoofdzaak.org/agenda/ontmoetingspunt-de-jutter-den-helder/2026-10-09/
CATEGORIES:Kop Noord Holland
END:VEVENT
BEGIN:VEVENT
DTSTART;TZID=Europe/Amsterdam:20261016T100000
DTEND;TZID=Europe/Amsterdam:20261016T130000
DTSTAMP:20260420T124521
CREATED:20250605T134033Z
LAST-MODIFIED:20250605T134035Z
UID:10031735-1792144800-1792155600@dehoofdzaak.org
SUMMARY:Ontmoetingspunt de Jutter - Den Helder
DESCRIPTION:Elke vrijdag: Kom ook eens gezellig binnenlopen op onze locatie in de Jutter. Je bent welkom!
URL:https://dehoofdzaak.org/agenda/ontmoetingspunt-de-jutter-den-helder/2026-10-16/
CATEGORIES:Kop Noord Holland
END:VEVENT
BEGIN:VEVENT
DTSTART;TZID=Europe/Amsterdam:20261023T100000
DTEND;TZID=Europe/Amsterdam:20261023T130000
DTSTAMP:20260420T124521
CREATED:20250605T134033Z
LAST-MODIFIED:20250605T134035Z
UID:10031736-1792749600-1792760400@dehoofdzaak.org
SUMMARY:Ontmoetingspunt de Jutter - Den Helder
DESCRIPTION:Elke vrijdag: Kom ook eens gezellig binnenlopen op onze locatie in de Jutter. Je bent welkom!
URL:https://dehoofdzaak.org/agenda/ontmoetingspunt-de-jutter-den-helder/2026-10-23/
CATEGORIES:Kop Noord Holland
END:VEVENT
BEGIN:VEVENT
DTSTART;TZID=Europe/Amsterdam:20261030T100000
DTEND;TZID=Europe/Amsterdam:20261030T130000
DTSTAMP:20260420T124521
CREATED:20250605T134033Z
LAST-MODIFIED:20250605T134035Z
UID:10031737-1793354400-1793365200@dehoofdzaak.org
SUMMARY:Ontmoetingspunt de Jutter - Den Helder
DESCRIPTION:Elke vrijdag: Kom ook eens gezellig binnenlopen op onze locatie in de Jutter. Je bent welkom!
URL:https://dehoofdzaak.org/agenda/ontmoetingspunt-de-jutter-den-helder/2026-10-30/
CATEGORIES:Kop Noord Holland
END:VEVENT
BEGIN:VEVENT
DTSTART;TZID=Europe/Amsterdam:20261106T100000
DTEND;TZID=Europe/Amsterdam:20261106T130000
DTSTAMP:20260420T124521
CREATED:20250605T134033Z
LAST-MODIFIED:20250605T134035Z
UID:10031738-1793959200-1793970000@dehoofdzaak.org
SUMMARY:Ontmoetingspunt de Jutter - Den Helder
DESCRIPTION:Elke vrijdag: Kom ook eens gezellig binnenlopen op onze locatie in de Jutter. Je bent welkom!
URL:https://dehoofdzaak.org/agenda/ontmoetingspunt-de-jutter-den-helder/2026-11-06/
CATEGORIES:Kop Noord Holland
END:VEVENT
BEGIN:VEVENT
DTSTART;TZID=Europe/Amsterdam:20261113T100000
DTEND;TZID=Europe/Amsterdam:20261113T130000
DTSTAMP:20260420T124521
CREATED:20250605T134033Z
LAST-MODIFIED:20250605T134035Z
UID:10031739-1794564000-1794574800@dehoofdzaak.org
SUMMARY:Ontmoetingspunt de Jutter - Den Helder
DESCRIPTION:Elke vrijdag: Kom ook eens gezellig binnenlopen op onze locatie in de Jutter. Je bent welkom!
URL:https://dehoofdzaak.org/agenda/ontmoetingspunt-de-jutter-den-helder/2026-11-13/
CATEGORIES:Kop Noord Holland
END:VEVENT
END:VCALENDAR