BEGIN:VCALENDAR
VERSION:2.0
PRODID:-//De Hoofdzaak - ECPv6.15.20//NONSGML v1.0//EN
CALSCALE:GREGORIAN
METHOD:PUBLISH
X-WR-CALNAME:De Hoofdzaak
X-ORIGINAL-URL:https://dehoofdzaak.org
X-WR-CALDESC:Evenementen voor De Hoofdzaak
REFRESH-INTERVAL;VALUE=DURATION:PT1H
X-Robots-Tag:noindex
X-PUBLISHED-TTL:PT1H
BEGIN:VTIMEZONE
TZID:Europe/Amsterdam
BEGIN:DAYLIGHT
TZOFFSETFROM:+0100
TZOFFSETTO:+0200
TZNAME:CEST
DTSTART:20250330T010000
END:DAYLIGHT
BEGIN:STANDARD
TZOFFSETFROM:+0200
TZOFFSETTO:+0100
TZNAME:CET
DTSTART:20251026T010000
END:STANDARD
BEGIN:DAYLIGHT
TZOFFSETFROM:+0100
TZOFFSETTO:+0200
TZNAME:CEST
DTSTART:20260329T010000
END:DAYLIGHT
BEGIN:STANDARD
TZOFFSETFROM:+0200
TZOFFSETTO:+0100
TZNAME:CET
DTSTART:20261025T010000
END:STANDARD
BEGIN:DAYLIGHT
TZOFFSETFROM:+0100
TZOFFSETTO:+0200
TZNAME:CEST
DTSTART:20270328T010000
END:DAYLIGHT
BEGIN:STANDARD
TZOFFSETFROM:+0200
TZOFFSETTO:+0100
TZNAME:CET
DTSTART:20271031T010000
END:STANDARD
END:VTIMEZONE
BEGIN:VEVENT
DTSTART;TZID=Europe/Amsterdam:20260311T200000
DTEND;TZID=Europe/Amsterdam:20260311T220000
DTSTAMP:20260420T084307
CREATED:20260212T121340Z
LAST-MODIFIED:20260218T114558Z
UID:10042471-1773259200-1773266400@dehoofdzaak.org
SUMMARY:Levenscafé Enkhuizen
DESCRIPTION:Thema: ‘Alles goed?’ – een eerlijk gesprek over mentale gezondheidWe zeggen het vaak zo makkelijk tegen elkaar: ‘Alles goed?’ Maar willen we het eerlijke verhaal wel horen? Want wat als het niet goed gaat? Is daar dan ruimte voor? En durf je erover te praten? Tijdens deze interactieve avond is er ruimte om te luisteren\, vragen te stellen en ervaringen te delen. Het gaat over ontmoeting\, herkenning en praktische inzichten voor zowel jezelf als voor wie je wilt ondersteunen. En zoals altijd bij het Levenscafé: het draait om een veilige sfeer waarin je jezelf mag zijn. Of je nu meepraat of graag wilt luisteren.  \n\n\n\nAanmelden via: https://levenscafe.nl/Agenda/
URL:https://dehoofdzaak.org/agenda/levenscafe-enkhuizen/
LOCATION:Cultureel Centrum Drommedaris\, Paktuinen 1\, Enkhuizen\, 1601GD
CATEGORIES:Westfriesland
END:VEVENT
END:VCALENDAR