BEGIN:VCALENDAR
VERSION:2.0
PRODID:-//De Hoofdzaak - ECPv6.15.20//NONSGML v1.0//EN
CALSCALE:GREGORIAN
METHOD:PUBLISH
X-WR-CALNAME:De Hoofdzaak
X-ORIGINAL-URL:https://dehoofdzaak.org
X-WR-CALDESC:Evenementen voor De Hoofdzaak
REFRESH-INTERVAL;VALUE=DURATION:PT1H
X-Robots-Tag:noindex
X-PUBLISHED-TTL:PT1H
BEGIN:VTIMEZONE
TZID:Europe/Amsterdam
BEGIN:DAYLIGHT
TZOFFSETFROM:+0100
TZOFFSETTO:+0200
TZNAME:CEST
DTSTART:20280326T010000
END:DAYLIGHT
BEGIN:STANDARD
TZOFFSETFROM:+0200
TZOFFSETTO:+0100
TZNAME:CET
DTSTART:20281029T010000
END:STANDARD
BEGIN:DAYLIGHT
TZOFFSETFROM:+0100
TZOFFSETTO:+0200
TZNAME:CEST
DTSTART:20290325T010000
END:DAYLIGHT
BEGIN:STANDARD
TZOFFSETFROM:+0200
TZOFFSETTO:+0100
TZNAME:CET
DTSTART:20291028T010000
END:STANDARD
BEGIN:DAYLIGHT
TZOFFSETFROM:+0100
TZOFFSETTO:+0200
TZNAME:CEST
DTSTART:20300331T010000
END:DAYLIGHT
BEGIN:STANDARD
TZOFFSETFROM:+0200
TZOFFSETTO:+0100
TZNAME:CET
DTSTART:20301027T010000
END:STANDARD
BEGIN:DAYLIGHT
TZOFFSETFROM:+0100
TZOFFSETTO:+0200
TZNAME:CEST
DTSTART:20310330T010000
END:DAYLIGHT
BEGIN:STANDARD
TZOFFSETFROM:+0200
TZOFFSETTO:+0100
TZNAME:CET
DTSTART:20311026T010000
END:STANDARD
END:VTIMEZONE
BEGIN:VEVENT
DTSTART;TZID=Europe/Amsterdam:20291226T090000
DTEND;TZID=Europe/Amsterdam:20291226T120000
DTSTAMP:20260419T190302
CREATED:20251126T083125Z
LAST-MODIFIED:20260224T145854Z
UID:10039118-1892970000-1892980800@dehoofdzaak.org
SUMMARY:Ontmoetingspunt de Binding
DESCRIPTION:Op zoek naar een plek waar je gewoon even jezelf mag zijn?Waar je welkom bent met je verhaal\, of juist even zonder?Bij De Hoofdzaak ben je welkom!
URL:https://dehoofdzaak.org/agenda/ontmoetingspunt-de-binding-2/2029-12-26/
LOCATION:De Binding\, Bosgroet 2\, Zuid-Scharwoude\, 1722KA\, Netherlands
CATEGORIES:Noord-Kennemerland
END:VEVENT
BEGIN:VEVENT
DTSTART;TZID=Europe/Amsterdam:20300102T090000
DTEND;TZID=Europe/Amsterdam:20300102T120000
DTSTAMP:20260419T190302
CREATED:20251126T083125Z
LAST-MODIFIED:20260224T145854Z
UID:10039119-1893574800-1893585600@dehoofdzaak.org
SUMMARY:Ontmoetingspunt de Binding
DESCRIPTION:Op zoek naar een plek waar je gewoon even jezelf mag zijn?Waar je welkom bent met je verhaal\, of juist even zonder?Bij De Hoofdzaak ben je welkom!
URL:https://dehoofdzaak.org/agenda/ontmoetingspunt-de-binding-2/2030-01-02/
LOCATION:De Binding\, Bosgroet 2\, Zuid-Scharwoude\, 1722KA\, Netherlands
CATEGORIES:Noord-Kennemerland
END:VEVENT
BEGIN:VEVENT
DTSTART;TZID=Europe/Amsterdam:20300109T090000
DTEND;TZID=Europe/Amsterdam:20300109T120000
DTSTAMP:20260419T190302
CREATED:20251126T083125Z
LAST-MODIFIED:20260224T145854Z
UID:10039120-1894179600-1894190400@dehoofdzaak.org
SUMMARY:Ontmoetingspunt de Binding
DESCRIPTION:Op zoek naar een plek waar je gewoon even jezelf mag zijn?Waar je welkom bent met je verhaal\, of juist even zonder?Bij De Hoofdzaak ben je welkom!
URL:https://dehoofdzaak.org/agenda/ontmoetingspunt-de-binding-2/2030-01-09/
LOCATION:De Binding\, Bosgroet 2\, Zuid-Scharwoude\, 1722KA\, Netherlands
CATEGORIES:Noord-Kennemerland
END:VEVENT
BEGIN:VEVENT
DTSTART;TZID=Europe/Amsterdam:20300116T090000
DTEND;TZID=Europe/Amsterdam:20300116T120000
DTSTAMP:20260419T190302
CREATED:20251126T083125Z
LAST-MODIFIED:20260224T145854Z
UID:10039121-1894784400-1894795200@dehoofdzaak.org
SUMMARY:Ontmoetingspunt de Binding
DESCRIPTION:Op zoek naar een plek waar je gewoon even jezelf mag zijn?Waar je welkom bent met je verhaal\, of juist even zonder?Bij De Hoofdzaak ben je welkom!
URL:https://dehoofdzaak.org/agenda/ontmoetingspunt-de-binding-2/2030-01-16/
LOCATION:De Binding\, Bosgroet 2\, Zuid-Scharwoude\, 1722KA\, Netherlands
CATEGORIES:Noord-Kennemerland
END:VEVENT
BEGIN:VEVENT
DTSTART;TZID=Europe/Amsterdam:20300123T090000
DTEND;TZID=Europe/Amsterdam:20300123T120000
DTSTAMP:20260419T190302
CREATED:20251126T083125Z
LAST-MODIFIED:20260224T145854Z
UID:10039122-1895389200-1895400000@dehoofdzaak.org
SUMMARY:Ontmoetingspunt de Binding
DESCRIPTION:Op zoek naar een plek waar je gewoon even jezelf mag zijn?Waar je welkom bent met je verhaal\, of juist even zonder?Bij De Hoofdzaak ben je welkom!
URL:https://dehoofdzaak.org/agenda/ontmoetingspunt-de-binding-2/2030-01-23/
LOCATION:De Binding\, Bosgroet 2\, Zuid-Scharwoude\, 1722KA\, Netherlands
CATEGORIES:Noord-Kennemerland
END:VEVENT
BEGIN:VEVENT
DTSTART;TZID=Europe/Amsterdam:20300130T090000
DTEND;TZID=Europe/Amsterdam:20300130T120000
DTSTAMP:20260419T190302
CREATED:20251126T083125Z
LAST-MODIFIED:20260224T145854Z
UID:10039123-1895994000-1896004800@dehoofdzaak.org
SUMMARY:Ontmoetingspunt de Binding
DESCRIPTION:Op zoek naar een plek waar je gewoon even jezelf mag zijn?Waar je welkom bent met je verhaal\, of juist even zonder?Bij De Hoofdzaak ben je welkom!
URL:https://dehoofdzaak.org/agenda/ontmoetingspunt-de-binding-2/2030-01-30/
LOCATION:De Binding\, Bosgroet 2\, Zuid-Scharwoude\, 1722KA\, Netherlands
CATEGORIES:Noord-Kennemerland
END:VEVENT
BEGIN:VEVENT
DTSTART;TZID=Europe/Amsterdam:20300206T090000
DTEND;TZID=Europe/Amsterdam:20300206T120000
DTSTAMP:20260419T190302
CREATED:20251126T083125Z
LAST-MODIFIED:20260224T145854Z
UID:10039124-1896598800-1896609600@dehoofdzaak.org
SUMMARY:Ontmoetingspunt de Binding
DESCRIPTION:Op zoek naar een plek waar je gewoon even jezelf mag zijn?Waar je welkom bent met je verhaal\, of juist even zonder?Bij De Hoofdzaak ben je welkom!
URL:https://dehoofdzaak.org/agenda/ontmoetingspunt-de-binding-2/2030-02-06/
LOCATION:De Binding\, Bosgroet 2\, Zuid-Scharwoude\, 1722KA\, Netherlands
CATEGORIES:Noord-Kennemerland
END:VEVENT
BEGIN:VEVENT
DTSTART;TZID=Europe/Amsterdam:20300213T090000
DTEND;TZID=Europe/Amsterdam:20300213T120000
DTSTAMP:20260419T190302
CREATED:20251126T083125Z
LAST-MODIFIED:20260224T145854Z
UID:10039125-1897203600-1897214400@dehoofdzaak.org
SUMMARY:Ontmoetingspunt de Binding
DESCRIPTION:Op zoek naar een plek waar je gewoon even jezelf mag zijn?Waar je welkom bent met je verhaal\, of juist even zonder?Bij De Hoofdzaak ben je welkom!
URL:https://dehoofdzaak.org/agenda/ontmoetingspunt-de-binding-2/2030-02-13/
LOCATION:De Binding\, Bosgroet 2\, Zuid-Scharwoude\, 1722KA\, Netherlands
CATEGORIES:Noord-Kennemerland
END:VEVENT
BEGIN:VEVENT
DTSTART;TZID=Europe/Amsterdam:20300220T090000
DTEND;TZID=Europe/Amsterdam:20300220T120000
DTSTAMP:20260419T190302
CREATED:20251126T083125Z
LAST-MODIFIED:20260224T145854Z
UID:10039126-1897808400-1897819200@dehoofdzaak.org
SUMMARY:Ontmoetingspunt de Binding
DESCRIPTION:Op zoek naar een plek waar je gewoon even jezelf mag zijn?Waar je welkom bent met je verhaal\, of juist even zonder?Bij De Hoofdzaak ben je welkom!
URL:https://dehoofdzaak.org/agenda/ontmoetingspunt-de-binding-2/2030-02-20/
LOCATION:De Binding\, Bosgroet 2\, Zuid-Scharwoude\, 1722KA\, Netherlands
CATEGORIES:Noord-Kennemerland
END:VEVENT
BEGIN:VEVENT
DTSTART;TZID=Europe/Amsterdam:20300227T090000
DTEND;TZID=Europe/Amsterdam:20300227T120000
DTSTAMP:20260419T190302
CREATED:20251126T083125Z
LAST-MODIFIED:20260224T145854Z
UID:10039127-1898413200-1898424000@dehoofdzaak.org
SUMMARY:Ontmoetingspunt de Binding
DESCRIPTION:Op zoek naar een plek waar je gewoon even jezelf mag zijn?Waar je welkom bent met je verhaal\, of juist even zonder?Bij De Hoofdzaak ben je welkom!
URL:https://dehoofdzaak.org/agenda/ontmoetingspunt-de-binding-2/2030-02-27/
LOCATION:De Binding\, Bosgroet 2\, Zuid-Scharwoude\, 1722KA\, Netherlands
CATEGORIES:Noord-Kennemerland
END:VEVENT
BEGIN:VEVENT
DTSTART;TZID=Europe/Amsterdam:20300306T090000
DTEND;TZID=Europe/Amsterdam:20300306T120000
DTSTAMP:20260419T190302
CREATED:20251126T083125Z
LAST-MODIFIED:20260224T145854Z
UID:10039128-1899018000-1899028800@dehoofdzaak.org
SUMMARY:Ontmoetingspunt de Binding
DESCRIPTION:Op zoek naar een plek waar je gewoon even jezelf mag zijn?Waar je welkom bent met je verhaal\, of juist even zonder?Bij De Hoofdzaak ben je welkom!
URL:https://dehoofdzaak.org/agenda/ontmoetingspunt-de-binding-2/2030-03-06/
LOCATION:De Binding\, Bosgroet 2\, Zuid-Scharwoude\, 1722KA\, Netherlands
CATEGORIES:Noord-Kennemerland
END:VEVENT
BEGIN:VEVENT
DTSTART;TZID=Europe/Amsterdam:20300313T090000
DTEND;TZID=Europe/Amsterdam:20300313T120000
DTSTAMP:20260419T190302
CREATED:20251126T083125Z
LAST-MODIFIED:20260224T145854Z
UID:10039129-1899622800-1899633600@dehoofdzaak.org
SUMMARY:Ontmoetingspunt de Binding
DESCRIPTION:Op zoek naar een plek waar je gewoon even jezelf mag zijn?Waar je welkom bent met je verhaal\, of juist even zonder?Bij De Hoofdzaak ben je welkom!
URL:https://dehoofdzaak.org/agenda/ontmoetingspunt-de-binding-2/2030-03-13/
LOCATION:De Binding\, Bosgroet 2\, Zuid-Scharwoude\, 1722KA\, Netherlands
CATEGORIES:Noord-Kennemerland
END:VEVENT
BEGIN:VEVENT
DTSTART;TZID=Europe/Amsterdam:20300320T090000
DTEND;TZID=Europe/Amsterdam:20300320T120000
DTSTAMP:20260419T190302
CREATED:20251126T083125Z
LAST-MODIFIED:20260224T145854Z
UID:10039130-1900227600-1900238400@dehoofdzaak.org
SUMMARY:Ontmoetingspunt de Binding
DESCRIPTION:Op zoek naar een plek waar je gewoon even jezelf mag zijn?Waar je welkom bent met je verhaal\, of juist even zonder?Bij De Hoofdzaak ben je welkom!
URL:https://dehoofdzaak.org/agenda/ontmoetingspunt-de-binding-2/2030-03-20/
LOCATION:De Binding\, Bosgroet 2\, Zuid-Scharwoude\, 1722KA\, Netherlands
CATEGORIES:Noord-Kennemerland
END:VEVENT
BEGIN:VEVENT
DTSTART;TZID=Europe/Amsterdam:20300327T090000
DTEND;TZID=Europe/Amsterdam:20300327T120000
DTSTAMP:20260419T190302
CREATED:20251126T083125Z
LAST-MODIFIED:20260224T145854Z
UID:10039131-1900832400-1900843200@dehoofdzaak.org
SUMMARY:Ontmoetingspunt de Binding
DESCRIPTION:Op zoek naar een plek waar je gewoon even jezelf mag zijn?Waar je welkom bent met je verhaal\, of juist even zonder?Bij De Hoofdzaak ben je welkom!
URL:https://dehoofdzaak.org/agenda/ontmoetingspunt-de-binding-2/2030-03-27/
LOCATION:De Binding\, Bosgroet 2\, Zuid-Scharwoude\, 1722KA\, Netherlands
CATEGORIES:Noord-Kennemerland
END:VEVENT
BEGIN:VEVENT
DTSTART;TZID=Europe/Amsterdam:20300403T090000
DTEND;TZID=Europe/Amsterdam:20300403T120000
DTSTAMP:20260419T190302
CREATED:20251126T083125Z
LAST-MODIFIED:20260224T145854Z
UID:10039132-1901437200-1901448000@dehoofdzaak.org
SUMMARY:Ontmoetingspunt de Binding
DESCRIPTION:Op zoek naar een plek waar je gewoon even jezelf mag zijn?Waar je welkom bent met je verhaal\, of juist even zonder?Bij De Hoofdzaak ben je welkom!
URL:https://dehoofdzaak.org/agenda/ontmoetingspunt-de-binding-2/2030-04-03/
LOCATION:De Binding\, Bosgroet 2\, Zuid-Scharwoude\, 1722KA\, Netherlands
CATEGORIES:Noord-Kennemerland
END:VEVENT
BEGIN:VEVENT
DTSTART;TZID=Europe/Amsterdam:20300410T090000
DTEND;TZID=Europe/Amsterdam:20300410T120000
DTSTAMP:20260419T190302
CREATED:20251126T083125Z
LAST-MODIFIED:20260224T145854Z
UID:10039133-1902042000-1902052800@dehoofdzaak.org
SUMMARY:Ontmoetingspunt de Binding
DESCRIPTION:Op zoek naar een plek waar je gewoon even jezelf mag zijn?Waar je welkom bent met je verhaal\, of juist even zonder?Bij De Hoofdzaak ben je welkom!
URL:https://dehoofdzaak.org/agenda/ontmoetingspunt-de-binding-2/2030-04-10/
LOCATION:De Binding\, Bosgroet 2\, Zuid-Scharwoude\, 1722KA\, Netherlands
CATEGORIES:Noord-Kennemerland
END:VEVENT
BEGIN:VEVENT
DTSTART;TZID=Europe/Amsterdam:20300417T090000
DTEND;TZID=Europe/Amsterdam:20300417T120000
DTSTAMP:20260419T190302
CREATED:20251126T083125Z
LAST-MODIFIED:20260224T145854Z
UID:10039134-1902646800-1902657600@dehoofdzaak.org
SUMMARY:Ontmoetingspunt de Binding
DESCRIPTION:Op zoek naar een plek waar je gewoon even jezelf mag zijn?Waar je welkom bent met je verhaal\, of juist even zonder?Bij De Hoofdzaak ben je welkom!
URL:https://dehoofdzaak.org/agenda/ontmoetingspunt-de-binding-2/2030-04-17/
LOCATION:De Binding\, Bosgroet 2\, Zuid-Scharwoude\, 1722KA\, Netherlands
CATEGORIES:Noord-Kennemerland
END:VEVENT
BEGIN:VEVENT
DTSTART;TZID=Europe/Amsterdam:20300424T090000
DTEND;TZID=Europe/Amsterdam:20300424T120000
DTSTAMP:20260419T190302
CREATED:20251126T083125Z
LAST-MODIFIED:20260224T145854Z
UID:10039135-1903251600-1903262400@dehoofdzaak.org
SUMMARY:Ontmoetingspunt de Binding
DESCRIPTION:Op zoek naar een plek waar je gewoon even jezelf mag zijn?Waar je welkom bent met je verhaal\, of juist even zonder?Bij De Hoofdzaak ben je welkom!
URL:https://dehoofdzaak.org/agenda/ontmoetingspunt-de-binding-2/2030-04-24/
LOCATION:De Binding\, Bosgroet 2\, Zuid-Scharwoude\, 1722KA\, Netherlands
CATEGORIES:Noord-Kennemerland
END:VEVENT
BEGIN:VEVENT
DTSTART;TZID=Europe/Amsterdam:20300501T090000
DTEND;TZID=Europe/Amsterdam:20300501T120000
DTSTAMP:20260419T190302
CREATED:20251126T083125Z
LAST-MODIFIED:20260224T145854Z
UID:10039136-1903856400-1903867200@dehoofdzaak.org
SUMMARY:Ontmoetingspunt de Binding
DESCRIPTION:Op zoek naar een plek waar je gewoon even jezelf mag zijn?Waar je welkom bent met je verhaal\, of juist even zonder?Bij De Hoofdzaak ben je welkom!
URL:https://dehoofdzaak.org/agenda/ontmoetingspunt-de-binding-2/2030-05-01/
LOCATION:De Binding\, Bosgroet 2\, Zuid-Scharwoude\, 1722KA\, Netherlands
CATEGORIES:Noord-Kennemerland
END:VEVENT
BEGIN:VEVENT
DTSTART;TZID=Europe/Amsterdam:20300508T090000
DTEND;TZID=Europe/Amsterdam:20300508T120000
DTSTAMP:20260419T190302
CREATED:20251126T083125Z
LAST-MODIFIED:20260224T145854Z
UID:10039137-1904461200-1904472000@dehoofdzaak.org
SUMMARY:Ontmoetingspunt de Binding
DESCRIPTION:Op zoek naar een plek waar je gewoon even jezelf mag zijn?Waar je welkom bent met je verhaal\, of juist even zonder?Bij De Hoofdzaak ben je welkom!
URL:https://dehoofdzaak.org/agenda/ontmoetingspunt-de-binding-2/2030-05-08/
LOCATION:De Binding\, Bosgroet 2\, Zuid-Scharwoude\, 1722KA\, Netherlands
CATEGORIES:Noord-Kennemerland
END:VEVENT
BEGIN:VEVENT
DTSTART;TZID=Europe/Amsterdam:20300515T090000
DTEND;TZID=Europe/Amsterdam:20300515T120000
DTSTAMP:20260419T190302
CREATED:20251126T083125Z
LAST-MODIFIED:20260224T145854Z
UID:10039138-1905066000-1905076800@dehoofdzaak.org
SUMMARY:Ontmoetingspunt de Binding
DESCRIPTION:Op zoek naar een plek waar je gewoon even jezelf mag zijn?Waar je welkom bent met je verhaal\, of juist even zonder?Bij De Hoofdzaak ben je welkom!
URL:https://dehoofdzaak.org/agenda/ontmoetingspunt-de-binding-2/2030-05-15/
LOCATION:De Binding\, Bosgroet 2\, Zuid-Scharwoude\, 1722KA\, Netherlands
CATEGORIES:Noord-Kennemerland
END:VEVENT
BEGIN:VEVENT
DTSTART;TZID=Europe/Amsterdam:20300522T090000
DTEND;TZID=Europe/Amsterdam:20300522T120000
DTSTAMP:20260419T190302
CREATED:20251126T083125Z
LAST-MODIFIED:20260224T145854Z
UID:10039139-1905670800-1905681600@dehoofdzaak.org
SUMMARY:Ontmoetingspunt de Binding
DESCRIPTION:Op zoek naar een plek waar je gewoon even jezelf mag zijn?Waar je welkom bent met je verhaal\, of juist even zonder?Bij De Hoofdzaak ben je welkom!
URL:https://dehoofdzaak.org/agenda/ontmoetingspunt-de-binding-2/2030-05-22/
LOCATION:De Binding\, Bosgroet 2\, Zuid-Scharwoude\, 1722KA\, Netherlands
CATEGORIES:Noord-Kennemerland
END:VEVENT
BEGIN:VEVENT
DTSTART;TZID=Europe/Amsterdam:20300529T090000
DTEND;TZID=Europe/Amsterdam:20300529T120000
DTSTAMP:20260419T190302
CREATED:20251126T083125Z
LAST-MODIFIED:20260224T145854Z
UID:10039140-1906275600-1906286400@dehoofdzaak.org
SUMMARY:Ontmoetingspunt de Binding
DESCRIPTION:Op zoek naar een plek waar je gewoon even jezelf mag zijn?Waar je welkom bent met je verhaal\, of juist even zonder?Bij De Hoofdzaak ben je welkom!
URL:https://dehoofdzaak.org/agenda/ontmoetingspunt-de-binding-2/2030-05-29/
LOCATION:De Binding\, Bosgroet 2\, Zuid-Scharwoude\, 1722KA\, Netherlands
CATEGORIES:Noord-Kennemerland
END:VEVENT
BEGIN:VEVENT
DTSTART;TZID=Europe/Amsterdam:20300605T090000
DTEND;TZID=Europe/Amsterdam:20300605T120000
DTSTAMP:20260419T190302
CREATED:20251126T083125Z
LAST-MODIFIED:20260224T145854Z
UID:10039141-1906880400-1906891200@dehoofdzaak.org
SUMMARY:Ontmoetingspunt de Binding
DESCRIPTION:Op zoek naar een plek waar je gewoon even jezelf mag zijn?Waar je welkom bent met je verhaal\, of juist even zonder?Bij De Hoofdzaak ben je welkom!
URL:https://dehoofdzaak.org/agenda/ontmoetingspunt-de-binding-2/2030-06-05/
LOCATION:De Binding\, Bosgroet 2\, Zuid-Scharwoude\, 1722KA\, Netherlands
CATEGORIES:Noord-Kennemerland
END:VEVENT
BEGIN:VEVENT
DTSTART;TZID=Europe/Amsterdam:20300612T090000
DTEND;TZID=Europe/Amsterdam:20300612T120000
DTSTAMP:20260419T190302
CREATED:20251126T083125Z
LAST-MODIFIED:20260224T145854Z
UID:10039142-1907485200-1907496000@dehoofdzaak.org
SUMMARY:Ontmoetingspunt de Binding
DESCRIPTION:Op zoek naar een plek waar je gewoon even jezelf mag zijn?Waar je welkom bent met je verhaal\, of juist even zonder?Bij De Hoofdzaak ben je welkom!
URL:https://dehoofdzaak.org/agenda/ontmoetingspunt-de-binding-2/2030-06-12/
LOCATION:De Binding\, Bosgroet 2\, Zuid-Scharwoude\, 1722KA\, Netherlands
CATEGORIES:Noord-Kennemerland
END:VEVENT
BEGIN:VEVENT
DTSTART;TZID=Europe/Amsterdam:20300619T090000
DTEND;TZID=Europe/Amsterdam:20300619T120000
DTSTAMP:20260419T190302
CREATED:20251126T083125Z
LAST-MODIFIED:20260224T145854Z
UID:10039143-1908090000-1908100800@dehoofdzaak.org
SUMMARY:Ontmoetingspunt de Binding
DESCRIPTION:Op zoek naar een plek waar je gewoon even jezelf mag zijn?Waar je welkom bent met je verhaal\, of juist even zonder?Bij De Hoofdzaak ben je welkom!
URL:https://dehoofdzaak.org/agenda/ontmoetingspunt-de-binding-2/2030-06-19/
LOCATION:De Binding\, Bosgroet 2\, Zuid-Scharwoude\, 1722KA\, Netherlands
CATEGORIES:Noord-Kennemerland
END:VEVENT
BEGIN:VEVENT
DTSTART;TZID=Europe/Amsterdam:20300626T090000
DTEND;TZID=Europe/Amsterdam:20300626T120000
DTSTAMP:20260419T190302
CREATED:20251126T083125Z
LAST-MODIFIED:20260224T145854Z
UID:10039144-1908694800-1908705600@dehoofdzaak.org
SUMMARY:Ontmoetingspunt de Binding
DESCRIPTION:Op zoek naar een plek waar je gewoon even jezelf mag zijn?Waar je welkom bent met je verhaal\, of juist even zonder?Bij De Hoofdzaak ben je welkom!
URL:https://dehoofdzaak.org/agenda/ontmoetingspunt-de-binding-2/2030-06-26/
LOCATION:De Binding\, Bosgroet 2\, Zuid-Scharwoude\, 1722KA\, Netherlands
CATEGORIES:Noord-Kennemerland
END:VEVENT
BEGIN:VEVENT
DTSTART;TZID=Europe/Amsterdam:20300703T090000
DTEND;TZID=Europe/Amsterdam:20300703T120000
DTSTAMP:20260419T190302
CREATED:20251126T083125Z
LAST-MODIFIED:20260224T145854Z
UID:10039145-1909299600-1909310400@dehoofdzaak.org
SUMMARY:Ontmoetingspunt de Binding
DESCRIPTION:Op zoek naar een plek waar je gewoon even jezelf mag zijn?Waar je welkom bent met je verhaal\, of juist even zonder?Bij De Hoofdzaak ben je welkom!
URL:https://dehoofdzaak.org/agenda/ontmoetingspunt-de-binding-2/2030-07-03/
LOCATION:De Binding\, Bosgroet 2\, Zuid-Scharwoude\, 1722KA\, Netherlands
CATEGORIES:Noord-Kennemerland
END:VEVENT
BEGIN:VEVENT
DTSTART;TZID=Europe/Amsterdam:20300710T090000
DTEND;TZID=Europe/Amsterdam:20300710T120000
DTSTAMP:20260419T190302
CREATED:20251126T083125Z
LAST-MODIFIED:20260224T145854Z
UID:10039146-1909904400-1909915200@dehoofdzaak.org
SUMMARY:Ontmoetingspunt de Binding
DESCRIPTION:Op zoek naar een plek waar je gewoon even jezelf mag zijn?Waar je welkom bent met je verhaal\, of juist even zonder?Bij De Hoofdzaak ben je welkom!
URL:https://dehoofdzaak.org/agenda/ontmoetingspunt-de-binding-2/2030-07-10/
LOCATION:De Binding\, Bosgroet 2\, Zuid-Scharwoude\, 1722KA\, Netherlands
CATEGORIES:Noord-Kennemerland
END:VEVENT
BEGIN:VEVENT
DTSTART;TZID=Europe/Amsterdam:20300717T090000
DTEND;TZID=Europe/Amsterdam:20300717T120000
DTSTAMP:20260419T190302
CREATED:20251126T083125Z
LAST-MODIFIED:20260224T145854Z
UID:10039147-1910509200-1910520000@dehoofdzaak.org
SUMMARY:Ontmoetingspunt de Binding
DESCRIPTION:Op zoek naar een plek waar je gewoon even jezelf mag zijn?Waar je welkom bent met je verhaal\, of juist even zonder?Bij De Hoofdzaak ben je welkom!
URL:https://dehoofdzaak.org/agenda/ontmoetingspunt-de-binding-2/2030-07-17/
LOCATION:De Binding\, Bosgroet 2\, Zuid-Scharwoude\, 1722KA\, Netherlands
CATEGORIES:Noord-Kennemerland
END:VEVENT
END:VCALENDAR