BEGIN:VCALENDAR
VERSION:2.0
PRODID:-//De Hoofdzaak - ECPv6.15.20//NONSGML v1.0//EN
CALSCALE:GREGORIAN
METHOD:PUBLISH
X-WR-CALNAME:De Hoofdzaak
X-ORIGINAL-URL:https://dehoofdzaak.org
X-WR-CALDESC:Evenementen voor De Hoofdzaak
REFRESH-INTERVAL;VALUE=DURATION:PT1H
X-Robots-Tag:noindex
X-PUBLISHED-TTL:PT1H
BEGIN:VTIMEZONE
TZID:Europe/Amsterdam
BEGIN:DAYLIGHT
TZOFFSETFROM:+0100
TZOFFSETTO:+0200
TZNAME:CEST
DTSTART:20290325T010000
END:DAYLIGHT
BEGIN:STANDARD
TZOFFSETFROM:+0200
TZOFFSETTO:+0100
TZNAME:CET
DTSTART:20291028T010000
END:STANDARD
BEGIN:DAYLIGHT
TZOFFSETFROM:+0100
TZOFFSETTO:+0200
TZNAME:CEST
DTSTART:20300331T010000
END:DAYLIGHT
BEGIN:STANDARD
TZOFFSETFROM:+0200
TZOFFSETTO:+0100
TZNAME:CET
DTSTART:20301027T010000
END:STANDARD
BEGIN:DAYLIGHT
TZOFFSETFROM:+0100
TZOFFSETTO:+0200
TZNAME:CEST
DTSTART:20310330T010000
END:DAYLIGHT
BEGIN:STANDARD
TZOFFSETFROM:+0200
TZOFFSETTO:+0100
TZNAME:CET
DTSTART:20311026T010000
END:STANDARD
BEGIN:DAYLIGHT
TZOFFSETFROM:+0100
TZOFFSETTO:+0200
TZNAME:CEST
DTSTART:20320328T010000
END:DAYLIGHT
BEGIN:STANDARD
TZOFFSETFROM:+0200
TZOFFSETTO:+0100
TZNAME:CET
DTSTART:20321031T010000
END:STANDARD
END:VTIMEZONE
BEGIN:VEVENT
DTSTART;TZID=Europe/Amsterdam:20300904T090000
DTEND;TZID=Europe/Amsterdam:20300904T120000
DTSTAMP:20260420T002404
CREATED:20251126T083125Z
LAST-MODIFIED:20260224T145854Z
UID:10039154-1914742800-1914753600@dehoofdzaak.org
SUMMARY:Ontmoetingspunt de Binding
DESCRIPTION:Op zoek naar een plek waar je gewoon even jezelf mag zijn?Waar je welkom bent met je verhaal\, of juist even zonder?Bij De Hoofdzaak ben je welkom!
URL:https://dehoofdzaak.org/agenda/ontmoetingspunt-de-binding-2/2030-09-04/
LOCATION:De Binding\, Bosgroet 2\, Zuid-Scharwoude\, 1722KA\, Netherlands
CATEGORIES:Noord-Kennemerland
END:VEVENT
BEGIN:VEVENT
DTSTART;TZID=Europe/Amsterdam:20300911T090000
DTEND;TZID=Europe/Amsterdam:20300911T120000
DTSTAMP:20260420T002404
CREATED:20251126T083125Z
LAST-MODIFIED:20260224T145854Z
UID:10039155-1915347600-1915358400@dehoofdzaak.org
SUMMARY:Ontmoetingspunt de Binding
DESCRIPTION:Op zoek naar een plek waar je gewoon even jezelf mag zijn?Waar je welkom bent met je verhaal\, of juist even zonder?Bij De Hoofdzaak ben je welkom!
URL:https://dehoofdzaak.org/agenda/ontmoetingspunt-de-binding-2/2030-09-11/
LOCATION:De Binding\, Bosgroet 2\, Zuid-Scharwoude\, 1722KA\, Netherlands
CATEGORIES:Noord-Kennemerland
END:VEVENT
BEGIN:VEVENT
DTSTART;TZID=Europe/Amsterdam:20300918T090000
DTEND;TZID=Europe/Amsterdam:20300918T120000
DTSTAMP:20260420T002404
CREATED:20251126T083125Z
LAST-MODIFIED:20260224T145854Z
UID:10039156-1915952400-1915963200@dehoofdzaak.org
SUMMARY:Ontmoetingspunt de Binding
DESCRIPTION:Op zoek naar een plek waar je gewoon even jezelf mag zijn?Waar je welkom bent met je verhaal\, of juist even zonder?Bij De Hoofdzaak ben je welkom!
URL:https://dehoofdzaak.org/agenda/ontmoetingspunt-de-binding-2/2030-09-18/
LOCATION:De Binding\, Bosgroet 2\, Zuid-Scharwoude\, 1722KA\, Netherlands
CATEGORIES:Noord-Kennemerland
END:VEVENT
BEGIN:VEVENT
DTSTART;TZID=Europe/Amsterdam:20300925T090000
DTEND;TZID=Europe/Amsterdam:20300925T120000
DTSTAMP:20260420T002404
CREATED:20251126T083125Z
LAST-MODIFIED:20260224T145854Z
UID:10039157-1916557200-1916568000@dehoofdzaak.org
SUMMARY:Ontmoetingspunt de Binding
DESCRIPTION:Op zoek naar een plek waar je gewoon even jezelf mag zijn?Waar je welkom bent met je verhaal\, of juist even zonder?Bij De Hoofdzaak ben je welkom!
URL:https://dehoofdzaak.org/agenda/ontmoetingspunt-de-binding-2/2030-09-25/
LOCATION:De Binding\, Bosgroet 2\, Zuid-Scharwoude\, 1722KA\, Netherlands
CATEGORIES:Noord-Kennemerland
END:VEVENT
BEGIN:VEVENT
DTSTART;TZID=Europe/Amsterdam:20301002T090000
DTEND;TZID=Europe/Amsterdam:20301002T120000
DTSTAMP:20260420T002404
CREATED:20251126T083125Z
LAST-MODIFIED:20260224T145854Z
UID:10039158-1917162000-1917172800@dehoofdzaak.org
SUMMARY:Ontmoetingspunt de Binding
DESCRIPTION:Op zoek naar een plek waar je gewoon even jezelf mag zijn?Waar je welkom bent met je verhaal\, of juist even zonder?Bij De Hoofdzaak ben je welkom!
URL:https://dehoofdzaak.org/agenda/ontmoetingspunt-de-binding-2/2030-10-02/
LOCATION:De Binding\, Bosgroet 2\, Zuid-Scharwoude\, 1722KA\, Netherlands
CATEGORIES:Noord-Kennemerland
END:VEVENT
BEGIN:VEVENT
DTSTART;TZID=Europe/Amsterdam:20301009T090000
DTEND;TZID=Europe/Amsterdam:20301009T120000
DTSTAMP:20260420T002404
CREATED:20251126T083125Z
LAST-MODIFIED:20260224T145854Z
UID:10039159-1917766800-1917777600@dehoofdzaak.org
SUMMARY:Ontmoetingspunt de Binding
DESCRIPTION:Op zoek naar een plek waar je gewoon even jezelf mag zijn?Waar je welkom bent met je verhaal\, of juist even zonder?Bij De Hoofdzaak ben je welkom!
URL:https://dehoofdzaak.org/agenda/ontmoetingspunt-de-binding-2/2030-10-09/
LOCATION:De Binding\, Bosgroet 2\, Zuid-Scharwoude\, 1722KA\, Netherlands
CATEGORIES:Noord-Kennemerland
END:VEVENT
BEGIN:VEVENT
DTSTART;TZID=Europe/Amsterdam:20301016T090000
DTEND;TZID=Europe/Amsterdam:20301016T120000
DTSTAMP:20260420T002404
CREATED:20251126T083125Z
LAST-MODIFIED:20260224T145854Z
UID:10039160-1918371600-1918382400@dehoofdzaak.org
SUMMARY:Ontmoetingspunt de Binding
DESCRIPTION:Op zoek naar een plek waar je gewoon even jezelf mag zijn?Waar je welkom bent met je verhaal\, of juist even zonder?Bij De Hoofdzaak ben je welkom!
URL:https://dehoofdzaak.org/agenda/ontmoetingspunt-de-binding-2/2030-10-16/
LOCATION:De Binding\, Bosgroet 2\, Zuid-Scharwoude\, 1722KA\, Netherlands
CATEGORIES:Noord-Kennemerland
END:VEVENT
BEGIN:VEVENT
DTSTART;TZID=Europe/Amsterdam:20301023T090000
DTEND;TZID=Europe/Amsterdam:20301023T120000
DTSTAMP:20260420T002404
CREATED:20251126T083125Z
LAST-MODIFIED:20260224T145854Z
UID:10039161-1918976400-1918987200@dehoofdzaak.org
SUMMARY:Ontmoetingspunt de Binding
DESCRIPTION:Op zoek naar een plek waar je gewoon even jezelf mag zijn?Waar je welkom bent met je verhaal\, of juist even zonder?Bij De Hoofdzaak ben je welkom!
URL:https://dehoofdzaak.org/agenda/ontmoetingspunt-de-binding-2/2030-10-23/
LOCATION:De Binding\, Bosgroet 2\, Zuid-Scharwoude\, 1722KA\, Netherlands
CATEGORIES:Noord-Kennemerland
END:VEVENT
BEGIN:VEVENT
DTSTART;TZID=Europe/Amsterdam:20301030T090000
DTEND;TZID=Europe/Amsterdam:20301030T120000
DTSTAMP:20260420T002404
CREATED:20251126T083125Z
LAST-MODIFIED:20260224T145854Z
UID:10039162-1919581200-1919592000@dehoofdzaak.org
SUMMARY:Ontmoetingspunt de Binding
DESCRIPTION:Op zoek naar een plek waar je gewoon even jezelf mag zijn?Waar je welkom bent met je verhaal\, of juist even zonder?Bij De Hoofdzaak ben je welkom!
URL:https://dehoofdzaak.org/agenda/ontmoetingspunt-de-binding-2/2030-10-30/
LOCATION:De Binding\, Bosgroet 2\, Zuid-Scharwoude\, 1722KA\, Netherlands
CATEGORIES:Noord-Kennemerland
END:VEVENT
BEGIN:VEVENT
DTSTART;TZID=Europe/Amsterdam:20301106T090000
DTEND;TZID=Europe/Amsterdam:20301106T120000
DTSTAMP:20260420T002404
CREATED:20251126T083125Z
LAST-MODIFIED:20260224T145854Z
UID:10039163-1920186000-1920196800@dehoofdzaak.org
SUMMARY:Ontmoetingspunt de Binding
DESCRIPTION:Op zoek naar een plek waar je gewoon even jezelf mag zijn?Waar je welkom bent met je verhaal\, of juist even zonder?Bij De Hoofdzaak ben je welkom!
URL:https://dehoofdzaak.org/agenda/ontmoetingspunt-de-binding-2/2030-11-06/
LOCATION:De Binding\, Bosgroet 2\, Zuid-Scharwoude\, 1722KA\, Netherlands
CATEGORIES:Noord-Kennemerland
END:VEVENT
BEGIN:VEVENT
DTSTART;TZID=Europe/Amsterdam:20301113T090000
DTEND;TZID=Europe/Amsterdam:20301113T120000
DTSTAMP:20260420T002404
CREATED:20251126T083125Z
LAST-MODIFIED:20260224T145854Z
UID:10039164-1920790800-1920801600@dehoofdzaak.org
SUMMARY:Ontmoetingspunt de Binding
DESCRIPTION:Op zoek naar een plek waar je gewoon even jezelf mag zijn?Waar je welkom bent met je verhaal\, of juist even zonder?Bij De Hoofdzaak ben je welkom!
URL:https://dehoofdzaak.org/agenda/ontmoetingspunt-de-binding-2/2030-11-13/
LOCATION:De Binding\, Bosgroet 2\, Zuid-Scharwoude\, 1722KA\, Netherlands
CATEGORIES:Noord-Kennemerland
END:VEVENT
BEGIN:VEVENT
DTSTART;TZID=Europe/Amsterdam:20301120T090000
DTEND;TZID=Europe/Amsterdam:20301120T120000
DTSTAMP:20260420T002404
CREATED:20251126T083125Z
LAST-MODIFIED:20260224T145854Z
UID:10039165-1921395600-1921406400@dehoofdzaak.org
SUMMARY:Ontmoetingspunt de Binding
DESCRIPTION:Op zoek naar een plek waar je gewoon even jezelf mag zijn?Waar je welkom bent met je verhaal\, of juist even zonder?Bij De Hoofdzaak ben je welkom!
URL:https://dehoofdzaak.org/agenda/ontmoetingspunt-de-binding-2/2030-11-20/
LOCATION:De Binding\, Bosgroet 2\, Zuid-Scharwoude\, 1722KA\, Netherlands
CATEGORIES:Noord-Kennemerland
END:VEVENT
BEGIN:VEVENT
DTSTART;TZID=Europe/Amsterdam:20301127T090000
DTEND;TZID=Europe/Amsterdam:20301127T120000
DTSTAMP:20260420T002404
CREATED:20251126T083125Z
LAST-MODIFIED:20260224T145854Z
UID:10042858-1922000400-1922011200@dehoofdzaak.org
SUMMARY:Ontmoetingspunt de Binding
DESCRIPTION:Op zoek naar een plek waar je gewoon even jezelf mag zijn?Waar je welkom bent met je verhaal\, of juist even zonder?Bij De Hoofdzaak ben je welkom!
URL:https://dehoofdzaak.org/agenda/ontmoetingspunt-de-binding-2/2030-11-27/
LOCATION:De Binding\, Bosgroet 2\, Zuid-Scharwoude\, 1722KA\, Netherlands
CATEGORIES:Noord-Kennemerland
END:VEVENT
BEGIN:VEVENT
DTSTART;TZID=Europe/Amsterdam:20301204T090000
DTEND;TZID=Europe/Amsterdam:20301204T120000
DTSTAMP:20260420T002404
CREATED:20251126T083125Z
LAST-MODIFIED:20260224T145854Z
UID:10042859-1922605200-1922616000@dehoofdzaak.org
SUMMARY:Ontmoetingspunt de Binding
DESCRIPTION:Op zoek naar een plek waar je gewoon even jezelf mag zijn?Waar je welkom bent met je verhaal\, of juist even zonder?Bij De Hoofdzaak ben je welkom!
URL:https://dehoofdzaak.org/agenda/ontmoetingspunt-de-binding-2/2030-12-04/
LOCATION:De Binding\, Bosgroet 2\, Zuid-Scharwoude\, 1722KA\, Netherlands
CATEGORIES:Noord-Kennemerland
END:VEVENT
BEGIN:VEVENT
DTSTART;TZID=Europe/Amsterdam:20301211T090000
DTEND;TZID=Europe/Amsterdam:20301211T120000
DTSTAMP:20260420T002404
CREATED:20251126T083125Z
LAST-MODIFIED:20260224T145854Z
UID:10042860-1923210000-1923220800@dehoofdzaak.org
SUMMARY:Ontmoetingspunt de Binding
DESCRIPTION:Op zoek naar een plek waar je gewoon even jezelf mag zijn?Waar je welkom bent met je verhaal\, of juist even zonder?Bij De Hoofdzaak ben je welkom!
URL:https://dehoofdzaak.org/agenda/ontmoetingspunt-de-binding-2/2030-12-11/
LOCATION:De Binding\, Bosgroet 2\, Zuid-Scharwoude\, 1722KA\, Netherlands
CATEGORIES:Noord-Kennemerland
END:VEVENT
BEGIN:VEVENT
DTSTART;TZID=Europe/Amsterdam:20301218T090000
DTEND;TZID=Europe/Amsterdam:20301218T120000
DTSTAMP:20260420T002404
CREATED:20251126T083125Z
LAST-MODIFIED:20260224T145854Z
UID:10042861-1923814800-1923825600@dehoofdzaak.org
SUMMARY:Ontmoetingspunt de Binding
DESCRIPTION:Op zoek naar een plek waar je gewoon even jezelf mag zijn?Waar je welkom bent met je verhaal\, of juist even zonder?Bij De Hoofdzaak ben je welkom!
URL:https://dehoofdzaak.org/agenda/ontmoetingspunt-de-binding-2/2030-12-18/
LOCATION:De Binding\, Bosgroet 2\, Zuid-Scharwoude\, 1722KA\, Netherlands
CATEGORIES:Noord-Kennemerland
END:VEVENT
BEGIN:VEVENT
DTSTART;TZID=Europe/Amsterdam:20301225T090000
DTEND;TZID=Europe/Amsterdam:20301225T120000
DTSTAMP:20260420T002404
CREATED:20251126T083125Z
LAST-MODIFIED:20260224T145854Z
UID:10042862-1924419600-1924430400@dehoofdzaak.org
SUMMARY:Ontmoetingspunt de Binding
DESCRIPTION:Op zoek naar een plek waar je gewoon even jezelf mag zijn?Waar je welkom bent met je verhaal\, of juist even zonder?Bij De Hoofdzaak ben je welkom!
URL:https://dehoofdzaak.org/agenda/ontmoetingspunt-de-binding-2/2030-12-25/
LOCATION:De Binding\, Bosgroet 2\, Zuid-Scharwoude\, 1722KA\, Netherlands
CATEGORIES:Noord-Kennemerland
END:VEVENT
BEGIN:VEVENT
DTSTART;TZID=Europe/Amsterdam:20310101T090000
DTEND;TZID=Europe/Amsterdam:20310101T120000
DTSTAMP:20260420T002404
CREATED:20251126T083125Z
LAST-MODIFIED:20260224T145854Z
UID:10042863-1925024400-1925035200@dehoofdzaak.org
SUMMARY:Ontmoetingspunt de Binding
DESCRIPTION:Op zoek naar een plek waar je gewoon even jezelf mag zijn?Waar je welkom bent met je verhaal\, of juist even zonder?Bij De Hoofdzaak ben je welkom!
URL:https://dehoofdzaak.org/agenda/ontmoetingspunt-de-binding-2/2031-01-01/
LOCATION:De Binding\, Bosgroet 2\, Zuid-Scharwoude\, 1722KA\, Netherlands
CATEGORIES:Noord-Kennemerland
END:VEVENT
BEGIN:VEVENT
DTSTART;TZID=Europe/Amsterdam:20310108T090000
DTEND;TZID=Europe/Amsterdam:20310108T120000
DTSTAMP:20260420T002404
CREATED:20251126T083125Z
LAST-MODIFIED:20260224T145854Z
UID:10042864-1925629200-1925640000@dehoofdzaak.org
SUMMARY:Ontmoetingspunt de Binding
DESCRIPTION:Op zoek naar een plek waar je gewoon even jezelf mag zijn?Waar je welkom bent met je verhaal\, of juist even zonder?Bij De Hoofdzaak ben je welkom!
URL:https://dehoofdzaak.org/agenda/ontmoetingspunt-de-binding-2/2031-01-08/
LOCATION:De Binding\, Bosgroet 2\, Zuid-Scharwoude\, 1722KA\, Netherlands
CATEGORIES:Noord-Kennemerland
END:VEVENT
BEGIN:VEVENT
DTSTART;TZID=Europe/Amsterdam:20310115T090000
DTEND;TZID=Europe/Amsterdam:20310115T120000
DTSTAMP:20260420T002404
CREATED:20251126T083125Z
LAST-MODIFIED:20260224T145854Z
UID:10042865-1926234000-1926244800@dehoofdzaak.org
SUMMARY:Ontmoetingspunt de Binding
DESCRIPTION:Op zoek naar een plek waar je gewoon even jezelf mag zijn?Waar je welkom bent met je verhaal\, of juist even zonder?Bij De Hoofdzaak ben je welkom!
URL:https://dehoofdzaak.org/agenda/ontmoetingspunt-de-binding-2/2031-01-15/
LOCATION:De Binding\, Bosgroet 2\, Zuid-Scharwoude\, 1722KA\, Netherlands
CATEGORIES:Noord-Kennemerland
END:VEVENT
BEGIN:VEVENT
DTSTART;TZID=Europe/Amsterdam:20310122T090000
DTEND;TZID=Europe/Amsterdam:20310122T120000
DTSTAMP:20260420T002404
CREATED:20251126T083125Z
LAST-MODIFIED:20260224T145854Z
UID:10042866-1926838800-1926849600@dehoofdzaak.org
SUMMARY:Ontmoetingspunt de Binding
DESCRIPTION:Op zoek naar een plek waar je gewoon even jezelf mag zijn?Waar je welkom bent met je verhaal\, of juist even zonder?Bij De Hoofdzaak ben je welkom!
URL:https://dehoofdzaak.org/agenda/ontmoetingspunt-de-binding-2/2031-01-22/
LOCATION:De Binding\, Bosgroet 2\, Zuid-Scharwoude\, 1722KA\, Netherlands
CATEGORIES:Noord-Kennemerland
END:VEVENT
BEGIN:VEVENT
DTSTART;TZID=Europe/Amsterdam:20310129T090000
DTEND;TZID=Europe/Amsterdam:20310129T120000
DTSTAMP:20260420T002404
CREATED:20251126T083125Z
LAST-MODIFIED:20260224T145854Z
UID:10042867-1927443600-1927454400@dehoofdzaak.org
SUMMARY:Ontmoetingspunt de Binding
DESCRIPTION:Op zoek naar een plek waar je gewoon even jezelf mag zijn?Waar je welkom bent met je verhaal\, of juist even zonder?Bij De Hoofdzaak ben je welkom!
URL:https://dehoofdzaak.org/agenda/ontmoetingspunt-de-binding-2/2031-01-29/
LOCATION:De Binding\, Bosgroet 2\, Zuid-Scharwoude\, 1722KA\, Netherlands
CATEGORIES:Noord-Kennemerland
END:VEVENT
BEGIN:VEVENT
DTSTART;TZID=Europe/Amsterdam:20310205T090000
DTEND;TZID=Europe/Amsterdam:20310205T120000
DTSTAMP:20260420T002404
CREATED:20251126T083125Z
LAST-MODIFIED:20260224T145854Z
UID:10042868-1928048400-1928059200@dehoofdzaak.org
SUMMARY:Ontmoetingspunt de Binding
DESCRIPTION:Op zoek naar een plek waar je gewoon even jezelf mag zijn?Waar je welkom bent met je verhaal\, of juist even zonder?Bij De Hoofdzaak ben je welkom!
URL:https://dehoofdzaak.org/agenda/ontmoetingspunt-de-binding-2/2031-02-05/
LOCATION:De Binding\, Bosgroet 2\, Zuid-Scharwoude\, 1722KA\, Netherlands
CATEGORIES:Noord-Kennemerland
END:VEVENT
BEGIN:VEVENT
DTSTART;TZID=Europe/Amsterdam:20310212T090000
DTEND;TZID=Europe/Amsterdam:20310212T120000
DTSTAMP:20260420T002404
CREATED:20251126T083125Z
LAST-MODIFIED:20260224T145854Z
UID:10042869-1928653200-1928664000@dehoofdzaak.org
SUMMARY:Ontmoetingspunt de Binding
DESCRIPTION:Op zoek naar een plek waar je gewoon even jezelf mag zijn?Waar je welkom bent met je verhaal\, of juist even zonder?Bij De Hoofdzaak ben je welkom!
URL:https://dehoofdzaak.org/agenda/ontmoetingspunt-de-binding-2/2031-02-12/
LOCATION:De Binding\, Bosgroet 2\, Zuid-Scharwoude\, 1722KA\, Netherlands
CATEGORIES:Noord-Kennemerland
END:VEVENT
BEGIN:VEVENT
DTSTART;TZID=Europe/Amsterdam:20310219T090000
DTEND;TZID=Europe/Amsterdam:20310219T120000
DTSTAMP:20260420T002404
CREATED:20251126T083125Z
LAST-MODIFIED:20260224T145854Z
UID:10042870-1929258000-1929268800@dehoofdzaak.org
SUMMARY:Ontmoetingspunt de Binding
DESCRIPTION:Op zoek naar een plek waar je gewoon even jezelf mag zijn?Waar je welkom bent met je verhaal\, of juist even zonder?Bij De Hoofdzaak ben je welkom!
URL:https://dehoofdzaak.org/agenda/ontmoetingspunt-de-binding-2/2031-02-19/
LOCATION:De Binding\, Bosgroet 2\, Zuid-Scharwoude\, 1722KA\, Netherlands
CATEGORIES:Noord-Kennemerland
END:VEVENT
END:VCALENDAR