BEGIN:VCALENDAR
VERSION:2.0
PRODID:-//De Hoofdzaak - ECPv6.15.20//NONSGML v1.0//EN
CALSCALE:GREGORIAN
METHOD:PUBLISH
X-WR-CALNAME:De Hoofdzaak
X-ORIGINAL-URL:https://dehoofdzaak.org
X-WR-CALDESC:Evenementen voor De Hoofdzaak
REFRESH-INTERVAL;VALUE=DURATION:PT1H
X-Robots-Tag:noindex
X-PUBLISHED-TTL:PT1H
BEGIN:VTIMEZONE
TZID:Europe/Amsterdam
BEGIN:DAYLIGHT
TZOFFSETFROM:+0100
TZOFFSETTO:+0200
TZNAME:CEST
DTSTART:20240331T010000
END:DAYLIGHT
BEGIN:STANDARD
TZOFFSETFROM:+0200
TZOFFSETTO:+0100
TZNAME:CET
DTSTART:20241027T010000
END:STANDARD
BEGIN:DAYLIGHT
TZOFFSETFROM:+0100
TZOFFSETTO:+0200
TZNAME:CEST
DTSTART:20250330T010000
END:DAYLIGHT
BEGIN:STANDARD
TZOFFSETFROM:+0200
TZOFFSETTO:+0100
TZNAME:CET
DTSTART:20251026T010000
END:STANDARD
BEGIN:DAYLIGHT
TZOFFSETFROM:+0100
TZOFFSETTO:+0200
TZNAME:CEST
DTSTART:20260329T010000
END:DAYLIGHT
BEGIN:STANDARD
TZOFFSETFROM:+0200
TZOFFSETTO:+0100
TZNAME:CET
DTSTART:20261025T010000
END:STANDARD
BEGIN:DAYLIGHT
TZOFFSETFROM:+0100
TZOFFSETTO:+0200
TZNAME:CEST
DTSTART:20270328T010000
END:DAYLIGHT
BEGIN:STANDARD
TZOFFSETFROM:+0200
TZOFFSETTO:+0100
TZNAME:CET
DTSTART:20271031T010000
END:STANDARD
END:VTIMEZONE
BEGIN:VEVENT
DTSTART;TZID=Europe/Amsterdam:20260413T130000
DTEND;TZID=Europe/Amsterdam:20260413T150000
DTSTAMP:20260419T162912
CREATED:20251017T064546Z
LAST-MODIFIED:20251017T064547Z
UID:10037666-1776085200-1776092400@dehoofdzaak.org
SUMMARY:Krachtig vanuit kwetsbaarheid Wieringerwerf
DESCRIPTION:Als je te maken hebt met een psychische kwetsbaarheid\, kun je daardoor erg overweldigd zijn. Maar herstel is mogelijk! Lotgenoten kunnen je daarbij ondersteunen. En jij kunt anderen ondersteunen bij hun herstel. \n\n\n\nJe hoeft het niet alleen te doen. Zoek de steun van lotgenoten in deze herstelgroep. Ze hebben vergelijkbare ervaring als jij en begrijpen je worsteling. Ze begrijpen je verhaal en helpen je vanuit hun eigen ervaring met herstel. De groep wordt begeleid door twee ervaringsdeskundigen.
URL:https://dehoofdzaak.org/agenda/krachtig-vanuit-kwetsbaarheid-wieringerwerf/2026-04-13/
LOCATION:De Cultuurschuur\, Loggersplein 1\, Wieringerwerf\, 1771 CE\, Netherlands
CATEGORIES:Kop Noord Holland
END:VEVENT
BEGIN:VEVENT
DTSTART;TZID=Europe/Amsterdam:20260330T130000
DTEND;TZID=Europe/Amsterdam:20260330T150000
DTSTAMP:20260419T162912
CREATED:20251017T064546Z
LAST-MODIFIED:20251017T064547Z
UID:10037665-1774875600-1774882800@dehoofdzaak.org
SUMMARY:Krachtig vanuit kwetsbaarheid Wieringerwerf
DESCRIPTION:Als je te maken hebt met een psychische kwetsbaarheid\, kun je daardoor erg overweldigd zijn. Maar herstel is mogelijk! Lotgenoten kunnen je daarbij ondersteunen. En jij kunt anderen ondersteunen bij hun herstel. \n\n\n\nJe hoeft het niet alleen te doen. Zoek de steun van lotgenoten in deze herstelgroep. Ze hebben vergelijkbare ervaring als jij en begrijpen je worsteling. Ze begrijpen je verhaal en helpen je vanuit hun eigen ervaring met herstel. De groep wordt begeleid door twee ervaringsdeskundigen.
URL:https://dehoofdzaak.org/agenda/krachtig-vanuit-kwetsbaarheid-wieringerwerf/2026-03-30/
LOCATION:De Cultuurschuur\, Loggersplein 1\, Wieringerwerf\, 1771 CE\, Netherlands
CATEGORIES:Kop Noord Holland
END:VEVENT
BEGIN:VEVENT
DTSTART;TZID=Europe/Amsterdam:20260316T130000
DTEND;TZID=Europe/Amsterdam:20260316T150000
DTSTAMP:20260419T162912
CREATED:20251017T064546Z
LAST-MODIFIED:20251017T064547Z
UID:10037664-1773666000-1773673200@dehoofdzaak.org
SUMMARY:Krachtig vanuit kwetsbaarheid Wieringerwerf
DESCRIPTION:Als je te maken hebt met een psychische kwetsbaarheid\, kun je daardoor erg overweldigd zijn. Maar herstel is mogelijk! Lotgenoten kunnen je daarbij ondersteunen. En jij kunt anderen ondersteunen bij hun herstel. \n\n\n\nJe hoeft het niet alleen te doen. Zoek de steun van lotgenoten in deze herstelgroep. Ze hebben vergelijkbare ervaring als jij en begrijpen je worsteling. Ze begrijpen je verhaal en helpen je vanuit hun eigen ervaring met herstel. De groep wordt begeleid door twee ervaringsdeskundigen.
URL:https://dehoofdzaak.org/agenda/krachtig-vanuit-kwetsbaarheid-wieringerwerf/2026-03-16/
LOCATION:De Cultuurschuur\, Loggersplein 1\, Wieringerwerf\, 1771 CE\, Netherlands
CATEGORIES:Kop Noord Holland
END:VEVENT
BEGIN:VEVENT
DTSTART;TZID=Europe/Amsterdam:20260302T130000
DTEND;TZID=Europe/Amsterdam:20260302T150000
DTSTAMP:20260419T162912
CREATED:20251017T064546Z
LAST-MODIFIED:20251017T064547Z
UID:10037663-1772456400-1772463600@dehoofdzaak.org
SUMMARY:Krachtig vanuit kwetsbaarheid Wieringerwerf
DESCRIPTION:Als je te maken hebt met een psychische kwetsbaarheid\, kun je daardoor erg overweldigd zijn. Maar herstel is mogelijk! Lotgenoten kunnen je daarbij ondersteunen. En jij kunt anderen ondersteunen bij hun herstel. \n\n\n\nJe hoeft het niet alleen te doen. Zoek de steun van lotgenoten in deze herstelgroep. Ze hebben vergelijkbare ervaring als jij en begrijpen je worsteling. Ze begrijpen je verhaal en helpen je vanuit hun eigen ervaring met herstel. De groep wordt begeleid door twee ervaringsdeskundigen.
URL:https://dehoofdzaak.org/agenda/krachtig-vanuit-kwetsbaarheid-wieringerwerf/2026-03-02/
LOCATION:De Cultuurschuur\, Loggersplein 1\, Wieringerwerf\, 1771 CE\, Netherlands
CATEGORIES:Kop Noord Holland
END:VEVENT
BEGIN:VEVENT
DTSTART;TZID=Europe/Amsterdam:20260216T130000
DTEND;TZID=Europe/Amsterdam:20260216T150000
DTSTAMP:20260419T162912
CREATED:20251017T064546Z
LAST-MODIFIED:20251017T064547Z
UID:10037662-1771246800-1771254000@dehoofdzaak.org
SUMMARY:Krachtig vanuit kwetsbaarheid Wieringerwerf
DESCRIPTION:Als je te maken hebt met een psychische kwetsbaarheid\, kun je daardoor erg overweldigd zijn. Maar herstel is mogelijk! Lotgenoten kunnen je daarbij ondersteunen. En jij kunt anderen ondersteunen bij hun herstel. \n\n\n\nJe hoeft het niet alleen te doen. Zoek de steun van lotgenoten in deze herstelgroep. Ze hebben vergelijkbare ervaring als jij en begrijpen je worsteling. Ze begrijpen je verhaal en helpen je vanuit hun eigen ervaring met herstel. De groep wordt begeleid door twee ervaringsdeskundigen.
URL:https://dehoofdzaak.org/agenda/krachtig-vanuit-kwetsbaarheid-wieringerwerf/2026-02-16/
LOCATION:De Cultuurschuur\, Loggersplein 1\, Wieringerwerf\, 1771 CE\, Netherlands
CATEGORIES:Kop Noord Holland
END:VEVENT
BEGIN:VEVENT
DTSTART;TZID=Europe/Amsterdam:20260202T130000
DTEND;TZID=Europe/Amsterdam:20260202T150000
DTSTAMP:20260419T162912
CREATED:20251017T064546Z
LAST-MODIFIED:20251017T064547Z
UID:10037661-1770037200-1770044400@dehoofdzaak.org
SUMMARY:Krachtig vanuit kwetsbaarheid Wieringerwerf
DESCRIPTION:Als je te maken hebt met een psychische kwetsbaarheid\, kun je daardoor erg overweldigd zijn. Maar herstel is mogelijk! Lotgenoten kunnen je daarbij ondersteunen. En jij kunt anderen ondersteunen bij hun herstel. \n\n\n\nJe hoeft het niet alleen te doen. Zoek de steun van lotgenoten in deze herstelgroep. Ze hebben vergelijkbare ervaring als jij en begrijpen je worsteling. Ze begrijpen je verhaal en helpen je vanuit hun eigen ervaring met herstel. De groep wordt begeleid door twee ervaringsdeskundigen.
URL:https://dehoofdzaak.org/agenda/krachtig-vanuit-kwetsbaarheid-wieringerwerf/2026-02-02/
LOCATION:De Cultuurschuur\, Loggersplein 1\, Wieringerwerf\, 1771 CE\, Netherlands
CATEGORIES:Kop Noord Holland
END:VEVENT
BEGIN:VEVENT
DTSTART;TZID=Europe/Amsterdam:20260119T130000
DTEND;TZID=Europe/Amsterdam:20260119T150000
DTSTAMP:20260419T162912
CREATED:20251017T064546Z
LAST-MODIFIED:20251017T064547Z
UID:10037660-1768827600-1768834800@dehoofdzaak.org
SUMMARY:Krachtig vanuit kwetsbaarheid Wieringerwerf
DESCRIPTION:Als je te maken hebt met een psychische kwetsbaarheid\, kun je daardoor erg overweldigd zijn. Maar herstel is mogelijk! Lotgenoten kunnen je daarbij ondersteunen. En jij kunt anderen ondersteunen bij hun herstel. \n\n\n\nJe hoeft het niet alleen te doen. Zoek de steun van lotgenoten in deze herstelgroep. Ze hebben vergelijkbare ervaring als jij en begrijpen je worsteling. Ze begrijpen je verhaal en helpen je vanuit hun eigen ervaring met herstel. De groep wordt begeleid door twee ervaringsdeskundigen.
URL:https://dehoofdzaak.org/agenda/krachtig-vanuit-kwetsbaarheid-wieringerwerf/2026-01-19/
LOCATION:De Cultuurschuur\, Loggersplein 1\, Wieringerwerf\, 1771 CE\, Netherlands
CATEGORIES:Kop Noord Holland
END:VEVENT
BEGIN:VEVENT
DTSTART;TZID=Europe/Amsterdam:20260105T130000
DTEND;TZID=Europe/Amsterdam:20260105T150000
DTSTAMP:20260419T162912
CREATED:20251017T064546Z
LAST-MODIFIED:20251017T064547Z
UID:10037659-1767618000-1767625200@dehoofdzaak.org
SUMMARY:Krachtig vanuit kwetsbaarheid Wieringerwerf
DESCRIPTION:Als je te maken hebt met een psychische kwetsbaarheid\, kun je daardoor erg overweldigd zijn. Maar herstel is mogelijk! Lotgenoten kunnen je daarbij ondersteunen. En jij kunt anderen ondersteunen bij hun herstel. \n\n\n\nJe hoeft het niet alleen te doen. Zoek de steun van lotgenoten in deze herstelgroep. Ze hebben vergelijkbare ervaring als jij en begrijpen je worsteling. Ze begrijpen je verhaal en helpen je vanuit hun eigen ervaring met herstel. De groep wordt begeleid door twee ervaringsdeskundigen.
URL:https://dehoofdzaak.org/agenda/krachtig-vanuit-kwetsbaarheid-wieringerwerf/2026-01-05/
LOCATION:De Cultuurschuur\, Loggersplein 1\, Wieringerwerf\, 1771 CE\, Netherlands
CATEGORIES:Kop Noord Holland
END:VEVENT
BEGIN:VEVENT
DTSTART;TZID=Europe/Amsterdam:20251222T130000
DTEND;TZID=Europe/Amsterdam:20251222T150000
DTSTAMP:20260419T162912
CREATED:20251017T064546Z
LAST-MODIFIED:20251017T064547Z
UID:10037658-1766408400-1766415600@dehoofdzaak.org
SUMMARY:Krachtig vanuit kwetsbaarheid Wieringerwerf
DESCRIPTION:Als je te maken hebt met een psychische kwetsbaarheid\, kun je daardoor erg overweldigd zijn. Maar herstel is mogelijk! Lotgenoten kunnen je daarbij ondersteunen. En jij kunt anderen ondersteunen bij hun herstel. \n\n\n\nJe hoeft het niet alleen te doen. Zoek de steun van lotgenoten in deze herstelgroep. Ze hebben vergelijkbare ervaring als jij en begrijpen je worsteling. Ze begrijpen je verhaal en helpen je vanuit hun eigen ervaring met herstel. De groep wordt begeleid door twee ervaringsdeskundigen.
URL:https://dehoofdzaak.org/agenda/krachtig-vanuit-kwetsbaarheid-wieringerwerf/2025-12-22/
LOCATION:De Cultuurschuur\, Loggersplein 1\, Wieringerwerf\, 1771 CE\, Netherlands
CATEGORIES:Kop Noord Holland
END:VEVENT
BEGIN:VEVENT
DTSTART;TZID=Europe/Amsterdam:20251208T130000
DTEND;TZID=Europe/Amsterdam:20251208T150000
DTSTAMP:20260419T162912
CREATED:20251017T064546Z
LAST-MODIFIED:20251017T064547Z
UID:10037657-1765198800-1765206000@dehoofdzaak.org
SUMMARY:Krachtig vanuit kwetsbaarheid Wieringerwerf
DESCRIPTION:Als je te maken hebt met een psychische kwetsbaarheid\, kun je daardoor erg overweldigd zijn. Maar herstel is mogelijk! Lotgenoten kunnen je daarbij ondersteunen. En jij kunt anderen ondersteunen bij hun herstel. \n\n\n\nJe hoeft het niet alleen te doen. Zoek de steun van lotgenoten in deze herstelgroep. Ze hebben vergelijkbare ervaring als jij en begrijpen je worsteling. Ze begrijpen je verhaal en helpen je vanuit hun eigen ervaring met herstel. De groep wordt begeleid door twee ervaringsdeskundigen.
URL:https://dehoofdzaak.org/agenda/krachtig-vanuit-kwetsbaarheid-wieringerwerf/2025-12-08/
LOCATION:De Cultuurschuur\, Loggersplein 1\, Wieringerwerf\, 1771 CE\, Netherlands
CATEGORIES:Kop Noord Holland
END:VEVENT
BEGIN:VEVENT
DTSTART;TZID=Europe/Amsterdam:20251124T130000
DTEND;TZID=Europe/Amsterdam:20251124T150000
DTSTAMP:20260419T162912
CREATED:20251017T064546Z
LAST-MODIFIED:20251017T064547Z
UID:10037656-1763989200-1763996400@dehoofdzaak.org
SUMMARY:Krachtig vanuit kwetsbaarheid Wieringerwerf
DESCRIPTION:Als je te maken hebt met een psychische kwetsbaarheid\, kun je daardoor erg overweldigd zijn. Maar herstel is mogelijk! Lotgenoten kunnen je daarbij ondersteunen. En jij kunt anderen ondersteunen bij hun herstel. \n\n\n\nJe hoeft het niet alleen te doen. Zoek de steun van lotgenoten in deze herstelgroep. Ze hebben vergelijkbare ervaring als jij en begrijpen je worsteling. Ze begrijpen je verhaal en helpen je vanuit hun eigen ervaring met herstel. De groep wordt begeleid door twee ervaringsdeskundigen.
URL:https://dehoofdzaak.org/agenda/krachtig-vanuit-kwetsbaarheid-wieringerwerf/2025-11-24/
LOCATION:De Cultuurschuur\, Loggersplein 1\, Wieringerwerf\, 1771 CE\, Netherlands
CATEGORIES:Kop Noord Holland
END:VEVENT
BEGIN:VEVENT
DTSTART;TZID=Europe/Amsterdam:20251110T130000
DTEND;TZID=Europe/Amsterdam:20251110T150000
DTSTAMP:20260419T162912
CREATED:20251017T064546Z
LAST-MODIFIED:20251017T064547Z
UID:10037655-1762779600-1762786800@dehoofdzaak.org
SUMMARY:Krachtig vanuit kwetsbaarheid Wieringerwerf
DESCRIPTION:Als je te maken hebt met een psychische kwetsbaarheid\, kun je daardoor erg overweldigd zijn. Maar herstel is mogelijk! Lotgenoten kunnen je daarbij ondersteunen. En jij kunt anderen ondersteunen bij hun herstel. \n\n\n\nJe hoeft het niet alleen te doen. Zoek de steun van lotgenoten in deze herstelgroep. Ze hebben vergelijkbare ervaring als jij en begrijpen je worsteling. Ze begrijpen je verhaal en helpen je vanuit hun eigen ervaring met herstel. De groep wordt begeleid door twee ervaringsdeskundigen.
URL:https://dehoofdzaak.org/agenda/krachtig-vanuit-kwetsbaarheid-wieringerwerf/2025-11-10/
LOCATION:De Cultuurschuur\, Loggersplein 1\, Wieringerwerf\, 1771 CE\, Netherlands
CATEGORIES:Kop Noord Holland
END:VEVENT
BEGIN:VEVENT
DTSTART;TZID=Europe/Amsterdam:20251027T130000
DTEND;TZID=Europe/Amsterdam:20251027T150000
DTSTAMP:20260419T162912
CREATED:20251017T064546Z
LAST-MODIFIED:20251017T064547Z
UID:10037654-1761570000-1761577200@dehoofdzaak.org
SUMMARY:Krachtig vanuit kwetsbaarheid Wieringerwerf
DESCRIPTION:Als je te maken hebt met een psychische kwetsbaarheid\, kun je daardoor erg overweldigd zijn. Maar herstel is mogelijk! Lotgenoten kunnen je daarbij ondersteunen. En jij kunt anderen ondersteunen bij hun herstel. \n\n\n\nJe hoeft het niet alleen te doen. Zoek de steun van lotgenoten in deze herstelgroep. Ze hebben vergelijkbare ervaring als jij en begrijpen je worsteling. Ze begrijpen je verhaal en helpen je vanuit hun eigen ervaring met herstel. De groep wordt begeleid door twee ervaringsdeskundigen.
URL:https://dehoofdzaak.org/agenda/krachtig-vanuit-kwetsbaarheid-wieringerwerf/2025-10-27/
LOCATION:De Cultuurschuur\, Loggersplein 1\, Wieringerwerf\, 1771 CE\, Netherlands
CATEGORIES:Kop Noord Holland
END:VEVENT
END:VCALENDAR