BEGIN:VCALENDAR
VERSION:2.0
PRODID:-//De Hoofdzaak - ECPv6.15.20//NONSGML v1.0//EN
CALSCALE:GREGORIAN
METHOD:PUBLISH
X-WR-CALNAME:De Hoofdzaak
X-ORIGINAL-URL:https://dehoofdzaak.org
X-WR-CALDESC:Evenementen voor De Hoofdzaak
REFRESH-INTERVAL;VALUE=DURATION:PT1H
X-Robots-Tag:noindex
X-PUBLISHED-TTL:PT1H
BEGIN:VTIMEZONE
TZID:Europe/Amsterdam
BEGIN:DAYLIGHT
TZOFFSETFROM:+0100
TZOFFSETTO:+0200
TZNAME:CEST
DTSTART:20270328T010000
END:DAYLIGHT
BEGIN:STANDARD
TZOFFSETFROM:+0200
TZOFFSETTO:+0100
TZNAME:CET
DTSTART:20271031T010000
END:STANDARD
BEGIN:DAYLIGHT
TZOFFSETFROM:+0100
TZOFFSETTO:+0200
TZNAME:CEST
DTSTART:20280326T010000
END:DAYLIGHT
BEGIN:STANDARD
TZOFFSETFROM:+0200
TZOFFSETTO:+0100
TZNAME:CET
DTSTART:20281029T010000
END:STANDARD
BEGIN:DAYLIGHT
TZOFFSETFROM:+0100
TZOFFSETTO:+0200
TZNAME:CEST
DTSTART:20290325T010000
END:DAYLIGHT
BEGIN:STANDARD
TZOFFSETFROM:+0200
TZOFFSETTO:+0100
TZNAME:CET
DTSTART:20291028T010000
END:STANDARD
BEGIN:DAYLIGHT
TZOFFSETFROM:+0100
TZOFFSETTO:+0200
TZNAME:CEST
DTSTART:20300331T010000
END:DAYLIGHT
BEGIN:STANDARD
TZOFFSETFROM:+0200
TZOFFSETTO:+0100
TZNAME:CET
DTSTART:20301027T010000
END:STANDARD
END:VTIMEZONE
BEGIN:VEVENT
DTSTART;TZID=Europe/Amsterdam:20280809T130000
DTEND;TZID=Europe/Amsterdam:20280809T150000
DTSTAMP:20260420T073609
CREATED:20241001T105952Z
LAST-MODIFIED:20241205T113306Z
UID:10005322-1849438800-1849446000@dehoofdzaak.org
SUMMARY:Schrijfclub Den Helder
DESCRIPTION:Als je van schrijven houdt\, dan ben je misschien op je plek bij de schrijfclub van De Hoofdzaak in Den Helder. We schrijven over alles wat het leven brengt. Over herinneringen\, eenzaamheid\, over sport en spel\, over dieren\, vakanties en andere thema’s. Door het schrijven delen we en zoeken we verbinding.
URL:https://dehoofdzaak.org/agenda/schrijfclub-den-helder-3/2028-08-09/
LOCATION:De Hoofdzaak Den Helder\, Bernhardplein 76 C\, Den Helder\, 1781 HK\, Nederland
CATEGORIES:Kop Noord Holland
END:VEVENT
BEGIN:VEVENT
DTSTART;TZID=Europe/Amsterdam:20280816T130000
DTEND;TZID=Europe/Amsterdam:20280816T150000
DTSTAMP:20260420T073609
CREATED:20241001T105952Z
LAST-MODIFIED:20241205T113306Z
UID:10005323-1850043600-1850050800@dehoofdzaak.org
SUMMARY:Schrijfclub Den Helder
DESCRIPTION:Als je van schrijven houdt\, dan ben je misschien op je plek bij de schrijfclub van De Hoofdzaak in Den Helder. We schrijven over alles wat het leven brengt. Over herinneringen\, eenzaamheid\, over sport en spel\, over dieren\, vakanties en andere thema’s. Door het schrijven delen we en zoeken we verbinding.
URL:https://dehoofdzaak.org/agenda/schrijfclub-den-helder-3/2028-08-16/
LOCATION:De Hoofdzaak Den Helder\, Bernhardplein 76 C\, Den Helder\, 1781 HK\, Nederland
CATEGORIES:Kop Noord Holland
END:VEVENT
BEGIN:VEVENT
DTSTART;TZID=Europe/Amsterdam:20280823T130000
DTEND;TZID=Europe/Amsterdam:20280823T150000
DTSTAMP:20260420T073609
CREATED:20241001T105952Z
LAST-MODIFIED:20241205T113306Z
UID:10010318-1850648400-1850655600@dehoofdzaak.org
SUMMARY:Schrijfclub Den Helder
DESCRIPTION:Als je van schrijven houdt\, dan ben je misschien op je plek bij de schrijfclub van De Hoofdzaak in Den Helder. We schrijven over alles wat het leven brengt. Over herinneringen\, eenzaamheid\, over sport en spel\, over dieren\, vakanties en andere thema’s. Door het schrijven delen we en zoeken we verbinding.
URL:https://dehoofdzaak.org/agenda/schrijfclub-den-helder-3/2028-08-23/
LOCATION:De Hoofdzaak Den Helder\, Bernhardplein 76 C\, Den Helder\, 1781 HK\, Nederland
CATEGORIES:Kop Noord Holland
END:VEVENT
BEGIN:VEVENT
DTSTART;TZID=Europe/Amsterdam:20280830T130000
DTEND;TZID=Europe/Amsterdam:20280830T150000
DTSTAMP:20260420T073609
CREATED:20241001T105952Z
LAST-MODIFIED:20241205T113306Z
UID:10010319-1851253200-1851260400@dehoofdzaak.org
SUMMARY:Schrijfclub Den Helder
DESCRIPTION:Als je van schrijven houdt\, dan ben je misschien op je plek bij de schrijfclub van De Hoofdzaak in Den Helder. We schrijven over alles wat het leven brengt. Over herinneringen\, eenzaamheid\, over sport en spel\, over dieren\, vakanties en andere thema’s. Door het schrijven delen we en zoeken we verbinding.
URL:https://dehoofdzaak.org/agenda/schrijfclub-den-helder-3/2028-08-30/
LOCATION:De Hoofdzaak Den Helder\, Bernhardplein 76 C\, Den Helder\, 1781 HK\, Nederland
CATEGORIES:Kop Noord Holland
END:VEVENT
BEGIN:VEVENT
DTSTART;TZID=Europe/Amsterdam:20280906T130000
DTEND;TZID=Europe/Amsterdam:20280906T150000
DTSTAMP:20260420T073609
CREATED:20241001T105952Z
LAST-MODIFIED:20241205T113306Z
UID:10010320-1851858000-1851865200@dehoofdzaak.org
SUMMARY:Schrijfclub Den Helder
DESCRIPTION:Als je van schrijven houdt\, dan ben je misschien op je plek bij de schrijfclub van De Hoofdzaak in Den Helder. We schrijven over alles wat het leven brengt. Over herinneringen\, eenzaamheid\, over sport en spel\, over dieren\, vakanties en andere thema’s. Door het schrijven delen we en zoeken we verbinding.
URL:https://dehoofdzaak.org/agenda/schrijfclub-den-helder-3/2028-09-06/
LOCATION:De Hoofdzaak Den Helder\, Bernhardplein 76 C\, Den Helder\, 1781 HK\, Nederland
CATEGORIES:Kop Noord Holland
END:VEVENT
BEGIN:VEVENT
DTSTART;TZID=Europe/Amsterdam:20280913T130000
DTEND;TZID=Europe/Amsterdam:20280913T150000
DTSTAMP:20260420T073609
CREATED:20241001T105952Z
LAST-MODIFIED:20241205T113306Z
UID:10010321-1852462800-1852470000@dehoofdzaak.org
SUMMARY:Schrijfclub Den Helder
DESCRIPTION:Als je van schrijven houdt\, dan ben je misschien op je plek bij de schrijfclub van De Hoofdzaak in Den Helder. We schrijven over alles wat het leven brengt. Over herinneringen\, eenzaamheid\, over sport en spel\, over dieren\, vakanties en andere thema’s. Door het schrijven delen we en zoeken we verbinding.
URL:https://dehoofdzaak.org/agenda/schrijfclub-den-helder-3/2028-09-13/
LOCATION:De Hoofdzaak Den Helder\, Bernhardplein 76 C\, Den Helder\, 1781 HK\, Nederland
CATEGORIES:Kop Noord Holland
END:VEVENT
BEGIN:VEVENT
DTSTART;TZID=Europe/Amsterdam:20280920T130000
DTEND;TZID=Europe/Amsterdam:20280920T150000
DTSTAMP:20260420T073609
CREATED:20241001T105952Z
LAST-MODIFIED:20241205T113306Z
UID:10010322-1853067600-1853074800@dehoofdzaak.org
SUMMARY:Schrijfclub Den Helder
DESCRIPTION:Als je van schrijven houdt\, dan ben je misschien op je plek bij de schrijfclub van De Hoofdzaak in Den Helder. We schrijven over alles wat het leven brengt. Over herinneringen\, eenzaamheid\, over sport en spel\, over dieren\, vakanties en andere thema’s. Door het schrijven delen we en zoeken we verbinding.
URL:https://dehoofdzaak.org/agenda/schrijfclub-den-helder-3/2028-09-20/
LOCATION:De Hoofdzaak Den Helder\, Bernhardplein 76 C\, Den Helder\, 1781 HK\, Nederland
CATEGORIES:Kop Noord Holland
END:VEVENT
BEGIN:VEVENT
DTSTART;TZID=Europe/Amsterdam:20280927T130000
DTEND;TZID=Europe/Amsterdam:20280927T150000
DTSTAMP:20260420T073609
CREATED:20241001T105952Z
LAST-MODIFIED:20241205T113306Z
UID:10010323-1853672400-1853679600@dehoofdzaak.org
SUMMARY:Schrijfclub Den Helder
DESCRIPTION:Als je van schrijven houdt\, dan ben je misschien op je plek bij de schrijfclub van De Hoofdzaak in Den Helder. We schrijven over alles wat het leven brengt. Over herinneringen\, eenzaamheid\, over sport en spel\, over dieren\, vakanties en andere thema’s. Door het schrijven delen we en zoeken we verbinding.
URL:https://dehoofdzaak.org/agenda/schrijfclub-den-helder-3/2028-09-27/
LOCATION:De Hoofdzaak Den Helder\, Bernhardplein 76 C\, Den Helder\, 1781 HK\, Nederland
CATEGORIES:Kop Noord Holland
END:VEVENT
BEGIN:VEVENT
DTSTART;TZID=Europe/Amsterdam:20281004T130000
DTEND;TZID=Europe/Amsterdam:20281004T150000
DTSTAMP:20260420T073609
CREATED:20241001T105952Z
LAST-MODIFIED:20241205T113306Z
UID:10010324-1854277200-1854284400@dehoofdzaak.org
SUMMARY:Schrijfclub Den Helder
DESCRIPTION:Als je van schrijven houdt\, dan ben je misschien op je plek bij de schrijfclub van De Hoofdzaak in Den Helder. We schrijven over alles wat het leven brengt. Over herinneringen\, eenzaamheid\, over sport en spel\, over dieren\, vakanties en andere thema’s. Door het schrijven delen we en zoeken we verbinding.
URL:https://dehoofdzaak.org/agenda/schrijfclub-den-helder-3/2028-10-04/
LOCATION:De Hoofdzaak Den Helder\, Bernhardplein 76 C\, Den Helder\, 1781 HK\, Nederland
CATEGORIES:Kop Noord Holland
END:VEVENT
BEGIN:VEVENT
DTSTART;TZID=Europe/Amsterdam:20281011T130000
DTEND;TZID=Europe/Amsterdam:20281011T150000
DTSTAMP:20260420T073609
CREATED:20241001T105952Z
LAST-MODIFIED:20241205T113306Z
UID:10010325-1854882000-1854889200@dehoofdzaak.org
SUMMARY:Schrijfclub Den Helder
DESCRIPTION:Als je van schrijven houdt\, dan ben je misschien op je plek bij de schrijfclub van De Hoofdzaak in Den Helder. We schrijven over alles wat het leven brengt. Over herinneringen\, eenzaamheid\, over sport en spel\, over dieren\, vakanties en andere thema’s. Door het schrijven delen we en zoeken we verbinding.
URL:https://dehoofdzaak.org/agenda/schrijfclub-den-helder-3/2028-10-11/
LOCATION:De Hoofdzaak Den Helder\, Bernhardplein 76 C\, Den Helder\, 1781 HK\, Nederland
CATEGORIES:Kop Noord Holland
END:VEVENT
BEGIN:VEVENT
DTSTART;TZID=Europe/Amsterdam:20281018T130000
DTEND;TZID=Europe/Amsterdam:20281018T150000
DTSTAMP:20260420T073609
CREATED:20241001T105952Z
LAST-MODIFIED:20241205T113306Z
UID:10010326-1855486800-1855494000@dehoofdzaak.org
SUMMARY:Schrijfclub Den Helder
DESCRIPTION:Als je van schrijven houdt\, dan ben je misschien op je plek bij de schrijfclub van De Hoofdzaak in Den Helder. We schrijven over alles wat het leven brengt. Over herinneringen\, eenzaamheid\, over sport en spel\, over dieren\, vakanties en andere thema’s. Door het schrijven delen we en zoeken we verbinding.
URL:https://dehoofdzaak.org/agenda/schrijfclub-den-helder-3/2028-10-18/
LOCATION:De Hoofdzaak Den Helder\, Bernhardplein 76 C\, Den Helder\, 1781 HK\, Nederland
CATEGORIES:Kop Noord Holland
END:VEVENT
BEGIN:VEVENT
DTSTART;TZID=Europe/Amsterdam:20281025T130000
DTEND;TZID=Europe/Amsterdam:20281025T150000
DTSTAMP:20260420T073609
CREATED:20241001T105952Z
LAST-MODIFIED:20241205T113306Z
UID:10010327-1856091600-1856098800@dehoofdzaak.org
SUMMARY:Schrijfclub Den Helder
DESCRIPTION:Als je van schrijven houdt\, dan ben je misschien op je plek bij de schrijfclub van De Hoofdzaak in Den Helder. We schrijven over alles wat het leven brengt. Over herinneringen\, eenzaamheid\, over sport en spel\, over dieren\, vakanties en andere thema’s. Door het schrijven delen we en zoeken we verbinding.
URL:https://dehoofdzaak.org/agenda/schrijfclub-den-helder-3/2028-10-25/
LOCATION:De Hoofdzaak Den Helder\, Bernhardplein 76 C\, Den Helder\, 1781 HK\, Nederland
CATEGORIES:Kop Noord Holland
END:VEVENT
BEGIN:VEVENT
DTSTART;TZID=Europe/Amsterdam:20281101T130000
DTEND;TZID=Europe/Amsterdam:20281101T150000
DTSTAMP:20260420T073609
CREATED:20241001T105952Z
LAST-MODIFIED:20241205T113306Z
UID:10010328-1856696400-1856703600@dehoofdzaak.org
SUMMARY:Schrijfclub Den Helder
DESCRIPTION:Als je van schrijven houdt\, dan ben je misschien op je plek bij de schrijfclub van De Hoofdzaak in Den Helder. We schrijven over alles wat het leven brengt. Over herinneringen\, eenzaamheid\, over sport en spel\, over dieren\, vakanties en andere thema’s. Door het schrijven delen we en zoeken we verbinding.
URL:https://dehoofdzaak.org/agenda/schrijfclub-den-helder-3/2028-11-01/
LOCATION:De Hoofdzaak Den Helder\, Bernhardplein 76 C\, Den Helder\, 1781 HK\, Nederland
CATEGORIES:Kop Noord Holland
END:VEVENT
BEGIN:VEVENT
DTSTART;TZID=Europe/Amsterdam:20281108T130000
DTEND;TZID=Europe/Amsterdam:20281108T150000
DTSTAMP:20260420T073609
CREATED:20241001T105952Z
LAST-MODIFIED:20241205T113306Z
UID:10010329-1857301200-1857308400@dehoofdzaak.org
SUMMARY:Schrijfclub Den Helder
DESCRIPTION:Als je van schrijven houdt\, dan ben je misschien op je plek bij de schrijfclub van De Hoofdzaak in Den Helder. We schrijven over alles wat het leven brengt. Over herinneringen\, eenzaamheid\, over sport en spel\, over dieren\, vakanties en andere thema’s. Door het schrijven delen we en zoeken we verbinding.
URL:https://dehoofdzaak.org/agenda/schrijfclub-den-helder-3/2028-11-08/
LOCATION:De Hoofdzaak Den Helder\, Bernhardplein 76 C\, Den Helder\, 1781 HK\, Nederland
CATEGORIES:Kop Noord Holland
END:VEVENT
BEGIN:VEVENT
DTSTART;TZID=Europe/Amsterdam:20281115T130000
DTEND;TZID=Europe/Amsterdam:20281115T150000
DTSTAMP:20260420T073609
CREATED:20241001T105952Z
LAST-MODIFIED:20241205T113306Z
UID:10010330-1857906000-1857913200@dehoofdzaak.org
SUMMARY:Schrijfclub Den Helder
DESCRIPTION:Als je van schrijven houdt\, dan ben je misschien op je plek bij de schrijfclub van De Hoofdzaak in Den Helder. We schrijven over alles wat het leven brengt. Over herinneringen\, eenzaamheid\, over sport en spel\, over dieren\, vakanties en andere thema’s. Door het schrijven delen we en zoeken we verbinding.
URL:https://dehoofdzaak.org/agenda/schrijfclub-den-helder-3/2028-11-15/
LOCATION:De Hoofdzaak Den Helder\, Bernhardplein 76 C\, Den Helder\, 1781 HK\, Nederland
CATEGORIES:Kop Noord Holland
END:VEVENT
BEGIN:VEVENT
DTSTART;TZID=Europe/Amsterdam:20281122T130000
DTEND;TZID=Europe/Amsterdam:20281122T150000
DTSTAMP:20260420T073609
CREATED:20241001T105952Z
LAST-MODIFIED:20241205T113306Z
UID:10010331-1858510800-1858518000@dehoofdzaak.org
SUMMARY:Schrijfclub Den Helder
DESCRIPTION:Als je van schrijven houdt\, dan ben je misschien op je plek bij de schrijfclub van De Hoofdzaak in Den Helder. We schrijven over alles wat het leven brengt. Over herinneringen\, eenzaamheid\, over sport en spel\, over dieren\, vakanties en andere thema’s. Door het schrijven delen we en zoeken we verbinding.
URL:https://dehoofdzaak.org/agenda/schrijfclub-den-helder-3/2028-11-22/
LOCATION:De Hoofdzaak Den Helder\, Bernhardplein 76 C\, Den Helder\, 1781 HK\, Nederland
CATEGORIES:Kop Noord Holland
END:VEVENT
BEGIN:VEVENT
DTSTART;TZID=Europe/Amsterdam:20281129T130000
DTEND;TZID=Europe/Amsterdam:20281129T150000
DTSTAMP:20260420T073609
CREATED:20241001T105952Z
LAST-MODIFIED:20241205T113306Z
UID:10010332-1859115600-1859122800@dehoofdzaak.org
SUMMARY:Schrijfclub Den Helder
DESCRIPTION:Als je van schrijven houdt\, dan ben je misschien op je plek bij de schrijfclub van De Hoofdzaak in Den Helder. We schrijven over alles wat het leven brengt. Over herinneringen\, eenzaamheid\, over sport en spel\, over dieren\, vakanties en andere thema’s. Door het schrijven delen we en zoeken we verbinding.
URL:https://dehoofdzaak.org/agenda/schrijfclub-den-helder-3/2028-11-29/
LOCATION:De Hoofdzaak Den Helder\, Bernhardplein 76 C\, Den Helder\, 1781 HK\, Nederland
CATEGORIES:Kop Noord Holland
END:VEVENT
BEGIN:VEVENT
DTSTART;TZID=Europe/Amsterdam:20281206T130000
DTEND;TZID=Europe/Amsterdam:20281206T150000
DTSTAMP:20260420T073609
CREATED:20241001T105952Z
LAST-MODIFIED:20241205T113306Z
UID:10020816-1859720400-1859727600@dehoofdzaak.org
SUMMARY:Schrijfclub Den Helder
DESCRIPTION:Als je van schrijven houdt\, dan ben je misschien op je plek bij de schrijfclub van De Hoofdzaak in Den Helder. We schrijven over alles wat het leven brengt. Over herinneringen\, eenzaamheid\, over sport en spel\, over dieren\, vakanties en andere thema’s. Door het schrijven delen we en zoeken we verbinding.
URL:https://dehoofdzaak.org/agenda/schrijfclub-den-helder-3/2028-12-06/
LOCATION:De Hoofdzaak Den Helder\, Bernhardplein 76 C\, Den Helder\, 1781 HK\, Nederland
CATEGORIES:Kop Noord Holland
END:VEVENT
BEGIN:VEVENT
DTSTART;TZID=Europe/Amsterdam:20281213T130000
DTEND;TZID=Europe/Amsterdam:20281213T150000
DTSTAMP:20260420T073609
CREATED:20241001T105952Z
LAST-MODIFIED:20241205T113306Z
UID:10020817-1860325200-1860332400@dehoofdzaak.org
SUMMARY:Schrijfclub Den Helder
DESCRIPTION:Als je van schrijven houdt\, dan ben je misschien op je plek bij de schrijfclub van De Hoofdzaak in Den Helder. We schrijven over alles wat het leven brengt. Over herinneringen\, eenzaamheid\, over sport en spel\, over dieren\, vakanties en andere thema’s. Door het schrijven delen we en zoeken we verbinding.
URL:https://dehoofdzaak.org/agenda/schrijfclub-den-helder-3/2028-12-13/
LOCATION:De Hoofdzaak Den Helder\, Bernhardplein 76 C\, Den Helder\, 1781 HK\, Nederland
CATEGORIES:Kop Noord Holland
END:VEVENT
BEGIN:VEVENT
DTSTART;TZID=Europe/Amsterdam:20281220T130000
DTEND;TZID=Europe/Amsterdam:20281220T150000
DTSTAMP:20260420T073609
CREATED:20241001T105952Z
LAST-MODIFIED:20241205T113306Z
UID:10020818-1860930000-1860937200@dehoofdzaak.org
SUMMARY:Schrijfclub Den Helder
DESCRIPTION:Als je van schrijven houdt\, dan ben je misschien op je plek bij de schrijfclub van De Hoofdzaak in Den Helder. We schrijven over alles wat het leven brengt. Over herinneringen\, eenzaamheid\, over sport en spel\, over dieren\, vakanties en andere thema’s. Door het schrijven delen we en zoeken we verbinding.
URL:https://dehoofdzaak.org/agenda/schrijfclub-den-helder-3/2028-12-20/
LOCATION:De Hoofdzaak Den Helder\, Bernhardplein 76 C\, Den Helder\, 1781 HK\, Nederland
CATEGORIES:Kop Noord Holland
END:VEVENT
BEGIN:VEVENT
DTSTART;TZID=Europe/Amsterdam:20281227T130000
DTEND;TZID=Europe/Amsterdam:20281227T150000
DTSTAMP:20260420T073609
CREATED:20241001T105952Z
LAST-MODIFIED:20241205T113306Z
UID:10020819-1861534800-1861542000@dehoofdzaak.org
SUMMARY:Schrijfclub Den Helder
DESCRIPTION:Als je van schrijven houdt\, dan ben je misschien op je plek bij de schrijfclub van De Hoofdzaak in Den Helder. We schrijven over alles wat het leven brengt. Over herinneringen\, eenzaamheid\, over sport en spel\, over dieren\, vakanties en andere thema’s. Door het schrijven delen we en zoeken we verbinding.
URL:https://dehoofdzaak.org/agenda/schrijfclub-den-helder-3/2028-12-27/
LOCATION:De Hoofdzaak Den Helder\, Bernhardplein 76 C\, Den Helder\, 1781 HK\, Nederland
CATEGORIES:Kop Noord Holland
END:VEVENT
BEGIN:VEVENT
DTSTART;TZID=Europe/Amsterdam:20290103T130000
DTEND;TZID=Europe/Amsterdam:20290103T150000
DTSTAMP:20260420T073609
CREATED:20241001T105952Z
LAST-MODIFIED:20241205T113306Z
UID:10020820-1862139600-1862146800@dehoofdzaak.org
SUMMARY:Schrijfclub Den Helder
DESCRIPTION:Als je van schrijven houdt\, dan ben je misschien op je plek bij de schrijfclub van De Hoofdzaak in Den Helder. We schrijven over alles wat het leven brengt. Over herinneringen\, eenzaamheid\, over sport en spel\, over dieren\, vakanties en andere thema’s. Door het schrijven delen we en zoeken we verbinding.
URL:https://dehoofdzaak.org/agenda/schrijfclub-den-helder-3/2029-01-03/
LOCATION:De Hoofdzaak Den Helder\, Bernhardplein 76 C\, Den Helder\, 1781 HK\, Nederland
CATEGORIES:Kop Noord Holland
END:VEVENT
BEGIN:VEVENT
DTSTART;TZID=Europe/Amsterdam:20290110T130000
DTEND;TZID=Europe/Amsterdam:20290110T150000
DTSTAMP:20260420T073609
CREATED:20241001T105952Z
LAST-MODIFIED:20241205T113306Z
UID:10020821-1862744400-1862751600@dehoofdzaak.org
SUMMARY:Schrijfclub Den Helder
DESCRIPTION:Als je van schrijven houdt\, dan ben je misschien op je plek bij de schrijfclub van De Hoofdzaak in Den Helder. We schrijven over alles wat het leven brengt. Over herinneringen\, eenzaamheid\, over sport en spel\, over dieren\, vakanties en andere thema’s. Door het schrijven delen we en zoeken we verbinding.
URL:https://dehoofdzaak.org/agenda/schrijfclub-den-helder-3/2029-01-10/
LOCATION:De Hoofdzaak Den Helder\, Bernhardplein 76 C\, Den Helder\, 1781 HK\, Nederland
CATEGORIES:Kop Noord Holland
END:VEVENT
BEGIN:VEVENT
DTSTART;TZID=Europe/Amsterdam:20290117T130000
DTEND;TZID=Europe/Amsterdam:20290117T150000
DTSTAMP:20260420T073609
CREATED:20241001T105952Z
LAST-MODIFIED:20241205T113306Z
UID:10020822-1863349200-1863356400@dehoofdzaak.org
SUMMARY:Schrijfclub Den Helder
DESCRIPTION:Als je van schrijven houdt\, dan ben je misschien op je plek bij de schrijfclub van De Hoofdzaak in Den Helder. We schrijven over alles wat het leven brengt. Over herinneringen\, eenzaamheid\, over sport en spel\, over dieren\, vakanties en andere thema’s. Door het schrijven delen we en zoeken we verbinding.
URL:https://dehoofdzaak.org/agenda/schrijfclub-den-helder-3/2029-01-17/
LOCATION:De Hoofdzaak Den Helder\, Bernhardplein 76 C\, Den Helder\, 1781 HK\, Nederland
CATEGORIES:Kop Noord Holland
END:VEVENT
BEGIN:VEVENT
DTSTART;TZID=Europe/Amsterdam:20290124T130000
DTEND;TZID=Europe/Amsterdam:20290124T150000
DTSTAMP:20260420T073609
CREATED:20241001T105952Z
LAST-MODIFIED:20241205T113306Z
UID:10020823-1863954000-1863961200@dehoofdzaak.org
SUMMARY:Schrijfclub Den Helder
DESCRIPTION:Als je van schrijven houdt\, dan ben je misschien op je plek bij de schrijfclub van De Hoofdzaak in Den Helder. We schrijven over alles wat het leven brengt. Over herinneringen\, eenzaamheid\, over sport en spel\, over dieren\, vakanties en andere thema’s. Door het schrijven delen we en zoeken we verbinding.
URL:https://dehoofdzaak.org/agenda/schrijfclub-den-helder-3/2029-01-24/
LOCATION:De Hoofdzaak Den Helder\, Bernhardplein 76 C\, Den Helder\, 1781 HK\, Nederland
CATEGORIES:Kop Noord Holland
END:VEVENT
BEGIN:VEVENT
DTSTART;TZID=Europe/Amsterdam:20290131T130000
DTEND;TZID=Europe/Amsterdam:20290131T150000
DTSTAMP:20260420T073609
CREATED:20241001T105952Z
LAST-MODIFIED:20241205T113306Z
UID:10020824-1864558800-1864566000@dehoofdzaak.org
SUMMARY:Schrijfclub Den Helder
DESCRIPTION:Als je van schrijven houdt\, dan ben je misschien op je plek bij de schrijfclub van De Hoofdzaak in Den Helder. We schrijven over alles wat het leven brengt. Over herinneringen\, eenzaamheid\, over sport en spel\, over dieren\, vakanties en andere thema’s. Door het schrijven delen we en zoeken we verbinding.
URL:https://dehoofdzaak.org/agenda/schrijfclub-den-helder-3/2029-01-31/
LOCATION:De Hoofdzaak Den Helder\, Bernhardplein 76 C\, Den Helder\, 1781 HK\, Nederland
CATEGORIES:Kop Noord Holland
END:VEVENT
BEGIN:VEVENT
DTSTART;TZID=Europe/Amsterdam:20290207T130000
DTEND;TZID=Europe/Amsterdam:20290207T150000
DTSTAMP:20260420T073609
CREATED:20241001T105952Z
LAST-MODIFIED:20241205T113306Z
UID:10020825-1865163600-1865170800@dehoofdzaak.org
SUMMARY:Schrijfclub Den Helder
DESCRIPTION:Als je van schrijven houdt\, dan ben je misschien op je plek bij de schrijfclub van De Hoofdzaak in Den Helder. We schrijven over alles wat het leven brengt. Over herinneringen\, eenzaamheid\, over sport en spel\, over dieren\, vakanties en andere thema’s. Door het schrijven delen we en zoeken we verbinding.
URL:https://dehoofdzaak.org/agenda/schrijfclub-den-helder-3/2029-02-07/
LOCATION:De Hoofdzaak Den Helder\, Bernhardplein 76 C\, Den Helder\, 1781 HK\, Nederland
CATEGORIES:Kop Noord Holland
END:VEVENT
BEGIN:VEVENT
DTSTART;TZID=Europe/Amsterdam:20290214T130000
DTEND;TZID=Europe/Amsterdam:20290214T150000
DTSTAMP:20260420T073609
CREATED:20241001T105952Z
LAST-MODIFIED:20241205T113306Z
UID:10020826-1865768400-1865775600@dehoofdzaak.org
SUMMARY:Schrijfclub Den Helder
DESCRIPTION:Als je van schrijven houdt\, dan ben je misschien op je plek bij de schrijfclub van De Hoofdzaak in Den Helder. We schrijven over alles wat het leven brengt. Over herinneringen\, eenzaamheid\, over sport en spel\, over dieren\, vakanties en andere thema’s. Door het schrijven delen we en zoeken we verbinding.
URL:https://dehoofdzaak.org/agenda/schrijfclub-den-helder-3/2029-02-14/
LOCATION:De Hoofdzaak Den Helder\, Bernhardplein 76 C\, Den Helder\, 1781 HK\, Nederland
CATEGORIES:Kop Noord Holland
END:VEVENT
BEGIN:VEVENT
DTSTART;TZID=Europe/Amsterdam:20290221T130000
DTEND;TZID=Europe/Amsterdam:20290221T150000
DTSTAMP:20260420T073609
CREATED:20241001T105952Z
LAST-MODIFIED:20241205T113306Z
UID:10020827-1866373200-1866380400@dehoofdzaak.org
SUMMARY:Schrijfclub Den Helder
DESCRIPTION:Als je van schrijven houdt\, dan ben je misschien op je plek bij de schrijfclub van De Hoofdzaak in Den Helder. We schrijven over alles wat het leven brengt. Over herinneringen\, eenzaamheid\, over sport en spel\, over dieren\, vakanties en andere thema’s. Door het schrijven delen we en zoeken we verbinding.
URL:https://dehoofdzaak.org/agenda/schrijfclub-den-helder-3/2029-02-21/
LOCATION:De Hoofdzaak Den Helder\, Bernhardplein 76 C\, Den Helder\, 1781 HK\, Nederland
CATEGORIES:Kop Noord Holland
END:VEVENT
BEGIN:VEVENT
DTSTART;TZID=Europe/Amsterdam:20290228T130000
DTEND;TZID=Europe/Amsterdam:20290228T150000
DTSTAMP:20260420T073609
CREATED:20241001T105952Z
LAST-MODIFIED:20241205T113306Z
UID:10020828-1866978000-1866985200@dehoofdzaak.org
SUMMARY:Schrijfclub Den Helder
DESCRIPTION:Als je van schrijven houdt\, dan ben je misschien op je plek bij de schrijfclub van De Hoofdzaak in Den Helder. We schrijven over alles wat het leven brengt. Over herinneringen\, eenzaamheid\, over sport en spel\, over dieren\, vakanties en andere thema’s. Door het schrijven delen we en zoeken we verbinding.
URL:https://dehoofdzaak.org/agenda/schrijfclub-den-helder-3/2029-02-28/
LOCATION:De Hoofdzaak Den Helder\, Bernhardplein 76 C\, Den Helder\, 1781 HK\, Nederland
CATEGORIES:Kop Noord Holland
END:VEVENT
END:VCALENDAR