BEGIN:VCALENDAR
VERSION:2.0
PRODID:-//De Hoofdzaak - ECPv6.15.20//NONSGML v1.0//EN
CALSCALE:GREGORIAN
METHOD:PUBLISH
X-ORIGINAL-URL:https://dehoofdzaak.org
X-WR-CALDESC:Evenementen voor De Hoofdzaak
REFRESH-INTERVAL;VALUE=DURATION:PT1H
X-Robots-Tag:noindex
X-PUBLISHED-TTL:PT1H
BEGIN:VTIMEZONE
TZID:Europe/Amsterdam
BEGIN:DAYLIGHT
TZOFFSETFROM:+0100
TZOFFSETTO:+0200
TZNAME:CEST
DTSTART:20280326T010000
END:DAYLIGHT
BEGIN:STANDARD
TZOFFSETFROM:+0200
TZOFFSETTO:+0100
TZNAME:CET
DTSTART:20281029T010000
END:STANDARD
BEGIN:DAYLIGHT
TZOFFSETFROM:+0100
TZOFFSETTO:+0200
TZNAME:CEST
DTSTART:20290325T010000
END:DAYLIGHT
BEGIN:STANDARD
TZOFFSETFROM:+0200
TZOFFSETTO:+0100
TZNAME:CET
DTSTART:20291028T010000
END:STANDARD
BEGIN:DAYLIGHT
TZOFFSETFROM:+0100
TZOFFSETTO:+0200
TZNAME:CEST
DTSTART:20300331T010000
END:DAYLIGHT
BEGIN:STANDARD
TZOFFSETFROM:+0200
TZOFFSETTO:+0100
TZNAME:CET
DTSTART:20301027T010000
END:STANDARD
END:VTIMEZONE
BEGIN:VEVENT
DTSTART;TZID=Europe/Amsterdam:20290418T130000
DTEND;TZID=Europe/Amsterdam:20290418T150000
DTSTAMP:20260420T131839
CREATED:20241001T105952Z
LAST-MODIFIED:20241205T113306Z
UID:10020835-1871211600-1871218800@dehoofdzaak.org
SUMMARY:Schrijfclub Den Helder
DESCRIPTION:Als je van schrijven houdt\, dan ben je misschien op je plek bij de schrijfclub van De Hoofdzaak in Den Helder. We schrijven over alles wat het leven brengt. Over herinneringen\, eenzaamheid\, over sport en spel\, over dieren\, vakanties en andere thema’s. Door het schrijven delen we en zoeken we verbinding.
URL:https://dehoofdzaak.org/agenda/schrijfclub-den-helder-3/2029-04-18/
LOCATION:De Hoofdzaak Den Helder\, Bernhardplein 76 C\, Den Helder\, 1781 HK\, Nederland
CATEGORIES:Kop Noord Holland
END:VEVENT
BEGIN:VEVENT
DTSTART;TZID=Europe/Amsterdam:20290425T130000
DTEND;TZID=Europe/Amsterdam:20290425T150000
DTSTAMP:20260420T131839
CREATED:20241001T105952Z
LAST-MODIFIED:20241205T113306Z
UID:10020836-1871816400-1871823600@dehoofdzaak.org
SUMMARY:Schrijfclub Den Helder
DESCRIPTION:Als je van schrijven houdt\, dan ben je misschien op je plek bij de schrijfclub van De Hoofdzaak in Den Helder. We schrijven over alles wat het leven brengt. Over herinneringen\, eenzaamheid\, over sport en spel\, over dieren\, vakanties en andere thema’s. Door het schrijven delen we en zoeken we verbinding.
URL:https://dehoofdzaak.org/agenda/schrijfclub-den-helder-3/2029-04-25/
LOCATION:De Hoofdzaak Den Helder\, Bernhardplein 76 C\, Den Helder\, 1781 HK\, Nederland
CATEGORIES:Kop Noord Holland
END:VEVENT
BEGIN:VEVENT
DTSTART;TZID=Europe/Amsterdam:20290502T130000
DTEND;TZID=Europe/Amsterdam:20290502T150000
DTSTAMP:20260420T131839
CREATED:20241001T105952Z
LAST-MODIFIED:20241205T113306Z
UID:10020837-1872421200-1872428400@dehoofdzaak.org
SUMMARY:Schrijfclub Den Helder
DESCRIPTION:Als je van schrijven houdt\, dan ben je misschien op je plek bij de schrijfclub van De Hoofdzaak in Den Helder. We schrijven over alles wat het leven brengt. Over herinneringen\, eenzaamheid\, over sport en spel\, over dieren\, vakanties en andere thema’s. Door het schrijven delen we en zoeken we verbinding.
URL:https://dehoofdzaak.org/agenda/schrijfclub-den-helder-3/2029-05-02/
LOCATION:De Hoofdzaak Den Helder\, Bernhardplein 76 C\, Den Helder\, 1781 HK\, Nederland
CATEGORIES:Kop Noord Holland
END:VEVENT
BEGIN:VEVENT
DTSTART;TZID=Europe/Amsterdam:20290509T130000
DTEND;TZID=Europe/Amsterdam:20290509T150000
DTSTAMP:20260420T131839
CREATED:20241001T105952Z
LAST-MODIFIED:20241205T113306Z
UID:10020838-1873026000-1873033200@dehoofdzaak.org
SUMMARY:Schrijfclub Den Helder
DESCRIPTION:Als je van schrijven houdt\, dan ben je misschien op je plek bij de schrijfclub van De Hoofdzaak in Den Helder. We schrijven over alles wat het leven brengt. Over herinneringen\, eenzaamheid\, over sport en spel\, over dieren\, vakanties en andere thema’s. Door het schrijven delen we en zoeken we verbinding.
URL:https://dehoofdzaak.org/agenda/schrijfclub-den-helder-3/2029-05-09/
LOCATION:De Hoofdzaak Den Helder\, Bernhardplein 76 C\, Den Helder\, 1781 HK\, Nederland
CATEGORIES:Kop Noord Holland
END:VEVENT
BEGIN:VEVENT
DTSTART;TZID=Europe/Amsterdam:20290516T130000
DTEND;TZID=Europe/Amsterdam:20290516T150000
DTSTAMP:20260420T131839
CREATED:20241001T105952Z
LAST-MODIFIED:20241205T113306Z
UID:10020839-1873630800-1873638000@dehoofdzaak.org
SUMMARY:Schrijfclub Den Helder
DESCRIPTION:Als je van schrijven houdt\, dan ben je misschien op je plek bij de schrijfclub van De Hoofdzaak in Den Helder. We schrijven over alles wat het leven brengt. Over herinneringen\, eenzaamheid\, over sport en spel\, over dieren\, vakanties en andere thema’s. Door het schrijven delen we en zoeken we verbinding.
URL:https://dehoofdzaak.org/agenda/schrijfclub-den-helder-3/2029-05-16/
LOCATION:De Hoofdzaak Den Helder\, Bernhardplein 76 C\, Den Helder\, 1781 HK\, Nederland
CATEGORIES:Kop Noord Holland
END:VEVENT
BEGIN:VEVENT
DTSTART;TZID=Europe/Amsterdam:20290523T130000
DTEND;TZID=Europe/Amsterdam:20290523T150000
DTSTAMP:20260420T131839
CREATED:20241001T105952Z
LAST-MODIFIED:20241205T113306Z
UID:10020840-1874235600-1874242800@dehoofdzaak.org
SUMMARY:Schrijfclub Den Helder
DESCRIPTION:Als je van schrijven houdt\, dan ben je misschien op je plek bij de schrijfclub van De Hoofdzaak in Den Helder. We schrijven over alles wat het leven brengt. Over herinneringen\, eenzaamheid\, over sport en spel\, over dieren\, vakanties en andere thema’s. Door het schrijven delen we en zoeken we verbinding.
URL:https://dehoofdzaak.org/agenda/schrijfclub-den-helder-3/2029-05-23/
LOCATION:De Hoofdzaak Den Helder\, Bernhardplein 76 C\, Den Helder\, 1781 HK\, Nederland
CATEGORIES:Kop Noord Holland
END:VEVENT
BEGIN:VEVENT
DTSTART;TZID=Europe/Amsterdam:20290530T130000
DTEND;TZID=Europe/Amsterdam:20290530T150000
DTSTAMP:20260420T131839
CREATED:20241001T105952Z
LAST-MODIFIED:20241205T113306Z
UID:10020841-1874840400-1874847600@dehoofdzaak.org
SUMMARY:Schrijfclub Den Helder
DESCRIPTION:Als je van schrijven houdt\, dan ben je misschien op je plek bij de schrijfclub van De Hoofdzaak in Den Helder. We schrijven over alles wat het leven brengt. Over herinneringen\, eenzaamheid\, over sport en spel\, over dieren\, vakanties en andere thema’s. Door het schrijven delen we en zoeken we verbinding.
URL:https://dehoofdzaak.org/agenda/schrijfclub-den-helder-3/2029-05-30/
LOCATION:De Hoofdzaak Den Helder\, Bernhardplein 76 C\, Den Helder\, 1781 HK\, Nederland
CATEGORIES:Kop Noord Holland
END:VEVENT
BEGIN:VEVENT
DTSTART;TZID=Europe/Amsterdam:20290606T130000
DTEND;TZID=Europe/Amsterdam:20290606T150000
DTSTAMP:20260420T131839
CREATED:20241001T105952Z
LAST-MODIFIED:20241205T113306Z
UID:10020842-1875445200-1875452400@dehoofdzaak.org
SUMMARY:Schrijfclub Den Helder
DESCRIPTION:Als je van schrijven houdt\, dan ben je misschien op je plek bij de schrijfclub van De Hoofdzaak in Den Helder. We schrijven over alles wat het leven brengt. Over herinneringen\, eenzaamheid\, over sport en spel\, over dieren\, vakanties en andere thema’s. Door het schrijven delen we en zoeken we verbinding.
URL:https://dehoofdzaak.org/agenda/schrijfclub-den-helder-3/2029-06-06/
LOCATION:De Hoofdzaak Den Helder\, Bernhardplein 76 C\, Den Helder\, 1781 HK\, Nederland
CATEGORIES:Kop Noord Holland
END:VEVENT
BEGIN:VEVENT
DTSTART;TZID=Europe/Amsterdam:20290613T130000
DTEND;TZID=Europe/Amsterdam:20290613T150000
DTSTAMP:20260420T131839
CREATED:20241001T105952Z
LAST-MODIFIED:20241205T113306Z
UID:10020843-1876050000-1876057200@dehoofdzaak.org
SUMMARY:Schrijfclub Den Helder
DESCRIPTION:Als je van schrijven houdt\, dan ben je misschien op je plek bij de schrijfclub van De Hoofdzaak in Den Helder. We schrijven over alles wat het leven brengt. Over herinneringen\, eenzaamheid\, over sport en spel\, over dieren\, vakanties en andere thema’s. Door het schrijven delen we en zoeken we verbinding.
URL:https://dehoofdzaak.org/agenda/schrijfclub-den-helder-3/2029-06-13/
LOCATION:De Hoofdzaak Den Helder\, Bernhardplein 76 C\, Den Helder\, 1781 HK\, Nederland
CATEGORIES:Kop Noord Holland
END:VEVENT
BEGIN:VEVENT
DTSTART;TZID=Europe/Amsterdam:20290620T130000
DTEND;TZID=Europe/Amsterdam:20290620T150000
DTSTAMP:20260420T131839
CREATED:20241001T105952Z
LAST-MODIFIED:20241205T113306Z
UID:10020844-1876654800-1876662000@dehoofdzaak.org
SUMMARY:Schrijfclub Den Helder
DESCRIPTION:Als je van schrijven houdt\, dan ben je misschien op je plek bij de schrijfclub van De Hoofdzaak in Den Helder. We schrijven over alles wat het leven brengt. Over herinneringen\, eenzaamheid\, over sport en spel\, over dieren\, vakanties en andere thema’s. Door het schrijven delen we en zoeken we verbinding.
URL:https://dehoofdzaak.org/agenda/schrijfclub-den-helder-3/2029-06-20/
LOCATION:De Hoofdzaak Den Helder\, Bernhardplein 76 C\, Den Helder\, 1781 HK\, Nederland
CATEGORIES:Kop Noord Holland
END:VEVENT
BEGIN:VEVENT
DTSTART;TZID=Europe/Amsterdam:20290627T130000
DTEND;TZID=Europe/Amsterdam:20290627T150000
DTSTAMP:20260420T131839
CREATED:20241001T105952Z
LAST-MODIFIED:20241205T113306Z
UID:10020845-1877259600-1877266800@dehoofdzaak.org
SUMMARY:Schrijfclub Den Helder
DESCRIPTION:Als je van schrijven houdt\, dan ben je misschien op je plek bij de schrijfclub van De Hoofdzaak in Den Helder. We schrijven over alles wat het leven brengt. Over herinneringen\, eenzaamheid\, over sport en spel\, over dieren\, vakanties en andere thema’s. Door het schrijven delen we en zoeken we verbinding.
URL:https://dehoofdzaak.org/agenda/schrijfclub-den-helder-3/2029-06-27/
LOCATION:De Hoofdzaak Den Helder\, Bernhardplein 76 C\, Den Helder\, 1781 HK\, Nederland
CATEGORIES:Kop Noord Holland
END:VEVENT
BEGIN:VEVENT
DTSTART;TZID=Europe/Amsterdam:20290704T130000
DTEND;TZID=Europe/Amsterdam:20290704T150000
DTSTAMP:20260420T131839
CREATED:20241001T105952Z
LAST-MODIFIED:20241205T113306Z
UID:10020846-1877864400-1877871600@dehoofdzaak.org
SUMMARY:Schrijfclub Den Helder
DESCRIPTION:Als je van schrijven houdt\, dan ben je misschien op je plek bij de schrijfclub van De Hoofdzaak in Den Helder. We schrijven over alles wat het leven brengt. Over herinneringen\, eenzaamheid\, over sport en spel\, over dieren\, vakanties en andere thema’s. Door het schrijven delen we en zoeken we verbinding.
URL:https://dehoofdzaak.org/agenda/schrijfclub-den-helder-3/2029-07-04/
LOCATION:De Hoofdzaak Den Helder\, Bernhardplein 76 C\, Den Helder\, 1781 HK\, Nederland
CATEGORIES:Kop Noord Holland
END:VEVENT
BEGIN:VEVENT
DTSTART;TZID=Europe/Amsterdam:20290711T130000
DTEND;TZID=Europe/Amsterdam:20290711T150000
DTSTAMP:20260420T131839
CREATED:20241001T105952Z
LAST-MODIFIED:20241205T113306Z
UID:10020847-1878469200-1878476400@dehoofdzaak.org
SUMMARY:Schrijfclub Den Helder
DESCRIPTION:Als je van schrijven houdt\, dan ben je misschien op je plek bij de schrijfclub van De Hoofdzaak in Den Helder. We schrijven over alles wat het leven brengt. Over herinneringen\, eenzaamheid\, over sport en spel\, over dieren\, vakanties en andere thema’s. Door het schrijven delen we en zoeken we verbinding.
URL:https://dehoofdzaak.org/agenda/schrijfclub-den-helder-3/2029-07-11/
LOCATION:De Hoofdzaak Den Helder\, Bernhardplein 76 C\, Den Helder\, 1781 HK\, Nederland
CATEGORIES:Kop Noord Holland
END:VEVENT
BEGIN:VEVENT
DTSTART;TZID=Europe/Amsterdam:20290718T130000
DTEND;TZID=Europe/Amsterdam:20290718T150000
DTSTAMP:20260420T131839
CREATED:20241001T105952Z
LAST-MODIFIED:20241205T113306Z
UID:10020848-1879074000-1879081200@dehoofdzaak.org
SUMMARY:Schrijfclub Den Helder
DESCRIPTION:Als je van schrijven houdt\, dan ben je misschien op je plek bij de schrijfclub van De Hoofdzaak in Den Helder. We schrijven over alles wat het leven brengt. Over herinneringen\, eenzaamheid\, over sport en spel\, over dieren\, vakanties en andere thema’s. Door het schrijven delen we en zoeken we verbinding.
URL:https://dehoofdzaak.org/agenda/schrijfclub-den-helder-3/2029-07-18/
LOCATION:De Hoofdzaak Den Helder\, Bernhardplein 76 C\, Den Helder\, 1781 HK\, Nederland
CATEGORIES:Kop Noord Holland
END:VEVENT
BEGIN:VEVENT
DTSTART;TZID=Europe/Amsterdam:20290725T130000
DTEND;TZID=Europe/Amsterdam:20290725T150000
DTSTAMP:20260420T131839
CREATED:20241001T105952Z
LAST-MODIFIED:20241205T113306Z
UID:10020849-1879678800-1879686000@dehoofdzaak.org
SUMMARY:Schrijfclub Den Helder
DESCRIPTION:Als je van schrijven houdt\, dan ben je misschien op je plek bij de schrijfclub van De Hoofdzaak in Den Helder. We schrijven over alles wat het leven brengt. Over herinneringen\, eenzaamheid\, over sport en spel\, over dieren\, vakanties en andere thema’s. Door het schrijven delen we en zoeken we verbinding.
URL:https://dehoofdzaak.org/agenda/schrijfclub-den-helder-3/2029-07-25/
LOCATION:De Hoofdzaak Den Helder\, Bernhardplein 76 C\, Den Helder\, 1781 HK\, Nederland
CATEGORIES:Kop Noord Holland
END:VEVENT
BEGIN:VEVENT
DTSTART;TZID=Europe/Amsterdam:20290801T130000
DTEND;TZID=Europe/Amsterdam:20290801T150000
DTSTAMP:20260420T131839
CREATED:20241001T105952Z
LAST-MODIFIED:20241205T113306Z
UID:10020850-1880283600-1880290800@dehoofdzaak.org
SUMMARY:Schrijfclub Den Helder
DESCRIPTION:Als je van schrijven houdt\, dan ben je misschien op je plek bij de schrijfclub van De Hoofdzaak in Den Helder. We schrijven over alles wat het leven brengt. Over herinneringen\, eenzaamheid\, over sport en spel\, over dieren\, vakanties en andere thema’s. Door het schrijven delen we en zoeken we verbinding.
URL:https://dehoofdzaak.org/agenda/schrijfclub-den-helder-3/2029-08-01/
LOCATION:De Hoofdzaak Den Helder\, Bernhardplein 76 C\, Den Helder\, 1781 HK\, Nederland
CATEGORIES:Kop Noord Holland
END:VEVENT
BEGIN:VEVENT
DTSTART;TZID=Europe/Amsterdam:20290808T130000
DTEND;TZID=Europe/Amsterdam:20290808T150000
DTSTAMP:20260420T131839
CREATED:20241001T105952Z
LAST-MODIFIED:20241205T113306Z
UID:10020851-1880888400-1880895600@dehoofdzaak.org
SUMMARY:Schrijfclub Den Helder
DESCRIPTION:Als je van schrijven houdt\, dan ben je misschien op je plek bij de schrijfclub van De Hoofdzaak in Den Helder. We schrijven over alles wat het leven brengt. Over herinneringen\, eenzaamheid\, over sport en spel\, over dieren\, vakanties en andere thema’s. Door het schrijven delen we en zoeken we verbinding.
URL:https://dehoofdzaak.org/agenda/schrijfclub-den-helder-3/2029-08-08/
LOCATION:De Hoofdzaak Den Helder\, Bernhardplein 76 C\, Den Helder\, 1781 HK\, Nederland
CATEGORIES:Kop Noord Holland
END:VEVENT
BEGIN:VEVENT
DTSTART;TZID=Europe/Amsterdam:20290815T130000
DTEND;TZID=Europe/Amsterdam:20290815T150000
DTSTAMP:20260420T131839
CREATED:20241001T105952Z
LAST-MODIFIED:20241205T113306Z
UID:10020852-1881493200-1881500400@dehoofdzaak.org
SUMMARY:Schrijfclub Den Helder
DESCRIPTION:Als je van schrijven houdt\, dan ben je misschien op je plek bij de schrijfclub van De Hoofdzaak in Den Helder. We schrijven over alles wat het leven brengt. Over herinneringen\, eenzaamheid\, over sport en spel\, over dieren\, vakanties en andere thema’s. Door het schrijven delen we en zoeken we verbinding.
URL:https://dehoofdzaak.org/agenda/schrijfclub-den-helder-3/2029-08-15/
LOCATION:De Hoofdzaak Den Helder\, Bernhardplein 76 C\, Den Helder\, 1781 HK\, Nederland
CATEGORIES:Kop Noord Holland
END:VEVENT
BEGIN:VEVENT
DTSTART;TZID=Europe/Amsterdam:20290822T130000
DTEND;TZID=Europe/Amsterdam:20290822T150000
DTSTAMP:20260420T131839
CREATED:20241001T105952Z
LAST-MODIFIED:20241205T113306Z
UID:10020853-1882098000-1882105200@dehoofdzaak.org
SUMMARY:Schrijfclub Den Helder
DESCRIPTION:Als je van schrijven houdt\, dan ben je misschien op je plek bij de schrijfclub van De Hoofdzaak in Den Helder. We schrijven over alles wat het leven brengt. Over herinneringen\, eenzaamheid\, over sport en spel\, over dieren\, vakanties en andere thema’s. Door het schrijven delen we en zoeken we verbinding.
URL:https://dehoofdzaak.org/agenda/schrijfclub-den-helder-3/2029-08-22/
LOCATION:De Hoofdzaak Den Helder\, Bernhardplein 76 C\, Den Helder\, 1781 HK\, Nederland
CATEGORIES:Kop Noord Holland
END:VEVENT
BEGIN:VEVENT
DTSTART;TZID=Europe/Amsterdam:20290829T130000
DTEND;TZID=Europe/Amsterdam:20290829T150000
DTSTAMP:20260420T131839
CREATED:20241001T105952Z
LAST-MODIFIED:20241205T113306Z
UID:10020854-1882702800-1882710000@dehoofdzaak.org
SUMMARY:Schrijfclub Den Helder
DESCRIPTION:Als je van schrijven houdt\, dan ben je misschien op je plek bij de schrijfclub van De Hoofdzaak in Den Helder. We schrijven over alles wat het leven brengt. Over herinneringen\, eenzaamheid\, over sport en spel\, over dieren\, vakanties en andere thema’s. Door het schrijven delen we en zoeken we verbinding.
URL:https://dehoofdzaak.org/agenda/schrijfclub-den-helder-3/2029-08-29/
LOCATION:De Hoofdzaak Den Helder\, Bernhardplein 76 C\, Den Helder\, 1781 HK\, Nederland
CATEGORIES:Kop Noord Holland
END:VEVENT
BEGIN:VEVENT
DTSTART;TZID=Europe/Amsterdam:20290905T130000
DTEND;TZID=Europe/Amsterdam:20290905T150000
DTSTAMP:20260420T131839
CREATED:20241001T105952Z
LAST-MODIFIED:20241205T113306Z
UID:10020855-1883307600-1883314800@dehoofdzaak.org
SUMMARY:Schrijfclub Den Helder
DESCRIPTION:Als je van schrijven houdt\, dan ben je misschien op je plek bij de schrijfclub van De Hoofdzaak in Den Helder. We schrijven over alles wat het leven brengt. Over herinneringen\, eenzaamheid\, over sport en spel\, over dieren\, vakanties en andere thema’s. Door het schrijven delen we en zoeken we verbinding.
URL:https://dehoofdzaak.org/agenda/schrijfclub-den-helder-3/2029-09-05/
LOCATION:De Hoofdzaak Den Helder\, Bernhardplein 76 C\, Den Helder\, 1781 HK\, Nederland
CATEGORIES:Kop Noord Holland
END:VEVENT
BEGIN:VEVENT
DTSTART;TZID=Europe/Amsterdam:20290912T130000
DTEND;TZID=Europe/Amsterdam:20290912T150000
DTSTAMP:20260420T131839
CREATED:20241001T105952Z
LAST-MODIFIED:20241205T113306Z
UID:10020856-1883912400-1883919600@dehoofdzaak.org
SUMMARY:Schrijfclub Den Helder
DESCRIPTION:Als je van schrijven houdt\, dan ben je misschien op je plek bij de schrijfclub van De Hoofdzaak in Den Helder. We schrijven over alles wat het leven brengt. Over herinneringen\, eenzaamheid\, over sport en spel\, over dieren\, vakanties en andere thema’s. Door het schrijven delen we en zoeken we verbinding.
URL:https://dehoofdzaak.org/agenda/schrijfclub-den-helder-3/2029-09-12/
LOCATION:De Hoofdzaak Den Helder\, Bernhardplein 76 C\, Den Helder\, 1781 HK\, Nederland
CATEGORIES:Kop Noord Holland
END:VEVENT
BEGIN:VEVENT
DTSTART;TZID=Europe/Amsterdam:20290919T130000
DTEND;TZID=Europe/Amsterdam:20290919T150000
DTSTAMP:20260420T131839
CREATED:20241001T105952Z
LAST-MODIFIED:20241205T113306Z
UID:10020857-1884517200-1884524400@dehoofdzaak.org
SUMMARY:Schrijfclub Den Helder
DESCRIPTION:Als je van schrijven houdt\, dan ben je misschien op je plek bij de schrijfclub van De Hoofdzaak in Den Helder. We schrijven over alles wat het leven brengt. Over herinneringen\, eenzaamheid\, over sport en spel\, over dieren\, vakanties en andere thema’s. Door het schrijven delen we en zoeken we verbinding.
URL:https://dehoofdzaak.org/agenda/schrijfclub-den-helder-3/2029-09-19/
LOCATION:De Hoofdzaak Den Helder\, Bernhardplein 76 C\, Den Helder\, 1781 HK\, Nederland
CATEGORIES:Kop Noord Holland
END:VEVENT
BEGIN:VEVENT
DTSTART;TZID=Europe/Amsterdam:20290926T130000
DTEND;TZID=Europe/Amsterdam:20290926T150000
DTSTAMP:20260420T131839
CREATED:20241001T105952Z
LAST-MODIFIED:20241205T113306Z
UID:10020858-1885122000-1885129200@dehoofdzaak.org
SUMMARY:Schrijfclub Den Helder
DESCRIPTION:Als je van schrijven houdt\, dan ben je misschien op je plek bij de schrijfclub van De Hoofdzaak in Den Helder. We schrijven over alles wat het leven brengt. Over herinneringen\, eenzaamheid\, over sport en spel\, over dieren\, vakanties en andere thema’s. Door het schrijven delen we en zoeken we verbinding.
URL:https://dehoofdzaak.org/agenda/schrijfclub-den-helder-3/2029-09-26/
LOCATION:De Hoofdzaak Den Helder\, Bernhardplein 76 C\, Den Helder\, 1781 HK\, Nederland
CATEGORIES:Kop Noord Holland
END:VEVENT
BEGIN:VEVENT
DTSTART;TZID=Europe/Amsterdam:20291003T130000
DTEND;TZID=Europe/Amsterdam:20291003T150000
DTSTAMP:20260420T131839
CREATED:20241001T105952Z
LAST-MODIFIED:20241205T113306Z
UID:10023427-1885726800-1885734000@dehoofdzaak.org
SUMMARY:Schrijfclub Den Helder
DESCRIPTION:Als je van schrijven houdt\, dan ben je misschien op je plek bij de schrijfclub van De Hoofdzaak in Den Helder. We schrijven over alles wat het leven brengt. Over herinneringen\, eenzaamheid\, over sport en spel\, over dieren\, vakanties en andere thema’s. Door het schrijven delen we en zoeken we verbinding.
URL:https://dehoofdzaak.org/agenda/schrijfclub-den-helder-3/2029-10-03/
LOCATION:De Hoofdzaak Den Helder\, Bernhardplein 76 C\, Den Helder\, 1781 HK\, Nederland
CATEGORIES:Kop Noord Holland
END:VEVENT
BEGIN:VEVENT
DTSTART;TZID=Europe/Amsterdam:20291010T130000
DTEND;TZID=Europe/Amsterdam:20291010T150000
DTSTAMP:20260420T131839
CREATED:20241001T105952Z
LAST-MODIFIED:20241205T113306Z
UID:10023428-1886331600-1886338800@dehoofdzaak.org
SUMMARY:Schrijfclub Den Helder
DESCRIPTION:Als je van schrijven houdt\, dan ben je misschien op je plek bij de schrijfclub van De Hoofdzaak in Den Helder. We schrijven over alles wat het leven brengt. Over herinneringen\, eenzaamheid\, over sport en spel\, over dieren\, vakanties en andere thema’s. Door het schrijven delen we en zoeken we verbinding.
URL:https://dehoofdzaak.org/agenda/schrijfclub-den-helder-3/2029-10-10/
LOCATION:De Hoofdzaak Den Helder\, Bernhardplein 76 C\, Den Helder\, 1781 HK\, Nederland
CATEGORIES:Kop Noord Holland
END:VEVENT
BEGIN:VEVENT
DTSTART;TZID=Europe/Amsterdam:20291017T130000
DTEND;TZID=Europe/Amsterdam:20291017T150000
DTSTAMP:20260420T131839
CREATED:20241001T105952Z
LAST-MODIFIED:20241205T113306Z
UID:10023429-1886936400-1886943600@dehoofdzaak.org
SUMMARY:Schrijfclub Den Helder
DESCRIPTION:Als je van schrijven houdt\, dan ben je misschien op je plek bij de schrijfclub van De Hoofdzaak in Den Helder. We schrijven over alles wat het leven brengt. Over herinneringen\, eenzaamheid\, over sport en spel\, over dieren\, vakanties en andere thema’s. Door het schrijven delen we en zoeken we verbinding.
URL:https://dehoofdzaak.org/agenda/schrijfclub-den-helder-3/2029-10-17/
LOCATION:De Hoofdzaak Den Helder\, Bernhardplein 76 C\, Den Helder\, 1781 HK\, Nederland
CATEGORIES:Kop Noord Holland
END:VEVENT
BEGIN:VEVENT
DTSTART;TZID=Europe/Amsterdam:20291024T130000
DTEND;TZID=Europe/Amsterdam:20291024T150000
DTSTAMP:20260420T131839
CREATED:20241001T105952Z
LAST-MODIFIED:20241205T113306Z
UID:10023430-1887541200-1887548400@dehoofdzaak.org
SUMMARY:Schrijfclub Den Helder
DESCRIPTION:Als je van schrijven houdt\, dan ben je misschien op je plek bij de schrijfclub van De Hoofdzaak in Den Helder. We schrijven over alles wat het leven brengt. Over herinneringen\, eenzaamheid\, over sport en spel\, over dieren\, vakanties en andere thema’s. Door het schrijven delen we en zoeken we verbinding.
URL:https://dehoofdzaak.org/agenda/schrijfclub-den-helder-3/2029-10-24/
LOCATION:De Hoofdzaak Den Helder\, Bernhardplein 76 C\, Den Helder\, 1781 HK\, Nederland
CATEGORIES:Kop Noord Holland
END:VEVENT
BEGIN:VEVENT
DTSTART;TZID=Europe/Amsterdam:20291031T130000
DTEND;TZID=Europe/Amsterdam:20291031T150000
DTSTAMP:20260420T131839
CREATED:20241001T105952Z
LAST-MODIFIED:20241205T113306Z
UID:10023431-1888146000-1888153200@dehoofdzaak.org
SUMMARY:Schrijfclub Den Helder
DESCRIPTION:Als je van schrijven houdt\, dan ben je misschien op je plek bij de schrijfclub van De Hoofdzaak in Den Helder. We schrijven over alles wat het leven brengt. Over herinneringen\, eenzaamheid\, over sport en spel\, over dieren\, vakanties en andere thema’s. Door het schrijven delen we en zoeken we verbinding.
URL:https://dehoofdzaak.org/agenda/schrijfclub-den-helder-3/2029-10-31/
LOCATION:De Hoofdzaak Den Helder\, Bernhardplein 76 C\, Den Helder\, 1781 HK\, Nederland
CATEGORIES:Kop Noord Holland
END:VEVENT
BEGIN:VEVENT
DTSTART;TZID=Europe/Amsterdam:20291107T130000
DTEND;TZID=Europe/Amsterdam:20291107T150000
DTSTAMP:20260420T131839
CREATED:20241001T105952Z
LAST-MODIFIED:20241205T113306Z
UID:10023432-1888750800-1888758000@dehoofdzaak.org
SUMMARY:Schrijfclub Den Helder
DESCRIPTION:Als je van schrijven houdt\, dan ben je misschien op je plek bij de schrijfclub van De Hoofdzaak in Den Helder. We schrijven over alles wat het leven brengt. Over herinneringen\, eenzaamheid\, over sport en spel\, over dieren\, vakanties en andere thema’s. Door het schrijven delen we en zoeken we verbinding.
URL:https://dehoofdzaak.org/agenda/schrijfclub-den-helder-3/2029-11-07/
LOCATION:De Hoofdzaak Den Helder\, Bernhardplein 76 C\, Den Helder\, 1781 HK\, Nederland
CATEGORIES:Kop Noord Holland
END:VEVENT
END:VCALENDAR