BEGIN:VCALENDAR
VERSION:2.0
PRODID:-//De Hoofdzaak - ECPv6.15.20//NONSGML v1.0//EN
CALSCALE:GREGORIAN
METHOD:PUBLISH
X-WR-CALNAME:De Hoofdzaak
X-ORIGINAL-URL:https://dehoofdzaak.org
X-WR-CALDESC:Evenementen voor De Hoofdzaak
REFRESH-INTERVAL;VALUE=DURATION:PT1H
X-Robots-Tag:noindex
X-PUBLISHED-TTL:PT1H
BEGIN:VTIMEZONE
TZID:Europe/Amsterdam
BEGIN:DAYLIGHT
TZOFFSETFROM:+0100
TZOFFSETTO:+0200
TZNAME:CEST
DTSTART:20230326T010000
END:DAYLIGHT
BEGIN:STANDARD
TZOFFSETFROM:+0200
TZOFFSETTO:+0100
TZNAME:CET
DTSTART:20231029T010000
END:STANDARD
BEGIN:DAYLIGHT
TZOFFSETFROM:+0100
TZOFFSETTO:+0200
TZNAME:CEST
DTSTART:20240331T010000
END:DAYLIGHT
BEGIN:STANDARD
TZOFFSETFROM:+0200
TZOFFSETTO:+0100
TZNAME:CET
DTSTART:20241027T010000
END:STANDARD
BEGIN:DAYLIGHT
TZOFFSETFROM:+0100
TZOFFSETTO:+0200
TZNAME:CEST
DTSTART:20250330T010000
END:DAYLIGHT
BEGIN:STANDARD
TZOFFSETFROM:+0200
TZOFFSETTO:+0100
TZNAME:CET
DTSTART:20251026T010000
END:STANDARD
END:VTIMEZONE
BEGIN:VEVENT
DTSTART;TZID=Europe/Amsterdam:20241113T130000
DTEND;TZID=Europe/Amsterdam:20241113T150000
DTSTAMP:20260420T013914
CREATED:20241001T105952Z
LAST-MODIFIED:20241205T113306Z
UID:10005127-1731502800-1731510000@dehoofdzaak.org
SUMMARY:Schrijfclub Den Helder
DESCRIPTION:Als je van schrijven houdt\, dan ben je misschien op je plek bij de schrijfclub van De Hoofdzaak in Den Helder. We schrijven over alles wat het leven brengt. Over herinneringen\, eenzaamheid\, over sport en spel\, over dieren\, vakanties en andere thema’s. Door het schrijven delen we en zoeken we verbinding.
URL:https://dehoofdzaak.org/agenda/schrijfclub-den-helder-3/2024-11-13/
LOCATION:De Hoofdzaak Den Helder\, Bernhardplein 76 C\, Den Helder\, 1781 HK\, Nederland
CATEGORIES:Kop Noord Holland
END:VEVENT
BEGIN:VEVENT
DTSTART;TZID=Europe/Amsterdam:20241106T130000
DTEND;TZID=Europe/Amsterdam:20241106T150000
DTSTAMP:20260420T013914
CREATED:20241001T105952Z
LAST-MODIFIED:20241205T113306Z
UID:10005126-1730898000-1730905200@dehoofdzaak.org
SUMMARY:Schrijfclub Den Helder
DESCRIPTION:Als je van schrijven houdt\, dan ben je misschien op je plek bij de schrijfclub van De Hoofdzaak in Den Helder. We schrijven over alles wat het leven brengt. Over herinneringen\, eenzaamheid\, over sport en spel\, over dieren\, vakanties en andere thema’s. Door het schrijven delen we en zoeken we verbinding.
URL:https://dehoofdzaak.org/agenda/schrijfclub-den-helder-3/2024-11-06/
LOCATION:De Hoofdzaak Den Helder\, Bernhardplein 76 C\, Den Helder\, 1781 HK\, Nederland
CATEGORIES:Kop Noord Holland
END:VEVENT
BEGIN:VEVENT
DTSTART;TZID=Europe/Amsterdam:20241030T130000
DTEND;TZID=Europe/Amsterdam:20241030T150000
DTSTAMP:20260420T013914
CREATED:20241001T105952Z
LAST-MODIFIED:20241205T113306Z
UID:10005125-1730293200-1730300400@dehoofdzaak.org
SUMMARY:Schrijfclub Den Helder
DESCRIPTION:Als je van schrijven houdt\, dan ben je misschien op je plek bij de schrijfclub van De Hoofdzaak in Den Helder. We schrijven over alles wat het leven brengt. Over herinneringen\, eenzaamheid\, over sport en spel\, over dieren\, vakanties en andere thema’s. Door het schrijven delen we en zoeken we verbinding.
URL:https://dehoofdzaak.org/agenda/schrijfclub-den-helder-3/2024-10-30/
LOCATION:De Hoofdzaak Den Helder\, Bernhardplein 76 C\, Den Helder\, 1781 HK\, Nederland
CATEGORIES:Kop Noord Holland
END:VEVENT
BEGIN:VEVENT
DTSTART;TZID=Europe/Amsterdam:20241023T130000
DTEND;TZID=Europe/Amsterdam:20241023T150000
DTSTAMP:20260420T013914
CREATED:20241001T105952Z
LAST-MODIFIED:20241205T113306Z
UID:10005124-1729688400-1729695600@dehoofdzaak.org
SUMMARY:Schrijfclub Den Helder
DESCRIPTION:Als je van schrijven houdt\, dan ben je misschien op je plek bij de schrijfclub van De Hoofdzaak in Den Helder. We schrijven over alles wat het leven brengt. Over herinneringen\, eenzaamheid\, over sport en spel\, over dieren\, vakanties en andere thema’s. Door het schrijven delen we en zoeken we verbinding.
URL:https://dehoofdzaak.org/agenda/schrijfclub-den-helder-3/2024-10-23/
LOCATION:De Hoofdzaak Den Helder\, Bernhardplein 76 C\, Den Helder\, 1781 HK\, Nederland
CATEGORIES:Kop Noord Holland
END:VEVENT
BEGIN:VEVENT
DTSTART;TZID=Europe/Amsterdam:20241016T130000
DTEND;TZID=Europe/Amsterdam:20241016T150000
DTSTAMP:20260420T013914
CREATED:20241001T105952Z
LAST-MODIFIED:20241205T113306Z
UID:10005123-1729083600-1729090800@dehoofdzaak.org
SUMMARY:Schrijfclub Den Helder
DESCRIPTION:Als je van schrijven houdt\, dan ben je misschien op je plek bij de schrijfclub van De Hoofdzaak in Den Helder. We schrijven over alles wat het leven brengt. Over herinneringen\, eenzaamheid\, over sport en spel\, over dieren\, vakanties en andere thema’s. Door het schrijven delen we en zoeken we verbinding.
URL:https://dehoofdzaak.org/agenda/schrijfclub-den-helder-3/2024-10-16/
LOCATION:De Hoofdzaak Den Helder\, Bernhardplein 76 C\, Den Helder\, 1781 HK\, Nederland
CATEGORIES:Kop Noord Holland
END:VEVENT
BEGIN:VEVENT
DTSTART;TZID=Europe/Amsterdam:20241009T130000
DTEND;TZID=Europe/Amsterdam:20241009T150000
DTSTAMP:20260420T013914
CREATED:20241001T105952Z
LAST-MODIFIED:20241205T113306Z
UID:10005122-1728478800-1728486000@dehoofdzaak.org
SUMMARY:Schrijfclub Den Helder
DESCRIPTION:Als je van schrijven houdt\, dan ben je misschien op je plek bij de schrijfclub van De Hoofdzaak in Den Helder. We schrijven over alles wat het leven brengt. Over herinneringen\, eenzaamheid\, over sport en spel\, over dieren\, vakanties en andere thema’s. Door het schrijven delen we en zoeken we verbinding.
URL:https://dehoofdzaak.org/agenda/schrijfclub-den-helder-3/2024-10-09/
LOCATION:De Hoofdzaak Den Helder\, Bernhardplein 76 C\, Den Helder\, 1781 HK\, Nederland
CATEGORIES:Kop Noord Holland
END:VEVENT
BEGIN:VEVENT
DTSTART;TZID=Europe/Amsterdam:20240925T130000
DTEND;TZID=Europe/Amsterdam:20240925T150000
DTSTAMP:20260420T013914
CREATED:20231201T083838Z
LAST-MODIFIED:20231201T083844Z
UID:10005120-1727269200-1727276400@dehoofdzaak.org
SUMMARY:Schrijfclub Den Helder
DESCRIPTION:Als je van schrijven houdt\, dan ben je misschien op je plek bij de schrijfclub van De Hoofdzaak in Den Helder. We schrijven over alles wat het leven brengt. Over herinneringen\, eenzaamheid\, over sport en spel\, over dieren\, vakanties en andere thema’s. Door het schrijven delen we en zoeken we verbinding.
URL:https://dehoofdzaak.org/agenda/schrijfclub-den-helder-2/2024-09-25/
LOCATION:De Hoofdzaak Den Helder\, Bernhardplein 76 C\, Den Helder\, 1781 HK\, Nederland
CATEGORIES:Kop Noord Holland
END:VEVENT
BEGIN:VEVENT
DTSTART;TZID=Europe/Amsterdam:20240918T130000
DTEND;TZID=Europe/Amsterdam:20240918T150000
DTSTAMP:20260420T013914
CREATED:20231201T083838Z
LAST-MODIFIED:20231201T083844Z
UID:10005119-1726664400-1726671600@dehoofdzaak.org
SUMMARY:Schrijfclub Den Helder
DESCRIPTION:Als je van schrijven houdt\, dan ben je misschien op je plek bij de schrijfclub van De Hoofdzaak in Den Helder. We schrijven over alles wat het leven brengt. Over herinneringen\, eenzaamheid\, over sport en spel\, over dieren\, vakanties en andere thema’s. Door het schrijven delen we en zoeken we verbinding.
URL:https://dehoofdzaak.org/agenda/schrijfclub-den-helder-2/2024-09-18/
LOCATION:De Hoofdzaak Den Helder\, Bernhardplein 76 C\, Den Helder\, 1781 HK\, Nederland
CATEGORIES:Kop Noord Holland
END:VEVENT
BEGIN:VEVENT
DTSTART;TZID=Europe/Amsterdam:20240913T110000
DTEND;TZID=Europe/Amsterdam:20240913T130000
DTSTAMP:20260420T013914
CREATED:20240905T122845Z
LAST-MODIFIED:20240905T122852Z
UID:10020185-1726225200-1726232400@dehoofdzaak.org
SUMMARY:Creatief uit je hoofd: Emotietekenen
DESCRIPTION:Van maandag 9 september tot en met vrijdag 13 september is het de suïcidepreventieweek. Samen op een creatieve manier bezig zijn is enorm belangrijk voor onze eigen mentale gezondheid. Daarom organiseren we samen met De Hoofdzaak\, De Baanbreker\, MindsZ\, De Trog\, Dalisay Recovery\, De Verhalenkamer en De Herstelacademie diverse activiteiten. \n\n\n\nIn dit geval is de activiteit emotietekenen.
URL:https://dehoofdzaak.org/agenda/creatief-uit-je-hoofd-emotietekenen-2/
LOCATION:De Hoofdzaak Den Helder\, Bernhardplein 76 C\, Den Helder\, 1781 HK\, Nederland
CATEGORIES:Kop Noord Holland
END:VEVENT
BEGIN:VEVENT
DTSTART;TZID=Europe/Amsterdam:20240911T130000
DTEND;TZID=Europe/Amsterdam:20240911T150000
DTSTAMP:20260420T013914
CREATED:20240905T122659Z
LAST-MODIFIED:20240905T122705Z
UID:10020184-1726059600-1726066800@dehoofdzaak.org
SUMMARY:Creatief uit je hoofd: Schrijfclub
DESCRIPTION:Van maandag 9 september tot en met vrijdag 13 september is het de suïcidepreventieweek. Samen op een creatieve manier bezig zijn is enorm belangrijk voor onze eigen mentale gezondheid. Daarom organiseren we samen met De Hoofdzaak\, De Baanbreker\, MindsZ\, De Trog\, Dalisay Recovery\, De Verhalenkamer en De Herstelacademie diverse activiteiten. \n\n\n\nIn dit geval is de activiteit schrijven.
URL:https://dehoofdzaak.org/agenda/creatief-uit-je-hoofd-schrijfclub/
LOCATION:De Hoofdzaak Den Helder\, Bernhardplein 76 C\, Den Helder\, 1781 HK\, Nederland
CATEGORIES:Kop Noord Holland
END:VEVENT
BEGIN:VEVENT
DTSTART;TZID=Europe/Amsterdam:20240911T130000
DTEND;TZID=Europe/Amsterdam:20240911T150000
DTSTAMP:20260420T013914
CREATED:20231201T083838Z
LAST-MODIFIED:20231201T083844Z
UID:10005118-1726059600-1726066800@dehoofdzaak.org
SUMMARY:Schrijfclub Den Helder
DESCRIPTION:Als je van schrijven houdt\, dan ben je misschien op je plek bij de schrijfclub van De Hoofdzaak in Den Helder. We schrijven over alles wat het leven brengt. Over herinneringen\, eenzaamheid\, over sport en spel\, over dieren\, vakanties en andere thema’s. Door het schrijven delen we en zoeken we verbinding.
URL:https://dehoofdzaak.org/agenda/schrijfclub-den-helder-2/2024-09-11/
LOCATION:De Hoofdzaak Den Helder\, Bernhardplein 76 C\, Den Helder\, 1781 HK\, Nederland
CATEGORIES:Kop Noord Holland
END:VEVENT
BEGIN:VEVENT
DTSTART;TZID=Europe/Amsterdam:20240904T130000
DTEND;TZID=Europe/Amsterdam:20240904T150000
DTSTAMP:20260420T013914
CREATED:20231201T083838Z
LAST-MODIFIED:20231201T083844Z
UID:10005117-1725454800-1725462000@dehoofdzaak.org
SUMMARY:Schrijfclub Den Helder
DESCRIPTION:Als je van schrijven houdt\, dan ben je misschien op je plek bij de schrijfclub van De Hoofdzaak in Den Helder. We schrijven over alles wat het leven brengt. Over herinneringen\, eenzaamheid\, over sport en spel\, over dieren\, vakanties en andere thema’s. Door het schrijven delen we en zoeken we verbinding.
URL:https://dehoofdzaak.org/agenda/schrijfclub-den-helder-2/2024-09-04/
LOCATION:De Hoofdzaak Den Helder\, Bernhardplein 76 C\, Den Helder\, 1781 HK\, Nederland
CATEGORIES:Kop Noord Holland
END:VEVENT
BEGIN:VEVENT
DTSTART;TZID=Europe/Amsterdam:20240828T130000
DTEND;TZID=Europe/Amsterdam:20240828T150000
DTSTAMP:20260420T013914
CREATED:20231201T083838Z
LAST-MODIFIED:20231201T083844Z
UID:10005116-1724850000-1724857200@dehoofdzaak.org
SUMMARY:Schrijfclub Den Helder
DESCRIPTION:Als je van schrijven houdt\, dan ben je misschien op je plek bij de schrijfclub van De Hoofdzaak in Den Helder. We schrijven over alles wat het leven brengt. Over herinneringen\, eenzaamheid\, over sport en spel\, over dieren\, vakanties en andere thema’s. Door het schrijven delen we en zoeken we verbinding.
URL:https://dehoofdzaak.org/agenda/schrijfclub-den-helder-2/2024-08-28/
LOCATION:De Hoofdzaak Den Helder\, Bernhardplein 76 C\, Den Helder\, 1781 HK\, Nederland
CATEGORIES:Kop Noord Holland
END:VEVENT
BEGIN:VEVENT
DTSTART;TZID=Europe/Amsterdam:20240821T130000
DTEND;TZID=Europe/Amsterdam:20240821T150000
DTSTAMP:20260420T013914
CREATED:20231201T083838Z
LAST-MODIFIED:20231201T083844Z
UID:10005115-1724245200-1724252400@dehoofdzaak.org
SUMMARY:Schrijfclub Den Helder
DESCRIPTION:Als je van schrijven houdt\, dan ben je misschien op je plek bij de schrijfclub van De Hoofdzaak in Den Helder. We schrijven over alles wat het leven brengt. Over herinneringen\, eenzaamheid\, over sport en spel\, over dieren\, vakanties en andere thema’s. Door het schrijven delen we en zoeken we verbinding.
URL:https://dehoofdzaak.org/agenda/schrijfclub-den-helder-2/2024-08-21/
LOCATION:De Hoofdzaak Den Helder\, Bernhardplein 76 C\, Den Helder\, 1781 HK\, Nederland
CATEGORIES:Kop Noord Holland
END:VEVENT
BEGIN:VEVENT
DTSTART;TZID=Europe/Amsterdam:20240814T130000
DTEND;TZID=Europe/Amsterdam:20240814T150000
DTSTAMP:20260420T013914
CREATED:20231201T083838Z
LAST-MODIFIED:20231201T083844Z
UID:10005114-1723640400-1723647600@dehoofdzaak.org
SUMMARY:Schrijfclub Den Helder
DESCRIPTION:Als je van schrijven houdt\, dan ben je misschien op je plek bij de schrijfclub van De Hoofdzaak in Den Helder. We schrijven over alles wat het leven brengt. Over herinneringen\, eenzaamheid\, over sport en spel\, over dieren\, vakanties en andere thema’s. Door het schrijven delen we en zoeken we verbinding.
URL:https://dehoofdzaak.org/agenda/schrijfclub-den-helder-2/2024-08-14/
LOCATION:De Hoofdzaak Den Helder\, Bernhardplein 76 C\, Den Helder\, 1781 HK\, Nederland
CATEGORIES:Kop Noord Holland
END:VEVENT
BEGIN:VEVENT
DTSTART;TZID=Europe/Amsterdam:20240807T130000
DTEND;TZID=Europe/Amsterdam:20240807T150000
DTSTAMP:20260420T013914
CREATED:20231201T083838Z
LAST-MODIFIED:20231201T083844Z
UID:10005113-1723035600-1723042800@dehoofdzaak.org
SUMMARY:Schrijfclub Den Helder
DESCRIPTION:Als je van schrijven houdt\, dan ben je misschien op je plek bij de schrijfclub van De Hoofdzaak in Den Helder. We schrijven over alles wat het leven brengt. Over herinneringen\, eenzaamheid\, over sport en spel\, over dieren\, vakanties en andere thema’s. Door het schrijven delen we en zoeken we verbinding.
URL:https://dehoofdzaak.org/agenda/schrijfclub-den-helder-2/2024-08-07/
LOCATION:De Hoofdzaak Den Helder\, Bernhardplein 76 C\, Den Helder\, 1781 HK\, Nederland
CATEGORIES:Kop Noord Holland
END:VEVENT
BEGIN:VEVENT
DTSTART;TZID=Europe/Amsterdam:20240731T130000
DTEND;TZID=Europe/Amsterdam:20240731T150000
DTSTAMP:20260420T013914
CREATED:20231201T083838Z
LAST-MODIFIED:20231201T083844Z
UID:10005112-1722430800-1722438000@dehoofdzaak.org
SUMMARY:Schrijfclub Den Helder
DESCRIPTION:Als je van schrijven houdt\, dan ben je misschien op je plek bij de schrijfclub van De Hoofdzaak in Den Helder. We schrijven over alles wat het leven brengt. Over herinneringen\, eenzaamheid\, over sport en spel\, over dieren\, vakanties en andere thema’s. Door het schrijven delen we en zoeken we verbinding.
URL:https://dehoofdzaak.org/agenda/schrijfclub-den-helder-2/2024-07-31/
LOCATION:De Hoofdzaak Den Helder\, Bernhardplein 76 C\, Den Helder\, 1781 HK\, Nederland
CATEGORIES:Kop Noord Holland
END:VEVENT
BEGIN:VEVENT
DTSTART;TZID=Europe/Amsterdam:20240724T130000
DTEND;TZID=Europe/Amsterdam:20240724T150000
DTSTAMP:20260420T013914
CREATED:20231201T083838Z
LAST-MODIFIED:20231201T083844Z
UID:10005111-1721826000-1721833200@dehoofdzaak.org
SUMMARY:Schrijfclub Den Helder
DESCRIPTION:Als je van schrijven houdt\, dan ben je misschien op je plek bij de schrijfclub van De Hoofdzaak in Den Helder. We schrijven over alles wat het leven brengt. Over herinneringen\, eenzaamheid\, over sport en spel\, over dieren\, vakanties en andere thema’s. Door het schrijven delen we en zoeken we verbinding.
URL:https://dehoofdzaak.org/agenda/schrijfclub-den-helder-2/2024-07-24/
LOCATION:De Hoofdzaak Den Helder\, Bernhardplein 76 C\, Den Helder\, 1781 HK\, Nederland
CATEGORIES:Kop Noord Holland
END:VEVENT
BEGIN:VEVENT
DTSTART;TZID=Europe/Amsterdam:20240717T130000
DTEND;TZID=Europe/Amsterdam:20240717T150000
DTSTAMP:20260420T013914
CREATED:20231201T083838Z
LAST-MODIFIED:20231201T083844Z
UID:10005110-1721221200-1721228400@dehoofdzaak.org
SUMMARY:Schrijfclub Den Helder
DESCRIPTION:Als je van schrijven houdt\, dan ben je misschien op je plek bij de schrijfclub van De Hoofdzaak in Den Helder. We schrijven over alles wat het leven brengt. Over herinneringen\, eenzaamheid\, over sport en spel\, over dieren\, vakanties en andere thema’s. Door het schrijven delen we en zoeken we verbinding.
URL:https://dehoofdzaak.org/agenda/schrijfclub-den-helder-2/2024-07-17/
LOCATION:De Hoofdzaak Den Helder\, Bernhardplein 76 C\, Den Helder\, 1781 HK\, Nederland
CATEGORIES:Kop Noord Holland
END:VEVENT
BEGIN:VEVENT
DTSTART;TZID=Europe/Amsterdam:20240710T130000
DTEND;TZID=Europe/Amsterdam:20240710T150000
DTSTAMP:20260420T013914
CREATED:20231201T083838Z
LAST-MODIFIED:20231201T083844Z
UID:10005109-1720616400-1720623600@dehoofdzaak.org
SUMMARY:Schrijfclub Den Helder
DESCRIPTION:Als je van schrijven houdt\, dan ben je misschien op je plek bij de schrijfclub van De Hoofdzaak in Den Helder. We schrijven over alles wat het leven brengt. Over herinneringen\, eenzaamheid\, over sport en spel\, over dieren\, vakanties en andere thema’s. Door het schrijven delen we en zoeken we verbinding.
URL:https://dehoofdzaak.org/agenda/schrijfclub-den-helder-2/2024-07-10/
LOCATION:De Hoofdzaak Den Helder\, Bernhardplein 76 C\, Den Helder\, 1781 HK\, Nederland
CATEGORIES:Kop Noord Holland
END:VEVENT
BEGIN:VEVENT
DTSTART;TZID=Europe/Amsterdam:20240703T130000
DTEND;TZID=Europe/Amsterdam:20240703T150000
DTSTAMP:20260420T013914
CREATED:20231201T083838Z
LAST-MODIFIED:20231201T083844Z
UID:10005108-1720011600-1720018800@dehoofdzaak.org
SUMMARY:Schrijfclub Den Helder
DESCRIPTION:Als je van schrijven houdt\, dan ben je misschien op je plek bij de schrijfclub van De Hoofdzaak in Den Helder. We schrijven over alles wat het leven brengt. Over herinneringen\, eenzaamheid\, over sport en spel\, over dieren\, vakanties en andere thema’s. Door het schrijven delen we en zoeken we verbinding.
URL:https://dehoofdzaak.org/agenda/schrijfclub-den-helder-2/2024-07-03/
LOCATION:De Hoofdzaak Den Helder\, Bernhardplein 76 C\, Den Helder\, 1781 HK\, Nederland
CATEGORIES:Kop Noord Holland
END:VEVENT
BEGIN:VEVENT
DTSTART;TZID=Europe/Amsterdam:20240626T130000
DTEND;TZID=Europe/Amsterdam:20240626T150000
DTSTAMP:20260420T013914
CREATED:20231201T083838Z
LAST-MODIFIED:20231201T083844Z
UID:10005107-1719406800-1719414000@dehoofdzaak.org
SUMMARY:Schrijfclub Den Helder
DESCRIPTION:Als je van schrijven houdt\, dan ben je misschien op je plek bij de schrijfclub van De Hoofdzaak in Den Helder. We schrijven over alles wat het leven brengt. Over herinneringen\, eenzaamheid\, over sport en spel\, over dieren\, vakanties en andere thema’s. Door het schrijven delen we en zoeken we verbinding.
URL:https://dehoofdzaak.org/agenda/schrijfclub-den-helder-2/2024-06-26/
LOCATION:De Hoofdzaak Den Helder\, Bernhardplein 76 C\, Den Helder\, 1781 HK\, Nederland
CATEGORIES:Kop Noord Holland
END:VEVENT
BEGIN:VEVENT
DTSTART;TZID=Europe/Amsterdam:20240619T130000
DTEND;TZID=Europe/Amsterdam:20240619T150000
DTSTAMP:20260420T013914
CREATED:20231201T083838Z
LAST-MODIFIED:20231201T083844Z
UID:10005106-1718802000-1718809200@dehoofdzaak.org
SUMMARY:Schrijfclub Den Helder
DESCRIPTION:Als je van schrijven houdt\, dan ben je misschien op je plek bij de schrijfclub van De Hoofdzaak in Den Helder. We schrijven over alles wat het leven brengt. Over herinneringen\, eenzaamheid\, over sport en spel\, over dieren\, vakanties en andere thema’s. Door het schrijven delen we en zoeken we verbinding.
URL:https://dehoofdzaak.org/agenda/schrijfclub-den-helder-2/2024-06-19/
LOCATION:De Hoofdzaak Den Helder\, Bernhardplein 76 C\, Den Helder\, 1781 HK\, Nederland
CATEGORIES:Kop Noord Holland
END:VEVENT
BEGIN:VEVENT
DTSTART;TZID=Europe/Amsterdam:20240612T130000
DTEND;TZID=Europe/Amsterdam:20240612T150000
DTSTAMP:20260420T013914
CREATED:20231201T083838Z
LAST-MODIFIED:20231201T083844Z
UID:10005105-1718197200-1718204400@dehoofdzaak.org
SUMMARY:Schrijfclub Den Helder
DESCRIPTION:Als je van schrijven houdt\, dan ben je misschien op je plek bij de schrijfclub van De Hoofdzaak in Den Helder. We schrijven over alles wat het leven brengt. Over herinneringen\, eenzaamheid\, over sport en spel\, over dieren\, vakanties en andere thema’s. Door het schrijven delen we en zoeken we verbinding.
URL:https://dehoofdzaak.org/agenda/schrijfclub-den-helder-2/2024-06-12/
LOCATION:De Hoofdzaak Den Helder\, Bernhardplein 76 C\, Den Helder\, 1781 HK\, Nederland
CATEGORIES:Kop Noord Holland
END:VEVENT
BEGIN:VEVENT
DTSTART;TZID=Europe/Amsterdam:20240605T130000
DTEND;TZID=Europe/Amsterdam:20240605T150000
DTSTAMP:20260420T013914
CREATED:20231201T083838Z
LAST-MODIFIED:20231201T083844Z
UID:10005104-1717592400-1717599600@dehoofdzaak.org
SUMMARY:Schrijfclub Den Helder
DESCRIPTION:Als je van schrijven houdt\, dan ben je misschien op je plek bij de schrijfclub van De Hoofdzaak in Den Helder. We schrijven over alles wat het leven brengt. Over herinneringen\, eenzaamheid\, over sport en spel\, over dieren\, vakanties en andere thema’s. Door het schrijven delen we en zoeken we verbinding.
URL:https://dehoofdzaak.org/agenda/schrijfclub-den-helder-2/2024-06-05/
LOCATION:De Hoofdzaak Den Helder\, Bernhardplein 76 C\, Den Helder\, 1781 HK\, Nederland
CATEGORIES:Kop Noord Holland
END:VEVENT
BEGIN:VEVENT
DTSTART;TZID=Europe/Amsterdam:20240529T130000
DTEND;TZID=Europe/Amsterdam:20240529T150000
DTSTAMP:20260420T013914
CREATED:20231201T083838Z
LAST-MODIFIED:20231201T083844Z
UID:10005103-1716987600-1716994800@dehoofdzaak.org
SUMMARY:Schrijfclub Den Helder
DESCRIPTION:Als je van schrijven houdt\, dan ben je misschien op je plek bij de schrijfclub van De Hoofdzaak in Den Helder. We schrijven over alles wat het leven brengt. Over herinneringen\, eenzaamheid\, over sport en spel\, over dieren\, vakanties en andere thema’s. Door het schrijven delen we en zoeken we verbinding.
URL:https://dehoofdzaak.org/agenda/schrijfclub-den-helder-2/2024-05-29/
LOCATION:De Hoofdzaak Den Helder\, Bernhardplein 76 C\, Den Helder\, 1781 HK\, Nederland
CATEGORIES:Kop Noord Holland
END:VEVENT
BEGIN:VEVENT
DTSTART;TZID=Europe/Amsterdam:20240522T130000
DTEND;TZID=Europe/Amsterdam:20240522T150000
DTSTAMP:20260420T013914
CREATED:20231201T083838Z
LAST-MODIFIED:20231201T083844Z
UID:10005102-1716382800-1716390000@dehoofdzaak.org
SUMMARY:Schrijfclub Den Helder
DESCRIPTION:Als je van schrijven houdt\, dan ben je misschien op je plek bij de schrijfclub van De Hoofdzaak in Den Helder. We schrijven over alles wat het leven brengt. Over herinneringen\, eenzaamheid\, over sport en spel\, over dieren\, vakanties en andere thema’s. Door het schrijven delen we en zoeken we verbinding.
URL:https://dehoofdzaak.org/agenda/schrijfclub-den-helder-2/2024-05-22/
LOCATION:De Hoofdzaak Den Helder\, Bernhardplein 76 C\, Den Helder\, 1781 HK\, Nederland
CATEGORIES:Kop Noord Holland
END:VEVENT
BEGIN:VEVENT
DTSTART;TZID=Europe/Amsterdam:20240515T130000
DTEND;TZID=Europe/Amsterdam:20240515T150000
DTSTAMP:20260420T013914
CREATED:20231201T083838Z
LAST-MODIFIED:20231201T083844Z
UID:10005101-1715778000-1715785200@dehoofdzaak.org
SUMMARY:Schrijfclub Den Helder
DESCRIPTION:Als je van schrijven houdt\, dan ben je misschien op je plek bij de schrijfclub van De Hoofdzaak in Den Helder. We schrijven over alles wat het leven brengt. Over herinneringen\, eenzaamheid\, over sport en spel\, over dieren\, vakanties en andere thema’s. Door het schrijven delen we en zoeken we verbinding.
URL:https://dehoofdzaak.org/agenda/schrijfclub-den-helder-2/2024-05-15/
LOCATION:De Hoofdzaak Den Helder\, Bernhardplein 76 C\, Den Helder\, 1781 HK\, Nederland
CATEGORIES:Kop Noord Holland
END:VEVENT
BEGIN:VEVENT
DTSTART;TZID=Europe/Amsterdam:20240508T130000
DTEND;TZID=Europe/Amsterdam:20240508T150000
DTSTAMP:20260420T013914
CREATED:20231201T083838Z
LAST-MODIFIED:20231201T083844Z
UID:10005100-1715173200-1715180400@dehoofdzaak.org
SUMMARY:Schrijfclub Den Helder
DESCRIPTION:Als je van schrijven houdt\, dan ben je misschien op je plek bij de schrijfclub van De Hoofdzaak in Den Helder. We schrijven over alles wat het leven brengt. Over herinneringen\, eenzaamheid\, over sport en spel\, over dieren\, vakanties en andere thema’s. Door het schrijven delen we en zoeken we verbinding.
URL:https://dehoofdzaak.org/agenda/schrijfclub-den-helder-2/2024-05-08/
LOCATION:De Hoofdzaak Den Helder\, Bernhardplein 76 C\, Den Helder\, 1781 HK\, Nederland
CATEGORIES:Kop Noord Holland
END:VEVENT
BEGIN:VEVENT
DTSTART;TZID=Europe/Amsterdam:20240501T130000
DTEND;TZID=Europe/Amsterdam:20240501T150000
DTSTAMP:20260420T013914
CREATED:20231201T083838Z
LAST-MODIFIED:20231201T083844Z
UID:10005099-1714568400-1714575600@dehoofdzaak.org
SUMMARY:Schrijfclub Den Helder
DESCRIPTION:Als je van schrijven houdt\, dan ben je misschien op je plek bij de schrijfclub van De Hoofdzaak in Den Helder. We schrijven over alles wat het leven brengt. Over herinneringen\, eenzaamheid\, over sport en spel\, over dieren\, vakanties en andere thema’s. Door het schrijven delen we en zoeken we verbinding.
URL:https://dehoofdzaak.org/agenda/schrijfclub-den-helder-2/2024-05-01/
LOCATION:De Hoofdzaak Den Helder\, Bernhardplein 76 C\, Den Helder\, 1781 HK\, Nederland
CATEGORIES:Kop Noord Holland
END:VEVENT
END:VCALENDAR