BEGIN:VCALENDAR
VERSION:2.0
PRODID:-//De Hoofdzaak - ECPv6.15.20//NONSGML v1.0//EN
CALSCALE:GREGORIAN
METHOD:PUBLISH
X-ORIGINAL-URL:https://dehoofdzaak.org
X-WR-CALDESC:Evenementen voor De Hoofdzaak
REFRESH-INTERVAL;VALUE=DURATION:PT1H
X-Robots-Tag:noindex
X-PUBLISHED-TTL:PT1H
BEGIN:VTIMEZONE
TZID:Europe/Amsterdam
BEGIN:DAYLIGHT
TZOFFSETFROM:+0100
TZOFFSETTO:+0200
TZNAME:CEST
DTSTART:20250330T010000
END:DAYLIGHT
BEGIN:STANDARD
TZOFFSETFROM:+0200
TZOFFSETTO:+0100
TZNAME:CET
DTSTART:20251026T010000
END:STANDARD
BEGIN:DAYLIGHT
TZOFFSETFROM:+0100
TZOFFSETTO:+0200
TZNAME:CEST
DTSTART:20260329T010000
END:DAYLIGHT
BEGIN:STANDARD
TZOFFSETFROM:+0200
TZOFFSETTO:+0100
TZNAME:CET
DTSTART:20261025T010000
END:STANDARD
BEGIN:DAYLIGHT
TZOFFSETFROM:+0100
TZOFFSETTO:+0200
TZNAME:CEST
DTSTART:20270328T010000
END:DAYLIGHT
BEGIN:STANDARD
TZOFFSETFROM:+0200
TZOFFSETTO:+0100
TZNAME:CET
DTSTART:20271031T010000
END:STANDARD
END:VTIMEZONE
BEGIN:VEVENT
DTSTART;TZID=Europe/Amsterdam:20260219T130000
DTEND;TZID=Europe/Amsterdam:20260219T150000
DTSTAMP:20260420T092018
CREATED:20251218T112602Z
LAST-MODIFIED:20251218T112608Z
UID:10034338-1771506000-1771513200@dehoofdzaak.org
SUMMARY:Schrijvend op reis!
DESCRIPTION:Aan de slag met schrijfopdrachten. Door te schrijven kun je emoties en ideeën onder woorden brengen en met elkaar delen. De schrijfgroep van Westfriesland vindt tweewekelijks plaats in Hoorn. Schrijf je mee?
URL:https://dehoofdzaak.org/agenda/schrijvend-op-reis/2026-02-19/
LOCATION:De Hoofdzaak Hoorn\, Wilhelminalaan 2\, Hoorn\, 1623 MA\, Nederland
CATEGORIES:Westfriesland
END:VEVENT
BEGIN:VEVENT
DTSTART;TZID=Europe/Amsterdam:20260219T130000
DTEND;TZID=Europe/Amsterdam:20260219T150000
DTSTAMP:20260420T092018
CREATED:20251210T101540Z
LAST-MODIFIED:20251210T101542Z
UID:10026444-1771506000-1771513200@dehoofdzaak.org
SUMMARY:Soul Art
DESCRIPTION:Geef uiting aan je gedachten en gevoelens met creatieve materialen.
URL:https://dehoofdzaak.org/agenda/soul-art-2/2026-02-19/
LOCATION:De Hoofdzaak Hoorn\, Wilhelminalaan 2\, Hoorn\, 1623 MA\, Nederland
CATEGORIES:Westfriesland
END:VEVENT
BEGIN:VEVENT
DTSTART;TZID=Europe/Amsterdam:20260219T100000
DTEND;TZID=Europe/Amsterdam:20260219T120000
DTSTAMP:20260420T092018
CREATED:20251218T112258Z
LAST-MODIFIED:20251218T112301Z
UID:10023722-1771495200-1771502400@dehoofdzaak.org
SUMMARY:Zelfhulpgroep depressie West-Friesland
DESCRIPTION:Gespreksgroep voor mensen die te maken hebben met depressie.
URL:https://dehoofdzaak.org/agenda/zelfhulpgroep-depressie-donderdag-2/2026-02-19/
LOCATION:De Hoofdzaak Hoorn\, Wilhelminalaan 2\, Hoorn\, 1623 MA\, Nederland
CATEGORIES:Westfriesland
END:VEVENT
BEGIN:VEVENT
DTSTART;TZID=Europe/Amsterdam:20260218T133000
DTEND;TZID=Europe/Amsterdam:20260218T161500
DTSTAMP:20260420T092018
CREATED:20251218T111720Z
LAST-MODIFIED:20251218T111723Z
UID:10005620-1771421400-1771431300@dehoofdzaak.org
SUMMARY:Met beide benen op de grond
DESCRIPTION:Vaak hebben mensen allerlei doemscenario’s in hun hoofd die niets met de realiteit te maken hebben. In deze bewustwordingsgroep leer je om vanuit het hier en nu te kijken of er werkelijk een probleem is.
URL:https://dehoofdzaak.org/agenda/met-beide-benen-op-de-grond-2/2026-02-18/
LOCATION:De Hoofdzaak Hoorn\, Wilhelminalaan 2\, Hoorn\, 1623 MA\, Nederland
CATEGORIES:Westfriesland
END:VEVENT
BEGIN:VEVENT
DTSTART;TZID=Europe/Amsterdam:20260218T103000
DTEND;TZID=Europe/Amsterdam:20260218T130000
DTSTAMP:20260420T092018
CREATED:20251210T101325Z
LAST-MODIFIED:20260224T152444Z
UID:10025548-1771410600-1771419600@dehoofdzaak.org
SUMMARY:Verbindend wandelen groep 2 (Hoorn)
DESCRIPTION:Kom in beweging met gelijkgestemden. Ben je graag buiten in de frisse lucht en vind je het fijn om in groepsverband te wandelen? Doe dan gezellig mee! We starten en sluiten af met een kopje koffie of thee.
URL:https://dehoofdzaak.org/agenda/verbindend-wandelen-groep-2-hoorn-2/2026-02-18/
LOCATION:De Hoofdzaak Hoorn\, Wilhelminalaan 2\, Hoorn\, 1623 MA\, Nederland
CATEGORIES:Westfriesland
END:VEVENT
BEGIN:VEVENT
DTSTART;TZID=Europe/Amsterdam:20260218T093000
DTEND;TZID=Europe/Amsterdam:20260218T113000
DTSTAMP:20260420T092018
CREATED:20251218T111405Z
LAST-MODIFIED:20260224T151841Z
UID:10004056-1771407000-1771414200@dehoofdzaak.org
SUMMARY:Verbindend wandelen groep 1 (Hoorn)
DESCRIPTION:Kom in beweging met gelijkgestemden. Ben je graag buiten in de frisse lucht en vind je het fijn om in groepsverband te wandelen? Doe dan gezellig mee! We starten en sluiten af met een kopje koffie of thee.
URL:https://dehoofdzaak.org/agenda/verbindend-wandelen-groep-1-hoorn/2026-02-18/
LOCATION:De Hoofdzaak Hoorn\, Wilhelminalaan 2\, Hoorn\, 1623 MA\, Nederland
CATEGORIES:Westfriesland
END:VEVENT
BEGIN:VEVENT
DTSTART;TZID=Europe/Amsterdam:20260217T190000
DTEND;TZID=Europe/Amsterdam:20260217T210000
DTSTAMP:20260420T092018
CREATED:20250225T121959Z
LAST-MODIFIED:20250225T122010Z
UID:10011643-1771354800-1771362000@dehoofdzaak.org
SUMMARY:Samen sterk\, lotgenotengroep voor naasten
DESCRIPTION:Als een dierbare te maken heeft met psychische ontregeling\, kan het fijn zijn om contact te hebben met andere naasten. Vanuit ervaring begrijp je elkaars zorgen en uitdagingen\, en kun je elkaar steunen.
URL:https://dehoofdzaak.org/agenda/samen-sterk-lotgenotengroep-voor-naasten-3/2026-02-17/
LOCATION:De Hoofdzaak Hoorn\, Wilhelminalaan 2\, Hoorn\, 1623 MA\, Nederland
CATEGORIES:Westfriesland
END:VEVENT
BEGIN:VEVENT
DTSTART;TZID=Europe/Amsterdam:20260217T133000
DTEND;TZID=Europe/Amsterdam:20260217T153000
DTSTAMP:20260420T092018
CREATED:20240228T104044Z
LAST-MODIFIED:20240228T104047Z
UID:10014221-1771335000-1771342200@dehoofdzaak.org
SUMMARY:Dagelijks Autisme
DESCRIPTION:Gespreksgroep voor mensen met autisme.
URL:https://dehoofdzaak.org/agenda/dagelijks-autisme/2026-02-17/
LOCATION:De Hoofdzaak Hoorn\, Wilhelminalaan 2\, Hoorn\, 1623 MA\, Nederland
CATEGORIES:Westfriesland
END:VEVENT
BEGIN:VEVENT
DTSTART;TZID=Europe/Amsterdam:20260217T103000
DTEND;TZID=Europe/Amsterdam:20260217T113000
DTSTAMP:20260420T092018
CREATED:20251218T111102Z
LAST-MODIFIED:20251218T111105Z
UID:10040030-1771324200-1771327800@dehoofdzaak.org
SUMMARY:Open informatie-uur
DESCRIPTION:Open informatie-uur (i.s.m. de Herstelacademie van GGZ NHN). Wil je weten wat er bij beide organisaties te doen is? Kom gewoon zonder afspraak langs!
URL:https://dehoofdzaak.org/agenda/open-informatie-uur-2/2026-02-17/
LOCATION:De Hoofdzaak Hoorn\, Wilhelminalaan 2\, Hoorn\, 1623 MA\, Nederland
CATEGORIES:Westfriesland
END:VEVENT
BEGIN:VEVENT
DTSTART;TZID=Europe/Amsterdam:20260217T100000
DTEND;TZID=Europe/Amsterdam:20260217T120000
DTSTAMP:20260420T092018
CREATED:20240701T093136Z
LAST-MODIFIED:20241126T085659Z
UID:10018973-1771322400-1771329600@dehoofdzaak.org
SUMMARY:Mama+ café
DESCRIPTION:Het Mama+ café is specifiek voor moeders met (jonge) kinderen. Moeders met een psychische kwetsbaarheid kunnen elkaar ontmoeten en ervaringen delen\, maar er is ook ruimte voor gezelligheid en ontspanning. Het Mama+ café is een plek waar je jezelf kunt zijn. Je kunt er gewoon binnenkomen voor een kop koffie of thee en ook de kind(eren) zijn van harte welkom. Vrijwilligers van De Hoofdzaak heten je welkom en staan voor je klaar.
URL:https://dehoofdzaak.org/agenda/mama-cafe/2026-02-17/
LOCATION:De Hoofdzaak Hoorn\, Wilhelminalaan 2\, Hoorn\, 1623 MA\, Nederland
CATEGORIES:Westfriesland
END:VEVENT
BEGIN:VEVENT
DTSTART;TZID=Europe/Amsterdam:20260216T190000
DTEND;TZID=Europe/Amsterdam:20260216T213000
DTSTAMP:20260420T092018
CREATED:20251218T113618Z
LAST-MODIFIED:20251218T113620Z
UID:10040521-1771268400-1771277400@dehoofdzaak.org
SUMMARY:Thematische gespreksgroep autisme (jongvolwassenen)
DESCRIPTION:
URL:https://dehoofdzaak.org/agenda/thematische-gespreksgroep-autisme-jongvolwassenen-2/2026-02-16/
LOCATION:De Hoofdzaak Hoorn\, Wilhelminalaan 2\, Hoorn\, 1623 MA\, Nederland
CATEGORIES:Westfriesland
END:VEVENT
BEGIN:VEVENT
DTSTART;TZID=Europe/Amsterdam:20260216T133000
DTEND;TZID=Europe/Amsterdam:20260216T150000
DTSTAMP:20260420T092018
CREATED:20251218T111239Z
LAST-MODIFIED:20251218T111243Z
UID:10025373-1771248600-1771254000@dehoofdzaak.org
SUMMARY:Gespreksgroep Lighthouse
DESCRIPTION:Gespreksgroep voor volwassenen met persoonlijke ervaring met zelfbeschadiging.
URL:https://dehoofdzaak.org/agenda/gespreksgroep-lighthouse-2/2026-02-16/
LOCATION:De Hoofdzaak Hoorn\, Wilhelminalaan 2\, Hoorn\, 1623 MA\, Nederland
CATEGORIES:Westfriesland
END:VEVENT
BEGIN:VEVENT
DTSTART;TZID=Europe/Amsterdam:20260216T100000
DTEND;TZID=Europe/Amsterdam:20260216T120000
DTSTAMP:20260420T092018
CREATED:20251210T101105Z
LAST-MODIFIED:20251218T110318Z
UID:10002360-1771236000-1771243200@dehoofdzaak.org
SUMMARY:Fotografiegroep 'Hoofdzaken door de lens'
DESCRIPTION:Tijdens de bijeenkomsten van ‘Hoofdzaken door de lens’ gaat het niet om het perfecte plaatje. Je gebruikt beelden om je eigen verhaal te vertellen. Bijvoorbeeld aan de hand van verschillende thema’s en opdrachten. \n\n\n\nMeer info: Fotografiegroep ‘Hoofdzaken door de lens’ | De Hoofdzaak
URL:https://dehoofdzaak.org/agenda/fotografiegroep-hoofdzaken-door-de-lens/2026-02-16/
LOCATION:De Hoofdzaak Hoorn\, Wilhelminalaan 2\, Hoorn\, 1623 MA\, Nederland
CATEGORIES:Westfriesland
END:VEVENT
BEGIN:VEVENT
DTSTART;TZID=Europe/Amsterdam:20260216T100000
DTEND;TZID=Europe/Amsterdam:20260216T120000
DTSTAMP:20260420T092018
CREATED:20240214T111832Z
LAST-MODIFIED:20251218T105158Z
UID:10013961-1771236000-1771243200@dehoofdzaak.org
SUMMARY:Opgeruimd huis\, opgeruimd hoofd
DESCRIPTION:Een opgeruimd huis geeft rust. Lukt het jou niet je huis op orde te krijgen? En wil je daarover in gesprek? Doe dan mee met deze groep.
URL:https://dehoofdzaak.org/agenda/opgeruimd-huis-opgeruimd-hoofd/2026-02-16/
LOCATION:De Hoofdzaak Hoorn\, Wilhelminalaan 2\, Hoorn\, 1623 MA\, Nederland
CATEGORIES:Westfriesland
END:VEVENT
BEGIN:VEVENT
DTSTART;TZID=Europe/Amsterdam:20260214T133000
DTEND;TZID=Europe/Amsterdam:20260214T163000
DTSTAMP:20260420T092018
CREATED:20241111T075459Z
LAST-MODIFIED:20250203T160640Z
UID:10021800-1771075800-1771086600@dehoofdzaak.org
SUMMARY:Bordspellenmiddag i.s.m. NVA
DESCRIPTION:Kom gezellig bordspellen spelen! Neurodivers-vriendelijk :).
URL:https://dehoofdzaak.org/agenda/bordspellenmiddag-i-s-m-nva/2026-02-14/
LOCATION:De Hoofdzaak Hoorn\, Wilhelminalaan 2\, Hoorn\, 1623 MA\, Nederland
CATEGORIES:Westfriesland
END:VEVENT
BEGIN:VEVENT
DTSTART;TZID=Europe/Amsterdam:20260213T190000
DTEND;TZID=Europe/Amsterdam:20260213T220000
DTSTAMP:20260420T092018
CREATED:20250424T150141Z
LAST-MODIFIED:20250911T093559Z
UID:10035453-1771009200-1771020000@dehoofdzaak.org
SUMMARY:Spelletjes avonden in De Verbinding
DESCRIPTION:Om de week organiseren we in de Verbinding spelletjes avonden. De spelletjes staan klaar en we kijken elke keer waar we zin in hebben. Heb je een zelf een leuk spel? Neem hem mee! Speel je gezellig met ons een spelletje mee?
URL:https://dehoofdzaak.org/agenda/frisse-avonden-in-de-verbinding-2/2026-02-13/
LOCATION:De Hoofdzaak Hoorn\, Wilhelminalaan 2\, Hoorn\, 1623 MA\, Nederland
CATEGORIES:Westfriesland
END:VEVENT
BEGIN:VEVENT
DTSTART;TZID=Europe/Amsterdam:20260213T134500
DTEND;TZID=Europe/Amsterdam:20260213T153000
DTSTAMP:20260420T092018
CREATED:20251210T102748Z
LAST-MODIFIED:20260312T074957Z
UID:10037256-1770990300-1770996600@dehoofdzaak.org
SUMMARY:Mannengroep
DESCRIPTION:De bijeenkomsten\, specifiek voor mannen\, starten met een zitmeditatie. Daarna is er ruimte om datgene met elkaar te delen wat je op dat moment zou willen delen. Alles is oké. We sluiten af met een klein beetje Tai Chi.
URL:https://dehoofdzaak.org/agenda/mannengroep-3/2026-02-13/
LOCATION:De Hoofdzaak Hoorn\, Wilhelminalaan 2\, Hoorn\, 1623 MA\, Nederland
CATEGORIES:Westfriesland
END:VEVENT
BEGIN:VEVENT
DTSTART;TZID=Europe/Amsterdam:20260212T130000
DTEND;TZID=Europe/Amsterdam:20260212T150000
DTSTAMP:20260420T092018
CREATED:20251210T101540Z
LAST-MODIFIED:20251210T101542Z
UID:10026443-1770901200-1770908400@dehoofdzaak.org
SUMMARY:Soul Art
DESCRIPTION:Geef uiting aan je gedachten en gevoelens met creatieve materialen.
URL:https://dehoofdzaak.org/agenda/soul-art-2/2026-02-12/
LOCATION:De Hoofdzaak Hoorn\, Wilhelminalaan 2\, Hoorn\, 1623 MA\, Nederland
CATEGORIES:Westfriesland
END:VEVENT
BEGIN:VEVENT
DTSTART;TZID=Europe/Amsterdam:20260211T190000
DTEND;TZID=Europe/Amsterdam:20260211T213000
DTSTAMP:20260420T092018
CREATED:20240328T155738Z
LAST-MODIFIED:20240328T155742Z
UID:10014987-1770836400-1770845400@dehoofdzaak.org
SUMMARY:Thematische gespreksgroep autisme (volwassenen)
DESCRIPTION:
URL:https://dehoofdzaak.org/agenda/thematische-gespreksgroep-autisme-volwassenen-2/2026-02-11/
LOCATION:De Hoofdzaak Hoorn\, Wilhelminalaan 2\, Hoorn\, 1623 MA\, Nederland
CATEGORIES:Westfriesland
END:VEVENT
BEGIN:VEVENT
DTSTART;TZID=Europe/Amsterdam:20260211T103000
DTEND;TZID=Europe/Amsterdam:20260211T130000
DTSTAMP:20260420T092018
CREATED:20251210T101325Z
LAST-MODIFIED:20260224T152444Z
UID:10025547-1770805800-1770814800@dehoofdzaak.org
SUMMARY:Verbindend wandelen groep 2 (Hoorn)
DESCRIPTION:Kom in beweging met gelijkgestemden. Ben je graag buiten in de frisse lucht en vind je het fijn om in groepsverband te wandelen? Doe dan gezellig mee! We starten en sluiten af met een kopje koffie of thee.
URL:https://dehoofdzaak.org/agenda/verbindend-wandelen-groep-2-hoorn-2/2026-02-11/
LOCATION:De Hoofdzaak Hoorn\, Wilhelminalaan 2\, Hoorn\, 1623 MA\, Nederland
CATEGORIES:Westfriesland
END:VEVENT
BEGIN:VEVENT
DTSTART;TZID=Europe/Amsterdam:20260211T093000
DTEND;TZID=Europe/Amsterdam:20260211T113000
DTSTAMP:20260420T092018
CREATED:20251218T111405Z
LAST-MODIFIED:20260224T151841Z
UID:10004055-1770802200-1770809400@dehoofdzaak.org
SUMMARY:Verbindend wandelen groep 1 (Hoorn)
DESCRIPTION:Kom in beweging met gelijkgestemden. Ben je graag buiten in de frisse lucht en vind je het fijn om in groepsverband te wandelen? Doe dan gezellig mee! We starten en sluiten af met een kopje koffie of thee.
URL:https://dehoofdzaak.org/agenda/verbindend-wandelen-groep-1-hoorn/2026-02-11/
LOCATION:De Hoofdzaak Hoorn\, Wilhelminalaan 2\, Hoorn\, 1623 MA\, Nederland
CATEGORIES:Westfriesland
END:VEVENT
BEGIN:VEVENT
DTSTART;TZID=Europe/Amsterdam:20260210T140000
DTEND;TZID=Europe/Amsterdam:20260210T170000
DTSTAMP:20260420T092018
CREATED:20251210T103805Z
LAST-MODIFIED:20260224T145841Z
UID:10039829-1770732000-1770742800@dehoofdzaak.org
SUMMARY:Het opstellen van verlangen (Hoorn)
DESCRIPTION:Het opstellen van het verlangen is een speelse methode om de zoektocht naar het eigen verlangen te verkennen. Het vindt zijn oorsprong in familieopstellingen. Door het verlangen op te stellen kun je nieuwe inzichten opdoen.
URL:https://dehoofdzaak.org/agenda/het-opstellen-van-verlangen-hoorn-3/2026-02-10/
LOCATION:De Hoofdzaak Hoorn\, Wilhelminalaan 2\, Hoorn\, 1623 MA\, Nederland
CATEGORIES:Westfriesland
END:VEVENT
BEGIN:VEVENT
DTSTART;TZID=Europe/Amsterdam:20260210T103000
DTEND;TZID=Europe/Amsterdam:20260210T113000
DTSTAMP:20260420T092018
CREATED:20251218T111102Z
LAST-MODIFIED:20251218T111105Z
UID:10040029-1770719400-1770723000@dehoofdzaak.org
SUMMARY:Open informatie-uur
DESCRIPTION:Open informatie-uur (i.s.m. de Herstelacademie van GGZ NHN). Wil je weten wat er bij beide organisaties te doen is? Kom gewoon zonder afspraak langs!
URL:https://dehoofdzaak.org/agenda/open-informatie-uur-2/2026-02-10/
LOCATION:De Hoofdzaak Hoorn\, Wilhelminalaan 2\, Hoorn\, 1623 MA\, Nederland
CATEGORIES:Westfriesland
END:VEVENT
BEGIN:VEVENT
DTSTART;TZID=Europe/Amsterdam:20260210T100000
DTEND;TZID=Europe/Amsterdam:20260210T120000
DTSTAMP:20260420T092018
CREATED:20240701T093136Z
LAST-MODIFIED:20241126T085659Z
UID:10018972-1770717600-1770724800@dehoofdzaak.org
SUMMARY:Mama+ café
DESCRIPTION:Het Mama+ café is specifiek voor moeders met (jonge) kinderen. Moeders met een psychische kwetsbaarheid kunnen elkaar ontmoeten en ervaringen delen\, maar er is ook ruimte voor gezelligheid en ontspanning. Het Mama+ café is een plek waar je jezelf kunt zijn. Je kunt er gewoon binnenkomen voor een kop koffie of thee en ook de kind(eren) zijn van harte welkom. Vrijwilligers van De Hoofdzaak heten je welkom en staan voor je klaar.
URL:https://dehoofdzaak.org/agenda/mama-cafe/2026-02-10/
LOCATION:De Hoofdzaak Hoorn\, Wilhelminalaan 2\, Hoorn\, 1623 MA\, Nederland
CATEGORIES:Westfriesland
END:VEVENT
BEGIN:VEVENT
DTSTART;TZID=Europe/Amsterdam:20260209T140000
DTEND;TZID=Europe/Amsterdam:20260209T163000
DTSTAMP:20260420T092018
CREATED:20230822T133812Z
LAST-MODIFIED:20240717T061233Z
UID:10004968-1770645600-1770654600@dehoofdzaak.org
SUMMARY:Zelfhulpgroep Krachtig vanuit kwetsbaarheid
DESCRIPTION:Gespreksgroep waarin we elkaar steunen\, in een veilige setting ervaringen te delen. Zo ontwikkelen we samen kracht uit kwetsbaarheid.
URL:https://dehoofdzaak.org/agenda/zelfhulpgroep-krachtig-uit-kwetsbaarheid/2026-02-09/
LOCATION:De Hoofdzaak Hoorn\, Wilhelminalaan 2\, Hoorn\, 1623 MA\, Nederland
CATEGORIES:Westfriesland
END:VEVENT
BEGIN:VEVENT
DTSTART;TZID=Europe/Amsterdam:20260209T100000
DTEND;TZID=Europe/Amsterdam:20260209T113000
DTSTAMP:20260420T092018
CREATED:20251218T113435Z
LAST-MODIFIED:20251218T113438Z
UID:10003459-1770631200-1770636600@dehoofdzaak.org
SUMMARY:Verbindend autisme
DESCRIPTION:Een gesprekgroep voor mensen met autisme.
URL:https://dehoofdzaak.org/agenda/verbindend-autisme-2/2026-02-09/
LOCATION:De Hoofdzaak Hoorn\, Wilhelminalaan 2\, Hoorn\, 1623 MA\, Nederland
CATEGORIES:Westfriesland
END:VEVENT
BEGIN:VEVENT
DTSTART;TZID=Europe/Amsterdam:20260206T133000
DTEND;TZID=Europe/Amsterdam:20260206T150000
DTSTAMP:20260420T092018
CREATED:20251218T101820Z
LAST-MODIFIED:20251218T113343Z
UID:10008756-1770384600-1770390000@dehoofdzaak.org
SUMMARY:In gesprek met elkaar
DESCRIPTION:Gespreksgroep. Elke week is er een wisselende gespreksleider. Hij of zij geeft de aanzet voor een gesprek\, maar eigen inbreng is ook altijd welkom.
URL:https://dehoofdzaak.org/agenda/in-gesprek-met-elkaar-3/2026-02-06/
LOCATION:De Hoofdzaak Hoorn\, Wilhelminalaan 2\, Hoorn\, 1623 MA\, Nederland
CATEGORIES:Westfriesland
END:VEVENT
BEGIN:VEVENT
DTSTART;TZID=Europe/Amsterdam:20260205T190000
DTEND;TZID=Europe/Amsterdam:20260205T220000
DTSTAMP:20260420T092018
CREATED:20250923T135749Z
LAST-MODIFIED:20251209T153131Z
UID:10036013-1770318000-1770328800@dehoofdzaak.org
SUMMARY:Jongerenavond
DESCRIPTION:Heb je behoefte aan een gezellige avond met gelijkgestemde jongeren\, die jou begrijpen en waar je jezelf kunt zijn? Kom dan naar de jongerenavonden bij de Hoofdzaak. Samen doen we leuke activiteiten\, zoals een spelletje Hitster\, gamen\, weerwolven\, en nog veel meer.  \n\n\n\nDeze avonden worden georganiseerd door onze ervaringsdeskundigen\, voor en door jongeren van 16 t/m 27 jaar. Zij weten door eigen ervaring wat je voelt en begrijpen jouw kwetsbaarheid.
URL:https://dehoofdzaak.org/agenda/jongerenavond-4/2026-02-05/
LOCATION:De Hoofdzaak Hoorn\, Wilhelminalaan 2\, Hoorn\, 1623 MA\, Nederland
CATEGORIES:Westfriesland
END:VEVENT
BEGIN:VEVENT
DTSTART;TZID=Europe/Amsterdam:20260205T190000
DTEND;TZID=Europe/Amsterdam:20260205T220000
DTSTAMP:20260420T092018
CREATED:20250313T102543Z
LAST-MODIFIED:20260313T110505Z
UID:10027053-1770318000-1770328800@dehoofdzaak.org
SUMMARY:Jongerenavond Hoorn
DESCRIPTION:Heb je behoefte aan een gezellige avond met gelijkgestemde jongeren\, die jou begrijpen en waar je jezelf kunt zijn? Kom dan naar de jongerenavonden bij de Hoofdzaak. Samen doen we leuke activiteiten\, zoals een spelletje Hitster\, gamen\, weerwolven\, en nog veel meer.  \n\n\n\nDeze avonden worden georganiseerd door onze ervaringsdeskundigen\, voor en door jongeren van 16 t/m 27 jaar. Zij weten door eigen ervaring wat je voelt en begrijpen jouw kwetsbaarheid.
URL:https://dehoofdzaak.org/agenda/jongerenavond-2/2026-02-05/
LOCATION:De Hoofdzaak Hoorn\, Wilhelminalaan 2\, Hoorn\, 1623 MA\, Nederland
CATEGORIES:Westfriesland
END:VEVENT
BEGIN:VEVENT
DTSTART;TZID=Europe/Amsterdam:20260205T130000
DTEND;TZID=Europe/Amsterdam:20260205T150000
DTSTAMP:20260420T092018
CREATED:20251218T112602Z
LAST-MODIFIED:20251218T112608Z
UID:10034337-1770296400-1770303600@dehoofdzaak.org
SUMMARY:Schrijvend op reis!
DESCRIPTION:Aan de slag met schrijfopdrachten. Door te schrijven kun je emoties en ideeën onder woorden brengen en met elkaar delen. De schrijfgroep van Westfriesland vindt tweewekelijks plaats in Hoorn. Schrijf je mee?
URL:https://dehoofdzaak.org/agenda/schrijvend-op-reis/2026-02-05/
LOCATION:De Hoofdzaak Hoorn\, Wilhelminalaan 2\, Hoorn\, 1623 MA\, Nederland
CATEGORIES:Westfriesland
END:VEVENT
END:VCALENDAR