BEGIN:VCALENDAR
VERSION:2.0
PRODID:-//De Hoofdzaak - ECPv6.15.20//NONSGML v1.0//EN
CALSCALE:GREGORIAN
METHOD:PUBLISH
X-WR-CALNAME:De Hoofdzaak
X-ORIGINAL-URL:https://dehoofdzaak.org
X-WR-CALDESC:Evenementen voor De Hoofdzaak
REFRESH-INTERVAL;VALUE=DURATION:PT1H
X-Robots-Tag:noindex
X-PUBLISHED-TTL:PT1H
BEGIN:VTIMEZONE
TZID:Europe/Amsterdam
BEGIN:DAYLIGHT
TZOFFSETFROM:+0100
TZOFFSETTO:+0200
TZNAME:CEST
DTSTART:20250330T010000
END:DAYLIGHT
BEGIN:STANDARD
TZOFFSETFROM:+0200
TZOFFSETTO:+0100
TZNAME:CET
DTSTART:20251026T010000
END:STANDARD
BEGIN:DAYLIGHT
TZOFFSETFROM:+0100
TZOFFSETTO:+0200
TZNAME:CEST
DTSTART:20260329T010000
END:DAYLIGHT
BEGIN:STANDARD
TZOFFSETFROM:+0200
TZOFFSETTO:+0100
TZNAME:CET
DTSTART:20261025T010000
END:STANDARD
BEGIN:DAYLIGHT
TZOFFSETFROM:+0100
TZOFFSETTO:+0200
TZNAME:CEST
DTSTART:20270328T010000
END:DAYLIGHT
BEGIN:STANDARD
TZOFFSETFROM:+0200
TZOFFSETTO:+0100
TZNAME:CET
DTSTART:20271031T010000
END:STANDARD
END:VTIMEZONE
BEGIN:VEVENT
DTSTART;TZID=Europe/Amsterdam:20260413T190000
DTEND;TZID=Europe/Amsterdam:20260413T213000
DTSTAMP:20260419T161546
CREATED:20251218T113618Z
LAST-MODIFIED:20251218T113620Z
UID:10040525-1776106800-1776115800@dehoofdzaak.org
SUMMARY:Thematische gespreksgroep autisme (jongvolwassenen)
DESCRIPTION:
URL:https://dehoofdzaak.org/agenda/thematische-gespreksgroep-autisme-jongvolwassenen-2/2026-04-13/
LOCATION:De Hoofdzaak Hoorn\, Wilhelminalaan 2\, Hoorn\, 1623 MA\, Nederland
CATEGORIES:Westfriesland
END:VEVENT
BEGIN:VEVENT
DTSTART;TZID=Europe/Amsterdam:20260413T133000
DTEND;TZID=Europe/Amsterdam:20260413T150000
DTSTAMP:20260419T161546
CREATED:20251218T111239Z
LAST-MODIFIED:20251218T111243Z
UID:10025377-1776087000-1776092400@dehoofdzaak.org
SUMMARY:Gespreksgroep Lighthouse
DESCRIPTION:Gespreksgroep voor volwassenen met persoonlijke ervaring met zelfbeschadiging.
URL:https://dehoofdzaak.org/agenda/gespreksgroep-lighthouse-2/2026-04-13/
LOCATION:De Hoofdzaak Hoorn\, Wilhelminalaan 2\, Hoorn\, 1623 MA\, Nederland
CATEGORIES:Westfriesland
END:VEVENT
BEGIN:VEVENT
DTSTART;TZID=Europe/Amsterdam:20260413T100000
DTEND;TZID=Europe/Amsterdam:20260413T120000
DTSTAMP:20260419T161546
CREATED:20251210T101105Z
LAST-MODIFIED:20251218T110318Z
UID:10002364-1776074400-1776081600@dehoofdzaak.org
SUMMARY:Fotografiegroep 'Hoofdzaken door de lens'
DESCRIPTION:Tijdens de bijeenkomsten van ‘Hoofdzaken door de lens’ gaat het niet om het perfecte plaatje. Je gebruikt beelden om je eigen verhaal te vertellen. Bijvoorbeeld aan de hand van verschillende thema’s en opdrachten. \n\n\n\nMeer info: Fotografiegroep ‘Hoofdzaken door de lens’ | De Hoofdzaak
URL:https://dehoofdzaak.org/agenda/fotografiegroep-hoofdzaken-door-de-lens/2026-04-13/
LOCATION:De Hoofdzaak Hoorn\, Wilhelminalaan 2\, Hoorn\, 1623 MA\, Nederland
CATEGORIES:Westfriesland
END:VEVENT
BEGIN:VEVENT
DTSTART;TZID=Europe/Amsterdam:20260413T100000
DTEND;TZID=Europe/Amsterdam:20260413T120000
DTSTAMP:20260419T161546
CREATED:20240214T111832Z
LAST-MODIFIED:20251218T105158Z
UID:10013965-1776074400-1776081600@dehoofdzaak.org
SUMMARY:Opgeruimd huis\, opgeruimd hoofd
DESCRIPTION:Een opgeruimd huis geeft rust. Lukt het jou niet je huis op orde te krijgen? En wil je daarover in gesprek? Doe dan mee met deze groep.
URL:https://dehoofdzaak.org/agenda/opgeruimd-huis-opgeruimd-hoofd/2026-04-13/
LOCATION:De Hoofdzaak Hoorn\, Wilhelminalaan 2\, Hoorn\, 1623 MA\, Nederland
CATEGORIES:Westfriesland
END:VEVENT
BEGIN:VEVENT
DTSTART;TZID=Europe/Amsterdam:20260411T133000
DTEND;TZID=Europe/Amsterdam:20260411T163000
DTSTAMP:20260419T161546
CREATED:20241111T075459Z
LAST-MODIFIED:20250203T160640Z
UID:10021802-1775914200-1775925000@dehoofdzaak.org
SUMMARY:Bordspellenmiddag i.s.m. NVA
DESCRIPTION:Kom gezellig bordspellen spelen! Neurodivers-vriendelijk :).
URL:https://dehoofdzaak.org/agenda/bordspellenmiddag-i-s-m-nva/2026-04-11/
LOCATION:De Hoofdzaak Hoorn\, Wilhelminalaan 2\, Hoorn\, 1623 MA\, Nederland
CATEGORIES:Westfriesland
END:VEVENT
BEGIN:VEVENT
DTSTART;TZID=Europe/Amsterdam:20260410T190000
DTEND;TZID=Europe/Amsterdam:20260410T220000
DTSTAMP:20260419T161546
CREATED:20250424T150141Z
LAST-MODIFIED:20250911T093559Z
UID:10035457-1775847600-1775858400@dehoofdzaak.org
SUMMARY:Spelletjes avonden in De Verbinding
DESCRIPTION:Om de week organiseren we in de Verbinding spelletjes avonden. De spelletjes staan klaar en we kijken elke keer waar we zin in hebben. Heb je een zelf een leuk spel? Neem hem mee! Speel je gezellig met ons een spelletje mee?
URL:https://dehoofdzaak.org/agenda/frisse-avonden-in-de-verbinding-2/2026-04-10/
LOCATION:De Hoofdzaak Hoorn\, Wilhelminalaan 2\, Hoorn\, 1623 MA\, Nederland
CATEGORIES:Westfriesland
END:VEVENT
BEGIN:VEVENT
DTSTART;TZID=Europe/Amsterdam:20260410T134500
DTEND;TZID=Europe/Amsterdam:20260410T153000
DTSTAMP:20260419T161546
CREATED:20251210T102748Z
LAST-MODIFIED:20260312T074957Z
UID:10037260-1775828700-1775835000@dehoofdzaak.org
SUMMARY:Mannengroep
DESCRIPTION:De bijeenkomsten\, specifiek voor mannen\, starten met een zitmeditatie. Daarna is er ruimte om datgene met elkaar te delen wat je op dat moment zou willen delen. Alles is oké. We sluiten af met een klein beetje Tai Chi.
URL:https://dehoofdzaak.org/agenda/mannengroep-3/2026-04-10/
LOCATION:De Hoofdzaak Hoorn\, Wilhelminalaan 2\, Hoorn\, 1623 MA\, Nederland
CATEGORIES:Westfriesland
END:VEVENT
BEGIN:VEVENT
DTSTART;TZID=Europe/Amsterdam:20260409T130000
DTEND;TZID=Europe/Amsterdam:20260409T150000
DTSTAMP:20260419T161546
CREATED:20251210T101540Z
LAST-MODIFIED:20251210T101542Z
UID:10026451-1775739600-1775746800@dehoofdzaak.org
SUMMARY:Soul Art
DESCRIPTION:Geef uiting aan je gedachten en gevoelens met creatieve materialen.
URL:https://dehoofdzaak.org/agenda/soul-art-2/2026-04-09/
LOCATION:De Hoofdzaak Hoorn\, Wilhelminalaan 2\, Hoorn\, 1623 MA\, Nederland
CATEGORIES:Westfriesland
END:VEVENT
BEGIN:VEVENT
DTSTART;TZID=Europe/Amsterdam:20260408T190000
DTEND;TZID=Europe/Amsterdam:20260408T213000
DTSTAMP:20260419T161546
CREATED:20240328T155738Z
LAST-MODIFIED:20240328T155742Z
UID:10014989-1775674800-1775683800@dehoofdzaak.org
SUMMARY:Thematische gespreksgroep autisme (volwassenen)
DESCRIPTION:
URL:https://dehoofdzaak.org/agenda/thematische-gespreksgroep-autisme-volwassenen-2/2026-04-08/
LOCATION:De Hoofdzaak Hoorn\, Wilhelminalaan 2\, Hoorn\, 1623 MA\, Nederland
CATEGORIES:Westfriesland
END:VEVENT
BEGIN:VEVENT
DTSTART;TZID=Europe/Amsterdam:20260408T103000
DTEND;TZID=Europe/Amsterdam:20260408T130000
DTSTAMP:20260419T161546
CREATED:20251210T101325Z
LAST-MODIFIED:20260224T152444Z
UID:10025555-1775644200-1775653200@dehoofdzaak.org
SUMMARY:Verbindend wandelen groep 2 (Hoorn)
DESCRIPTION:Kom in beweging met gelijkgestemden. Ben je graag buiten in de frisse lucht en vind je het fijn om in groepsverband te wandelen? Doe dan gezellig mee! We starten en sluiten af met een kopje koffie of thee.
URL:https://dehoofdzaak.org/agenda/verbindend-wandelen-groep-2-hoorn-2/2026-04-08/
LOCATION:De Hoofdzaak Hoorn\, Wilhelminalaan 2\, Hoorn\, 1623 MA\, Nederland
CATEGORIES:Westfriesland
END:VEVENT
BEGIN:VEVENT
DTSTART;TZID=Europe/Amsterdam:20260408T093000
DTEND;TZID=Europe/Amsterdam:20260408T113000
DTSTAMP:20260419T161546
CREATED:20251218T111405Z
LAST-MODIFIED:20260224T151841Z
UID:10004063-1775640600-1775647800@dehoofdzaak.org
SUMMARY:Verbindend wandelen groep 1 (Hoorn)
DESCRIPTION:Kom in beweging met gelijkgestemden. Ben je graag buiten in de frisse lucht en vind je het fijn om in groepsverband te wandelen? Doe dan gezellig mee! We starten en sluiten af met een kopje koffie of thee.
URL:https://dehoofdzaak.org/agenda/verbindend-wandelen-groep-1-hoorn/2026-04-08/
LOCATION:De Hoofdzaak Hoorn\, Wilhelminalaan 2\, Hoorn\, 1623 MA\, Nederland
CATEGORIES:Westfriesland
END:VEVENT
BEGIN:VEVENT
DTSTART;TZID=Europe/Amsterdam:20260407T140000
DTEND;TZID=Europe/Amsterdam:20260407T170000
DTSTAMP:20260419T161546
CREATED:20251210T103805Z
LAST-MODIFIED:20260224T145841Z
UID:10039831-1775570400-1775581200@dehoofdzaak.org
SUMMARY:Het opstellen van verlangen (Hoorn)
DESCRIPTION:Het opstellen van het verlangen is een speelse methode om de zoektocht naar het eigen verlangen te verkennen. Het vindt zijn oorsprong in familieopstellingen. Door het verlangen op te stellen kun je nieuwe inzichten opdoen.
URL:https://dehoofdzaak.org/agenda/het-opstellen-van-verlangen-hoorn-3/2026-04-07/
LOCATION:De Hoofdzaak Hoorn\, Wilhelminalaan 2\, Hoorn\, 1623 MA\, Nederland
CATEGORIES:Westfriesland
END:VEVENT
BEGIN:VEVENT
DTSTART;TZID=Europe/Amsterdam:20260407T103000
DTEND;TZID=Europe/Amsterdam:20260407T113000
DTSTAMP:20260419T161546
CREATED:20251218T111102Z
LAST-MODIFIED:20251218T111105Z
UID:10040037-1775557800-1775561400@dehoofdzaak.org
SUMMARY:Open informatie-uur
DESCRIPTION:Open informatie-uur (i.s.m. de Herstelacademie van GGZ NHN). Wil je weten wat er bij beide organisaties te doen is? Kom gewoon zonder afspraak langs!
URL:https://dehoofdzaak.org/agenda/open-informatie-uur-2/2026-04-07/
LOCATION:De Hoofdzaak Hoorn\, Wilhelminalaan 2\, Hoorn\, 1623 MA\, Nederland
CATEGORIES:Westfriesland
END:VEVENT
BEGIN:VEVENT
DTSTART;TZID=Europe/Amsterdam:20260407T100000
DTEND;TZID=Europe/Amsterdam:20260407T120000
DTSTAMP:20260419T161546
CREATED:20240701T093136Z
LAST-MODIFIED:20241126T085659Z
UID:10018980-1775556000-1775563200@dehoofdzaak.org
SUMMARY:Mama+ café
DESCRIPTION:Het Mama+ café is specifiek voor moeders met (jonge) kinderen. Moeders met een psychische kwetsbaarheid kunnen elkaar ontmoeten en ervaringen delen\, maar er is ook ruimte voor gezelligheid en ontspanning. Het Mama+ café is een plek waar je jezelf kunt zijn. Je kunt er gewoon binnenkomen voor een kop koffie of thee en ook de kind(eren) zijn van harte welkom. Vrijwilligers van De Hoofdzaak heten je welkom en staan voor je klaar.
URL:https://dehoofdzaak.org/agenda/mama-cafe/2026-04-07/
LOCATION:De Hoofdzaak Hoorn\, Wilhelminalaan 2\, Hoorn\, 1623 MA\, Nederland
CATEGORIES:Westfriesland
END:VEVENT
BEGIN:VEVENT
DTSTART;TZID=Europe/Amsterdam:20260406T140000
DTEND;TZID=Europe/Amsterdam:20260406T163000
DTSTAMP:20260419T161546
CREATED:20230822T133812Z
LAST-MODIFIED:20240717T061233Z
UID:10004972-1775484000-1775493000@dehoofdzaak.org
SUMMARY:Zelfhulpgroep Krachtig vanuit kwetsbaarheid
DESCRIPTION:Gespreksgroep waarin we elkaar steunen\, in een veilige setting ervaringen te delen. Zo ontwikkelen we samen kracht uit kwetsbaarheid.
URL:https://dehoofdzaak.org/agenda/zelfhulpgroep-krachtig-uit-kwetsbaarheid/2026-04-06/
LOCATION:De Hoofdzaak Hoorn\, Wilhelminalaan 2\, Hoorn\, 1623 MA\, Nederland
CATEGORIES:Westfriesland
END:VEVENT
BEGIN:VEVENT
DTSTART;TZID=Europe/Amsterdam:20260406T133000
DTEND;TZID=Europe/Amsterdam:20260406T160000
DTSTAMP:20260419T161546
CREATED:20260331T101012Z
LAST-MODIFIED:20260331T101014Z
UID:10045217-1775482200-1775491200@dehoofdzaak.org
SUMMARY:Extra: ontmoetingscafé open Tweede paasdag!
DESCRIPTION:Gezellig met elkaar zijn onder het genot van paaslekkernijen en koffie of thee! Zien we je dan?
URL:https://dehoofdzaak.org/agenda/extra-ontmoetingscafe-open-tweede-paasdag/
LOCATION:De Hoofdzaak Hoorn\, Wilhelminalaan 2\, Hoorn\, 1623 MA\, Nederland
CATEGORIES:Westfriesland
END:VEVENT
BEGIN:VEVENT
DTSTART;TZID=Europe/Amsterdam:20260406T100000
DTEND;TZID=Europe/Amsterdam:20260406T113000
DTSTAMP:20260419T161546
CREATED:20251218T113435Z
LAST-MODIFIED:20251218T113438Z
UID:10003463-1775469600-1775475000@dehoofdzaak.org
SUMMARY:Verbindend autisme
DESCRIPTION:Een gesprekgroep voor mensen met autisme.
URL:https://dehoofdzaak.org/agenda/verbindend-autisme-2/2026-04-06/
LOCATION:De Hoofdzaak Hoorn\, Wilhelminalaan 2\, Hoorn\, 1623 MA\, Nederland
CATEGORIES:Westfriesland
END:VEVENT
BEGIN:VEVENT
DTSTART;TZID=Europe/Amsterdam:20260404T133000
DTEND;TZID=Europe/Amsterdam:20260404T160000
DTSTAMP:20260419T161546
CREATED:20260327T085453Z
LAST-MODIFIED:20260327T085457Z
UID:10045213-1775309400-1775318400@dehoofdzaak.org
SUMMARY:Workshop Scrapbook maken
DESCRIPTION:Scrapbook maken is een creatieve manier van ordenen van herinneringen en foto’s. Je gaat zelf aan de slag met foto’s\, bedrukt papier en allerlei decoratieve accessoires om te leren lay-outs te maken voor de pagina’s in je plakboek of fotoalbum. \n\n\n\nHeb je een mooie tastbare herinnering (concertkaartje\, entreekaart of treinkaart bijvoorbeeld) of mooie foto? Neem die gerust mee naar deze workshop. 
URL:https://dehoofdzaak.org/agenda/workshop-scrapbook-maken/
LOCATION:De Hoofdzaak Hoorn\, Wilhelminalaan 2\, Hoorn\, 1623 MA\, Nederland
CATEGORIES:Westfriesland
END:VEVENT
BEGIN:VEVENT
DTSTART;TZID=Europe/Amsterdam:20260403T133000
DTEND;TZID=Europe/Amsterdam:20260403T150000
DTSTAMP:20260419T161546
CREATED:20260331T101052Z
LAST-MODIFIED:20260331T101054Z
UID:10008764-1775223000-1775228400@dehoofdzaak.org
SUMMARY:In gesprek met elkaar
DESCRIPTION:Gespreksgroep. Elke week is er een wisselende gespreksleider. Hij of zij geeft de aanzet voor een gesprek\, maar eigen inbreng is ook altijd welkom.
URL:https://dehoofdzaak.org/agenda/in-gesprek-met-elkaar-4/2026-04-03/
LOCATION:De Hoofdzaak Hoorn\, Wilhelminalaan 2\, Hoorn\, 1623 MA\, Nederland
CATEGORIES:Westfriesland
END:VEVENT
BEGIN:VEVENT
DTSTART;TZID=Europe/Amsterdam:20260402T190000
DTEND;TZID=Europe/Amsterdam:20260402T220000
DTSTAMP:20260419T161546
CREATED:20250923T135749Z
LAST-MODIFIED:20251209T153131Z
UID:10036015-1775156400-1775167200@dehoofdzaak.org
SUMMARY:Jongerenavond
DESCRIPTION:Heb je behoefte aan een gezellige avond met gelijkgestemde jongeren\, die jou begrijpen en waar je jezelf kunt zijn? Kom dan naar de jongerenavonden bij de Hoofdzaak. Samen doen we leuke activiteiten\, zoals een spelletje Hitster\, gamen\, weerwolven\, en nog veel meer.  \n\n\n\nDeze avonden worden georganiseerd door onze ervaringsdeskundigen\, voor en door jongeren van 16 t/m 27 jaar. Zij weten door eigen ervaring wat je voelt en begrijpen jouw kwetsbaarheid.
URL:https://dehoofdzaak.org/agenda/jongerenavond-4/2026-04-02/
LOCATION:De Hoofdzaak Hoorn\, Wilhelminalaan 2\, Hoorn\, 1623 MA\, Nederland
CATEGORIES:Westfriesland
END:VEVENT
BEGIN:VEVENT
DTSTART;TZID=Europe/Amsterdam:20260402T190000
DTEND;TZID=Europe/Amsterdam:20260402T220000
DTSTAMP:20260419T161546
CREATED:20250313T102543Z
LAST-MODIFIED:20260313T110505Z
UID:10027055-1775156400-1775167200@dehoofdzaak.org
SUMMARY:Jongerenavond Hoorn
DESCRIPTION:Heb je behoefte aan een gezellige avond met gelijkgestemde jongeren\, die jou begrijpen en waar je jezelf kunt zijn? Kom dan naar de jongerenavonden bij de Hoofdzaak. Samen doen we leuke activiteiten\, zoals een spelletje Hitster\, gamen\, weerwolven\, en nog veel meer.  \n\n\n\nDeze avonden worden georganiseerd door onze ervaringsdeskundigen\, voor en door jongeren van 16 t/m 27 jaar. Zij weten door eigen ervaring wat je voelt en begrijpen jouw kwetsbaarheid.
URL:https://dehoofdzaak.org/agenda/jongerenavond-2/2026-04-02/
LOCATION:De Hoofdzaak Hoorn\, Wilhelminalaan 2\, Hoorn\, 1623 MA\, Nederland
CATEGORIES:Westfriesland
END:VEVENT
BEGIN:VEVENT
DTSTART;TZID=Europe/Amsterdam:20260402T130000
DTEND;TZID=Europe/Amsterdam:20260402T150000
DTSTAMP:20260419T161546
CREATED:20251218T112602Z
LAST-MODIFIED:20251218T112608Z
UID:10034341-1775134800-1775142000@dehoofdzaak.org
SUMMARY:Schrijvend op reis!
DESCRIPTION:Aan de slag met schrijfopdrachten. Door te schrijven kun je emoties en ideeën onder woorden brengen en met elkaar delen. De schrijfgroep van Westfriesland vindt tweewekelijks plaats in Hoorn. Schrijf je mee?
URL:https://dehoofdzaak.org/agenda/schrijvend-op-reis/2026-04-02/
LOCATION:De Hoofdzaak Hoorn\, Wilhelminalaan 2\, Hoorn\, 1623 MA\, Nederland
CATEGORIES:Westfriesland
END:VEVENT
BEGIN:VEVENT
DTSTART;TZID=Europe/Amsterdam:20260402T130000
DTEND;TZID=Europe/Amsterdam:20260402T150000
DTSTAMP:20260419T161546
CREATED:20251210T101540Z
LAST-MODIFIED:20251210T101542Z
UID:10026450-1775134800-1775142000@dehoofdzaak.org
SUMMARY:Soul Art
DESCRIPTION:Geef uiting aan je gedachten en gevoelens met creatieve materialen.
URL:https://dehoofdzaak.org/agenda/soul-art-2/2026-04-02/
LOCATION:De Hoofdzaak Hoorn\, Wilhelminalaan 2\, Hoorn\, 1623 MA\, Nederland
CATEGORIES:Westfriesland
END:VEVENT
BEGIN:VEVENT
DTSTART;TZID=Europe/Amsterdam:20260402T100000
DTEND;TZID=Europe/Amsterdam:20260402T120000
DTSTAMP:20260419T161546
CREATED:20251218T112258Z
LAST-MODIFIED:20251218T112301Z
UID:10023725-1775124000-1775131200@dehoofdzaak.org
SUMMARY:Zelfhulpgroep depressie West-Friesland
DESCRIPTION:Gespreksgroep voor mensen die te maken hebben met depressie.
URL:https://dehoofdzaak.org/agenda/zelfhulpgroep-depressie-donderdag-2/2026-04-02/
LOCATION:De Hoofdzaak Hoorn\, Wilhelminalaan 2\, Hoorn\, 1623 MA\, Nederland
CATEGORIES:Westfriesland
END:VEVENT
BEGIN:VEVENT
DTSTART;TZID=Europe/Amsterdam:20260401T190000
DTEND;TZID=Europe/Amsterdam:20260401T213000
DTSTAMP:20260419T161546
CREATED:20260304T075617Z
LAST-MODIFIED:20260304T075619Z
UID:10043025-1775070000-1775079000@dehoofdzaak.org
SUMMARY:Tekenen op muziek
DESCRIPTION:Bij tekenen op muziek luisteren we samen naar muziek die we zelf uitkiezen. Je luistert\, je voelt\, en tekent wat in je opkomt.Het maakt helemaal niet uit of je goed kunt tekenen. Het gaat erom dat je tekent wat de muziek bij je oproept.
URL:https://dehoofdzaak.org/agenda/tekenen-op-muziek/2026-04-01/
LOCATION:De Hoofdzaak Hoorn\, Wilhelminalaan 2\, Hoorn\, 1623 MA\, Nederland
CATEGORIES:Westfriesland
END:VEVENT
BEGIN:VEVENT
DTSTART;TZID=Europe/Amsterdam:20260401T133000
DTEND;TZID=Europe/Amsterdam:20260401T161500
DTSTAMP:20260419T161546
CREATED:20251218T111720Z
LAST-MODIFIED:20251218T111723Z
UID:10005623-1775050200-1775060100@dehoofdzaak.org
SUMMARY:Met beide benen op de grond
DESCRIPTION:Vaak hebben mensen allerlei doemscenario’s in hun hoofd die niets met de realiteit te maken hebben. In deze bewustwordingsgroep leer je om vanuit het hier en nu te kijken of er werkelijk een probleem is.
URL:https://dehoofdzaak.org/agenda/met-beide-benen-op-de-grond-2/2026-04-01/
LOCATION:De Hoofdzaak Hoorn\, Wilhelminalaan 2\, Hoorn\, 1623 MA\, Nederland
CATEGORIES:Westfriesland
END:VEVENT
BEGIN:VEVENT
DTSTART;TZID=Europe/Amsterdam:20260401T103000
DTEND;TZID=Europe/Amsterdam:20260401T130000
DTSTAMP:20260419T161546
CREATED:20251210T101325Z
LAST-MODIFIED:20260224T152444Z
UID:10025554-1775039400-1775048400@dehoofdzaak.org
SUMMARY:Verbindend wandelen groep 2 (Hoorn)
DESCRIPTION:Kom in beweging met gelijkgestemden. Ben je graag buiten in de frisse lucht en vind je het fijn om in groepsverband te wandelen? Doe dan gezellig mee! We starten en sluiten af met een kopje koffie of thee.
URL:https://dehoofdzaak.org/agenda/verbindend-wandelen-groep-2-hoorn-2/2026-04-01/
LOCATION:De Hoofdzaak Hoorn\, Wilhelminalaan 2\, Hoorn\, 1623 MA\, Nederland
CATEGORIES:Westfriesland
END:VEVENT
BEGIN:VEVENT
DTSTART;TZID=Europe/Amsterdam:20260401T093000
DTEND;TZID=Europe/Amsterdam:20260401T113000
DTSTAMP:20260419T161546
CREATED:20251218T111405Z
LAST-MODIFIED:20260224T151841Z
UID:10004062-1775035800-1775043000@dehoofdzaak.org
SUMMARY:Verbindend wandelen groep 1 (Hoorn)
DESCRIPTION:Kom in beweging met gelijkgestemden. Ben je graag buiten in de frisse lucht en vind je het fijn om in groepsverband te wandelen? Doe dan gezellig mee! We starten en sluiten af met een kopje koffie of thee.
URL:https://dehoofdzaak.org/agenda/verbindend-wandelen-groep-1-hoorn/2026-04-01/
LOCATION:De Hoofdzaak Hoorn\, Wilhelminalaan 2\, Hoorn\, 1623 MA\, Nederland
CATEGORIES:Westfriesland
END:VEVENT
BEGIN:VEVENT
DTSTART;TZID=Europe/Amsterdam:20260331T133000
DTEND;TZID=Europe/Amsterdam:20260331T160000
DTSTAMP:20260419T161546
CREATED:20250225T112629Z
LAST-MODIFIED:20250225T112636Z
UID:10026332-1774963800-1774972800@dehoofdzaak.org
SUMMARY:Thematische gespreksgroep autisme (volwassenen)
DESCRIPTION:
URL:https://dehoofdzaak.org/agenda/thematische-gespreksgroep-autisme-volwassenen-3/2026-03-31/
LOCATION:De Hoofdzaak Hoorn\, Wilhelminalaan 2\, Hoorn\, 1623 MA\, Nederland
CATEGORIES:Westfriesland
END:VEVENT
BEGIN:VEVENT
DTSTART;TZID=Europe/Amsterdam:20260331T133000
DTEND;TZID=Europe/Amsterdam:20260331T153000
DTSTAMP:20260419T161546
CREATED:20240228T104044Z
LAST-MODIFIED:20240228T104047Z
UID:10014224-1774963800-1774971000@dehoofdzaak.org
SUMMARY:Dagelijks Autisme
DESCRIPTION:Gespreksgroep voor mensen met autisme.
URL:https://dehoofdzaak.org/agenda/dagelijks-autisme/2026-03-31/
LOCATION:De Hoofdzaak Hoorn\, Wilhelminalaan 2\, Hoorn\, 1623 MA\, Nederland
CATEGORIES:Westfriesland
END:VEVENT
END:VCALENDAR