BEGIN:VCALENDAR
VERSION:2.0
PRODID:-//De Hoofdzaak - ECPv6.15.20//NONSGML v1.0//EN
CALSCALE:GREGORIAN
METHOD:PUBLISH
X-ORIGINAL-URL:https://dehoofdzaak.org
X-WR-CALDESC:Evenementen voor De Hoofdzaak
REFRESH-INTERVAL;VALUE=DURATION:PT1H
X-Robots-Tag:noindex
X-PUBLISHED-TTL:PT1H
BEGIN:VTIMEZONE
TZID:Europe/Amsterdam
BEGIN:DAYLIGHT
TZOFFSETFROM:+0100
TZOFFSETTO:+0200
TZNAME:CEST
DTSTART:20240331T010000
END:DAYLIGHT
BEGIN:STANDARD
TZOFFSETFROM:+0200
TZOFFSETTO:+0100
TZNAME:CET
DTSTART:20241027T010000
END:STANDARD
BEGIN:DAYLIGHT
TZOFFSETFROM:+0100
TZOFFSETTO:+0200
TZNAME:CEST
DTSTART:20250330T010000
END:DAYLIGHT
BEGIN:STANDARD
TZOFFSETFROM:+0200
TZOFFSETTO:+0100
TZNAME:CET
DTSTART:20251026T010000
END:STANDARD
BEGIN:DAYLIGHT
TZOFFSETFROM:+0100
TZOFFSETTO:+0200
TZNAME:CEST
DTSTART:20260329T010000
END:DAYLIGHT
BEGIN:STANDARD
TZOFFSETFROM:+0200
TZOFFSETTO:+0100
TZNAME:CET
DTSTART:20261025T010000
END:STANDARD
END:VTIMEZONE
BEGIN:VEVENT
DTSTART;TZID=Europe/Amsterdam:20251201T190000
DTEND;TZID=Europe/Amsterdam:20251201T213000
DTSTAMP:20260421T072904
CREATED:20240328T160609Z
LAST-MODIFIED:20241128T102802Z
UID:10015068-1764615600-1764624600@dehoofdzaak.org
SUMMARY:Thematische gespreksgroep autisme (jongvolwassenen)
DESCRIPTION:
URL:https://dehoofdzaak.org/agenda/thematische-gespreksgroep-autisme-jongvolwassenen/2025-12-01/
LOCATION:De Hoofdzaak Hoorn\, Wilhelminalaan 2\, Hoorn\, 1623 MA\, Nederland
CATEGORIES:Westfriesland
END:VEVENT
BEGIN:VEVENT
DTSTART;TZID=Europe/Amsterdam:20251201T140000
DTEND;TZID=Europe/Amsterdam:20251201T163000
DTSTAMP:20260421T072904
CREATED:20230822T133812Z
LAST-MODIFIED:20240717T061233Z
UID:10004963-1764597600-1764606600@dehoofdzaak.org
SUMMARY:Zelfhulpgroep Krachtig vanuit kwetsbaarheid
DESCRIPTION:Gespreksgroep waarin we elkaar steunen\, in een veilige setting ervaringen te delen. Zo ontwikkelen we samen kracht uit kwetsbaarheid.
URL:https://dehoofdzaak.org/agenda/zelfhulpgroep-krachtig-uit-kwetsbaarheid/2025-12-01/
LOCATION:De Hoofdzaak Hoorn\, Wilhelminalaan 2\, Hoorn\, 1623 MA\, Nederland
CATEGORIES:Westfriesland
END:VEVENT
BEGIN:VEVENT
DTSTART;TZID=Europe/Amsterdam:20251201T130000
DTEND;TZID=Europe/Amsterdam:20251201T140000
DTSTAMP:20260421T072904
CREATED:20250101T124813Z
LAST-MODIFIED:20250620T122531Z
UID:10024666-1764594000-1764597600@dehoofdzaak.org
SUMMARY:Open informatie-uur
DESCRIPTION:Open informatie-uur (i.s.m. de Herstelacademie van GGZ NHN). Wil je weten wat er bij beide organisaties te doen is? Kom gewoon zonder afspraak langs!
URL:https://dehoofdzaak.org/agenda/open-informatie-uur/2025-12-01/
LOCATION:De Hoofdzaak Hoorn\, Wilhelminalaan 2\, Hoorn\, 1623 MA\, Nederland
CATEGORIES:Westfriesland
END:VEVENT
BEGIN:VEVENT
DTSTART;TZID=Europe/Amsterdam:20251201T100000
DTEND;TZID=Europe/Amsterdam:20251201T113000
DTSTAMP:20260421T072904
CREATED:20230822T125920Z
LAST-MODIFIED:20230822T125923Z
UID:10003454-1764583200-1764588600@dehoofdzaak.org
SUMMARY:Verbindend autisme
DESCRIPTION:Een gesprekgroep voor mensen met autisme.
URL:https://dehoofdzaak.org/agenda/verbindend-autisme/2025-12-01/
LOCATION:De Hoofdzaak Hoorn\, Wilhelminalaan 2\, Hoorn\, 1623 MA\, Nederland
CATEGORIES:Westfriesland
END:VEVENT
BEGIN:VEVENT
DTSTART;TZID=Europe/Amsterdam:20251128T133000
DTEND;TZID=Europe/Amsterdam:20251128T150000
DTSTAMP:20260421T072904
CREATED:20241105T151737Z
LAST-MODIFIED:20241126T091740Z
UID:10008746-1764336600-1764342000@dehoofdzaak.org
SUMMARY:In gesprek met elkaar
DESCRIPTION:Gespreksgroep. Elke week is er een wisselende gespreksleider. Hij of zij geeft de aanzet voor een gesprek\, maar eigen inbreng is ook altijd welkom.
URL:https://dehoofdzaak.org/agenda/in-gesprek-met-elkaar-2/2025-11-28/
LOCATION:De Hoofdzaak Hoorn\, Wilhelminalaan 2\, Hoorn\, 1623 MA\, Nederland
CATEGORIES:Westfriesland
END:VEVENT
BEGIN:VEVENT
DTSTART;TZID=Europe/Amsterdam:20251127T190000
DTEND;TZID=Europe/Amsterdam:20251127T220000
DTSTAMP:20260421T072904
CREATED:20250923T135749Z
LAST-MODIFIED:20251209T153131Z
UID:10036008-1764270000-1764280800@dehoofdzaak.org
SUMMARY:Jongerenavond
DESCRIPTION:Heb je behoefte aan een gezellige avond met gelijkgestemde jongeren\, die jou begrijpen en waar je jezelf kunt zijn? Kom dan naar de jongerenavonden bij de Hoofdzaak. Samen doen we leuke activiteiten\, zoals een spelletje Hitster\, gamen\, weerwolven\, en nog veel meer.  \n\n\n\nDeze avonden worden georganiseerd door onze ervaringsdeskundigen\, voor en door jongeren van 16 t/m 27 jaar. Zij weten door eigen ervaring wat je voelt en begrijpen jouw kwetsbaarheid.
URL:https://dehoofdzaak.org/agenda/jongerenavond-4/2025-11-27/
LOCATION:De Hoofdzaak Hoorn\, Wilhelminalaan 2\, Hoorn\, 1623 MA\, Nederland
CATEGORIES:Westfriesland
END:VEVENT
BEGIN:VEVENT
DTSTART;TZID=Europe/Amsterdam:20251127T170000
DTEND;TZID=Europe/Amsterdam:20251127T190000
DTSTAMP:20260421T072904
CREATED:20240306T121539Z
LAST-MODIFIED:20250818T071322Z
UID:10014368-1764262800-1764270000@dehoofdzaak.org
SUMMARY:Samen eten in De Verbinding
DESCRIPTION:Gezellig samen koken en eten in Hoorn.
URL:https://dehoofdzaak.org/agenda/samen-eten-in-de-verbinding/2025-11-27/
LOCATION:De Hoofdzaak Hoorn\, Wilhelminalaan 2\, Hoorn\, 1623 MA\, Nederland
CATEGORIES:Westfriesland
END:VEVENT
BEGIN:VEVENT
DTSTART;TZID=Europe/Amsterdam:20251127T130000
DTEND;TZID=Europe/Amsterdam:20251127T150000
DTSTAMP:20260421T072904
CREATED:20250304T080244Z
LAST-MODIFIED:20250304T080249Z
UID:10026432-1764248400-1764255600@dehoofdzaak.org
SUMMARY:Soul Art
DESCRIPTION:Geef uiting aan je gedachten en gevoelens met creatieve materialen.
URL:https://dehoofdzaak.org/agenda/soul-art-3/2025-11-27/
LOCATION:De Hoofdzaak Hoorn\, Wilhelminalaan 2\, Hoorn\, 1623 MA\, Nederland
CATEGORIES:Westfriesland
END:VEVENT
BEGIN:VEVENT
DTSTART;TZID=Europe/Amsterdam:20251127T130000
DTEND;TZID=Europe/Amsterdam:20251127T150000
DTSTAMP:20260421T072904
CREATED:20230822T122030Z
LAST-MODIFIED:20250818T072620Z
UID:10034332-1764248400-1764255600@dehoofdzaak.org
SUMMARY:Schrijvend op reis!
DESCRIPTION:Aan de slag met schrijfopdrachten. Door te schrijven kun je emoties en ideeën onder woorden brengen en met elkaar delen. De schrijfgroep van Westfriesland vindt tweewekelijks plaats in Hoorn. Schrijf je mee?
URL:https://dehoofdzaak.org/agenda/schrijf-het-op/2025-11-27/
LOCATION:De Hoofdzaak Hoorn\, Wilhelminalaan 2\, Hoorn\, 1623 MA\, Nederland
CATEGORIES:Westfriesland
END:VEVENT
BEGIN:VEVENT
DTSTART;TZID=Europe/Amsterdam:20251127T100000
DTEND;TZID=Europe/Amsterdam:20251127T120000
DTSTAMP:20260421T072904
CREATED:20241210T102306Z
LAST-MODIFIED:20250225T121055Z
UID:10023716-1764237600-1764244800@dehoofdzaak.org
SUMMARY:Zelfhulpgroep depressie donderdag
DESCRIPTION:Gespreksgroep voor mensen die te maken hebben met depressie.
URL:https://dehoofdzaak.org/agenda/zelfhulpgroep-depressie-donderdag/2025-11-27/
LOCATION:De Hoofdzaak Hoorn\, Wilhelminalaan 2\, Hoorn\, 1623 MA\, Nederland
CATEGORIES:Westfriesland
END:VEVENT
BEGIN:VEVENT
DTSTART;TZID=Europe/Amsterdam:20251126T133000
DTEND;TZID=Europe/Amsterdam:20251126T161500
DTSTAMP:20260421T072904
CREATED:20230822T142950Z
LAST-MODIFIED:20250711T094007Z
UID:10005614-1764163800-1764173700@dehoofdzaak.org
SUMMARY:Met beide benen op de grond
DESCRIPTION:Vaak hebben mensen allerlei doemscenario’s in hun hoofd die niets met de realiteit te maken hebben. In deze bewustwordingsgroep leer je om vanuit het hier en nu te kijken of er werkelijk een probleem is.
URL:https://dehoofdzaak.org/agenda/met-beide-benen-op-de-grond/2025-11-26/
LOCATION:De Hoofdzaak Hoorn\, Wilhelminalaan 2\, Hoorn\, 1623 MA\, Nederland
CATEGORIES:Westfriesland
END:VEVENT
BEGIN:VEVENT
DTSTART;TZID=Europe/Amsterdam:20251126T103000
DTEND;TZID=Europe/Amsterdam:20251126T130000
DTSTAMP:20260421T072904
CREATED:20250214T122655Z
LAST-MODIFIED:20250224T092211Z
UID:10025536-1764153000-1764162000@dehoofdzaak.org
SUMMARY:Verbindend wandelen groep 2 (Hoorn)
DESCRIPTION:Kom in beweging met gelijkgestemden. Ben je graag buiten in de frisse lucht en vind je het fijn om in groepsverband te wandelen? Doe dan gezellig mee! We starten en sluiten af met een kopje koffie of thee.
URL:https://dehoofdzaak.org/agenda/verbindend-wandelen-groep-2-hoorn/2025-11-26/
LOCATION:De Hoofdzaak Hoorn\, Wilhelminalaan 2\, Hoorn\, 1623 MA\, Nederland
CATEGORIES:Westfriesland
END:VEVENT
BEGIN:VEVENT
DTSTART;TZID=Europe/Amsterdam:20251126T093000
DTEND;TZID=Europe/Amsterdam:20251126T113000
DTSTAMP:20260421T072904
CREATED:20230822T131002Z
LAST-MODIFIED:20250217T085733Z
UID:10004044-1764149400-1764156600@dehoofdzaak.org
SUMMARY:Verbindend wandelen groep 1 (Hoorn)
DESCRIPTION:Kom in beweging met gelijkgestemden. Ben je graag buiten in de frisse lucht en vind je het fijn om in groepsverband te wandelen? Doe dan gezellig mee! We starten en sluiten af met een kopje koffie of thee.
URL:https://dehoofdzaak.org/agenda/wandelgroep-westfriesland/2025-11-26/
LOCATION:De Hoofdzaak Hoorn\, Wilhelminalaan 2\, Hoorn\, 1623 MA\, Nederland
CATEGORIES:Westfriesland
END:VEVENT
BEGIN:VEVENT
DTSTART;TZID=Europe/Amsterdam:20251125T133000
DTEND;TZID=Europe/Amsterdam:20251125T153000
DTSTAMP:20260421T072904
CREATED:20240228T104044Z
LAST-MODIFIED:20240228T104047Z
UID:10014215-1764077400-1764084600@dehoofdzaak.org
SUMMARY:Dagelijks Autisme
DESCRIPTION:Gespreksgroep voor mensen met autisme.
URL:https://dehoofdzaak.org/agenda/dagelijks-autisme/2025-11-25/
LOCATION:De Hoofdzaak Hoorn\, Wilhelminalaan 2\, Hoorn\, 1623 MA\, Nederland
CATEGORIES:Westfriesland
END:VEVENT
BEGIN:VEVENT
DTSTART;TZID=Europe/Amsterdam:20251125T100000
DTEND;TZID=Europe/Amsterdam:20251125T120000
DTSTAMP:20260421T072904
CREATED:20240701T093136Z
LAST-MODIFIED:20241126T085659Z
UID:10018961-1764064800-1764072000@dehoofdzaak.org
SUMMARY:Mama+ café
DESCRIPTION:Het Mama+ café is specifiek voor moeders met (jonge) kinderen. Moeders met een psychische kwetsbaarheid kunnen elkaar ontmoeten en ervaringen delen\, maar er is ook ruimte voor gezelligheid en ontspanning. Het Mama+ café is een plek waar je jezelf kunt zijn. Je kunt er gewoon binnenkomen voor een kop koffie of thee en ook de kind(eren) zijn van harte welkom. Vrijwilligers van De Hoofdzaak heten je welkom en staan voor je klaar.
URL:https://dehoofdzaak.org/agenda/mama-cafe/2025-11-25/
LOCATION:De Hoofdzaak Hoorn\, Wilhelminalaan 2\, Hoorn\, 1623 MA\, Nederland
CATEGORIES:Westfriesland
END:VEVENT
BEGIN:VEVENT
DTSTART;TZID=Europe/Amsterdam:20251124T133000
DTEND;TZID=Europe/Amsterdam:20251124T150000
DTSTAMP:20260421T072904
CREATED:20250214T102131Z
LAST-MODIFIED:20250214T103430Z
UID:10025367-1763991000-1763996400@dehoofdzaak.org
SUMMARY:Gespreksgroep Lighthouse
DESCRIPTION:Gespreksgroep voor volwassenen met persoonlijke ervaring met zelfbeschadiging.
URL:https://dehoofdzaak.org/agenda/gespreksgroep-lighthouse/2025-11-24/
LOCATION:De Hoofdzaak Hoorn\, Wilhelminalaan 2\, Hoorn\, 1623 MA\, Nederland
CATEGORIES:Westfriesland
END:VEVENT
BEGIN:VEVENT
DTSTART;TZID=Europe/Amsterdam:20251124T130000
DTEND;TZID=Europe/Amsterdam:20251124T140000
DTSTAMP:20260421T072904
CREATED:20250101T124813Z
LAST-MODIFIED:20250620T122531Z
UID:10024665-1763989200-1763992800@dehoofdzaak.org
SUMMARY:Open informatie-uur
DESCRIPTION:Open informatie-uur (i.s.m. de Herstelacademie van GGZ NHN). Wil je weten wat er bij beide organisaties te doen is? Kom gewoon zonder afspraak langs!
URL:https://dehoofdzaak.org/agenda/open-informatie-uur/2025-11-24/
LOCATION:De Hoofdzaak Hoorn\, Wilhelminalaan 2\, Hoorn\, 1623 MA\, Nederland
CATEGORIES:Westfriesland
END:VEVENT
BEGIN:VEVENT
DTSTART;TZID=Europe/Amsterdam:20251124T100000
DTEND;TZID=Europe/Amsterdam:20251124T120000
DTSTAMP:20260421T072904
CREATED:20241218T101941Z
LAST-MODIFIED:20251009T084949Z
UID:10002354-1763978400-1763985600@dehoofdzaak.org
SUMMARY:Fotografiegroep 'Hoofdzaken door de lens'
DESCRIPTION:Tijdens de bijeenkomsten van ‘Hoofdzaken door de lens’ gaat het niet om het perfecte plaatje. Je gebruikt beelden om je eigen verhaal te vertellen. Bijvoorbeeld aan de hand van verschillende thema’s en opdrachten. \n\n\n\nMeer info: Fotografiegroep ‘Hoofdzaken door de lens’ | De Hoofdzaak
URL:https://dehoofdzaak.org/agenda/fotografiegroep-hoofdzaken-door-de-lens-2/2025-11-24/
LOCATION:De Hoofdzaak Hoorn\, Wilhelminalaan 2\, Hoorn\, 1623 MA\, Nederland
CATEGORIES:Westfriesland
END:VEVENT
BEGIN:VEVENT
DTSTART;TZID=Europe/Amsterdam:20251124T100000
DTEND;TZID=Europe/Amsterdam:20251124T120000
DTSTAMP:20260421T072904
CREATED:20240214T111832Z
LAST-MODIFIED:20251218T105158Z
UID:10013955-1763978400-1763985600@dehoofdzaak.org
SUMMARY:Opgeruimd huis\, opgeruimd hoofd
DESCRIPTION:Een opgeruimd huis geeft rust. Lukt het jou niet je huis op orde te krijgen? En wil je daarover in gesprek? Doe dan mee met deze groep.
URL:https://dehoofdzaak.org/agenda/opgeruimd-huis-opgeruimd-hoofd/2025-11-24/
LOCATION:De Hoofdzaak Hoorn\, Wilhelminalaan 2\, Hoorn\, 1623 MA\, Nederland
CATEGORIES:Westfriesland
END:VEVENT
BEGIN:VEVENT
DTSTART;TZID=Europe/Amsterdam:20251121T190000
DTEND;TZID=Europe/Amsterdam:20251121T220000
DTSTAMP:20260421T072904
CREATED:20250424T150141Z
LAST-MODIFIED:20250911T093559Z
UID:10035447-1763751600-1763762400@dehoofdzaak.org
SUMMARY:Spelletjes avonden in De Verbinding
DESCRIPTION:Om de week organiseren we in de Verbinding spelletjes avonden. De spelletjes staan klaar en we kijken elke keer waar we zin in hebben. Heb je een zelf een leuk spel? Neem hem mee! Speel je gezellig met ons een spelletje mee?
URL:https://dehoofdzaak.org/agenda/frisse-avonden-in-de-verbinding-2/2025-11-21/
LOCATION:De Hoofdzaak Hoorn\, Wilhelminalaan 2\, Hoorn\, 1623 MA\, Nederland
CATEGORIES:Westfriesland
END:VEVENT
BEGIN:VEVENT
DTSTART;TZID=Europe/Amsterdam:20251121T134500
DTEND;TZID=Europe/Amsterdam:20251121T153000
DTSTAMP:20260421T072904
CREATED:20251017T095805Z
LAST-MODIFIED:20251017T095808Z
UID:10037250-1763732700-1763739000@dehoofdzaak.org
SUMMARY:Mannengroep
DESCRIPTION:De bijeenkomsten\, specifiek voor mannen\, starten met een zitmeditatie. Daarna is er ruimte om datgene met elkaar te delen wat je op dat moment zou willen delen. Alles is oké. We sluiten af met een klein beetje Tai Chi.
URL:https://dehoofdzaak.org/agenda/mannengroep-2/2025-11-21/
LOCATION:De Hoofdzaak Hoorn\, Wilhelminalaan 2\, Hoorn\, 1623 MA\, Nederland
CATEGORIES:Westfriesland
END:VEVENT
BEGIN:VEVENT
DTSTART;TZID=Europe/Amsterdam:20251120T130000
DTEND;TZID=Europe/Amsterdam:20251120T150000
DTSTAMP:20260421T072904
CREATED:20250304T080244Z
LAST-MODIFIED:20250304T080249Z
UID:10026431-1763643600-1763650800@dehoofdzaak.org
SUMMARY:Soul Art
DESCRIPTION:Geef uiting aan je gedachten en gevoelens met creatieve materialen.
URL:https://dehoofdzaak.org/agenda/soul-art-3/2025-11-20/
LOCATION:De Hoofdzaak Hoorn\, Wilhelminalaan 2\, Hoorn\, 1623 MA\, Nederland
CATEGORIES:Westfriesland
END:VEVENT
BEGIN:VEVENT
DTSTART;TZID=Europe/Amsterdam:20251119T103000
DTEND;TZID=Europe/Amsterdam:20251119T130000
DTSTAMP:20260421T072904
CREATED:20250214T122655Z
LAST-MODIFIED:20250224T092211Z
UID:10025535-1763548200-1763557200@dehoofdzaak.org
SUMMARY:Verbindend wandelen groep 2 (Hoorn)
DESCRIPTION:Kom in beweging met gelijkgestemden. Ben je graag buiten in de frisse lucht en vind je het fijn om in groepsverband te wandelen? Doe dan gezellig mee! We starten en sluiten af met een kopje koffie of thee.
URL:https://dehoofdzaak.org/agenda/verbindend-wandelen-groep-2-hoorn/2025-11-19/
LOCATION:De Hoofdzaak Hoorn\, Wilhelminalaan 2\, Hoorn\, 1623 MA\, Nederland
CATEGORIES:Westfriesland
END:VEVENT
BEGIN:VEVENT
DTSTART;TZID=Europe/Amsterdam:20251119T093000
DTEND;TZID=Europe/Amsterdam:20251119T113000
DTSTAMP:20260421T072904
CREATED:20230822T131002Z
LAST-MODIFIED:20250217T085733Z
UID:10004043-1763544600-1763551800@dehoofdzaak.org
SUMMARY:Verbindend wandelen groep 1 (Hoorn)
DESCRIPTION:Kom in beweging met gelijkgestemden. Ben je graag buiten in de frisse lucht en vind je het fijn om in groepsverband te wandelen? Doe dan gezellig mee! We starten en sluiten af met een kopje koffie of thee.
URL:https://dehoofdzaak.org/agenda/wandelgroep-westfriesland/2025-11-19/
LOCATION:De Hoofdzaak Hoorn\, Wilhelminalaan 2\, Hoorn\, 1623 MA\, Nederland
CATEGORIES:Westfriesland
END:VEVENT
BEGIN:VEVENT
DTSTART;TZID=Europe/Amsterdam:20251118T190000
DTEND;TZID=Europe/Amsterdam:20251118T210000
DTSTAMP:20260421T072904
CREATED:20250225T121959Z
LAST-MODIFIED:20250225T122010Z
UID:10011640-1763492400-1763499600@dehoofdzaak.org
SUMMARY:Samen sterk\, lotgenotengroep voor naasten
DESCRIPTION:Als een dierbare te maken heeft met psychische ontregeling\, kan het fijn zijn om contact te hebben met andere naasten. Vanuit ervaring begrijp je elkaars zorgen en uitdagingen\, en kun je elkaar steunen.
URL:https://dehoofdzaak.org/agenda/samen-sterk-lotgenotengroep-voor-naasten-3/2025-11-18/
LOCATION:De Hoofdzaak Hoorn\, Wilhelminalaan 2\, Hoorn\, 1623 MA\, Nederland
CATEGORIES:Westfriesland
END:VEVENT
BEGIN:VEVENT
DTSTART;TZID=Europe/Amsterdam:20251118T100000
DTEND;TZID=Europe/Amsterdam:20251118T120000
DTSTAMP:20260421T072904
CREATED:20240701T093136Z
LAST-MODIFIED:20241126T085659Z
UID:10018960-1763460000-1763467200@dehoofdzaak.org
SUMMARY:Mama+ café
DESCRIPTION:Het Mama+ café is specifiek voor moeders met (jonge) kinderen. Moeders met een psychische kwetsbaarheid kunnen elkaar ontmoeten en ervaringen delen\, maar er is ook ruimte voor gezelligheid en ontspanning. Het Mama+ café is een plek waar je jezelf kunt zijn. Je kunt er gewoon binnenkomen voor een kop koffie of thee en ook de kind(eren) zijn van harte welkom. Vrijwilligers van De Hoofdzaak heten je welkom en staan voor je klaar.
URL:https://dehoofdzaak.org/agenda/mama-cafe/2025-11-18/
LOCATION:De Hoofdzaak Hoorn\, Wilhelminalaan 2\, Hoorn\, 1623 MA\, Nederland
CATEGORIES:Westfriesland
END:VEVENT
BEGIN:VEVENT
DTSTART;TZID=Europe/Amsterdam:20251117T190000
DTEND;TZID=Europe/Amsterdam:20251117T213000
DTSTAMP:20260421T072904
CREATED:20240328T160609Z
LAST-MODIFIED:20241128T102802Z
UID:10015067-1763406000-1763415000@dehoofdzaak.org
SUMMARY:Thematische gespreksgroep autisme (jongvolwassenen)
DESCRIPTION:
URL:https://dehoofdzaak.org/agenda/thematische-gespreksgroep-autisme-jongvolwassenen/2025-11-17/
LOCATION:De Hoofdzaak Hoorn\, Wilhelminalaan 2\, Hoorn\, 1623 MA\, Nederland
CATEGORIES:Westfriesland
END:VEVENT
BEGIN:VEVENT
DTSTART;TZID=Europe/Amsterdam:20251117T140000
DTEND;TZID=Europe/Amsterdam:20251117T163000
DTSTAMP:20260421T072904
CREATED:20230822T133812Z
LAST-MODIFIED:20240717T061233Z
UID:10004962-1763388000-1763397000@dehoofdzaak.org
SUMMARY:Zelfhulpgroep Krachtig vanuit kwetsbaarheid
DESCRIPTION:Gespreksgroep waarin we elkaar steunen\, in een veilige setting ervaringen te delen. Zo ontwikkelen we samen kracht uit kwetsbaarheid.
URL:https://dehoofdzaak.org/agenda/zelfhulpgroep-krachtig-uit-kwetsbaarheid/2025-11-17/
LOCATION:De Hoofdzaak Hoorn\, Wilhelminalaan 2\, Hoorn\, 1623 MA\, Nederland
CATEGORIES:Westfriesland
END:VEVENT
BEGIN:VEVENT
DTSTART;TZID=Europe/Amsterdam:20251117T130000
DTEND;TZID=Europe/Amsterdam:20251117T140000
DTSTAMP:20260421T072904
CREATED:20250101T124813Z
LAST-MODIFIED:20250620T122531Z
UID:10024664-1763384400-1763388000@dehoofdzaak.org
SUMMARY:Open informatie-uur
DESCRIPTION:Open informatie-uur (i.s.m. de Herstelacademie van GGZ NHN). Wil je weten wat er bij beide organisaties te doen is? Kom gewoon zonder afspraak langs!
URL:https://dehoofdzaak.org/agenda/open-informatie-uur/2025-11-17/
LOCATION:De Hoofdzaak Hoorn\, Wilhelminalaan 2\, Hoorn\, 1623 MA\, Nederland
CATEGORIES:Westfriesland
END:VEVENT
BEGIN:VEVENT
DTSTART;TZID=Europe/Amsterdam:20251117T100000
DTEND;TZID=Europe/Amsterdam:20251117T113000
DTSTAMP:20260421T072904
CREATED:20230822T125920Z
LAST-MODIFIED:20230822T125923Z
UID:10003453-1763373600-1763379000@dehoofdzaak.org
SUMMARY:Verbindend autisme
DESCRIPTION:Een gesprekgroep voor mensen met autisme.
URL:https://dehoofdzaak.org/agenda/verbindend-autisme/2025-11-17/
LOCATION:De Hoofdzaak Hoorn\, Wilhelminalaan 2\, Hoorn\, 1623 MA\, Nederland
CATEGORIES:Westfriesland
END:VEVENT
END:VCALENDAR