BEGIN:VCALENDAR
VERSION:2.0
PRODID:-//De Hoofdzaak - ECPv6.15.20//NONSGML v1.0//EN
CALSCALE:GREGORIAN
METHOD:PUBLISH
X-ORIGINAL-URL:https://dehoofdzaak.org
X-WR-CALDESC:Evenementen voor De Hoofdzaak
REFRESH-INTERVAL;VALUE=DURATION:PT1H
X-Robots-Tag:noindex
X-PUBLISHED-TTL:PT1H
BEGIN:VTIMEZONE
TZID:Europe/Amsterdam
BEGIN:DAYLIGHT
TZOFFSETFROM:+0100
TZOFFSETTO:+0200
TZNAME:CEST
DTSTART:20240331T010000
END:DAYLIGHT
BEGIN:STANDARD
TZOFFSETFROM:+0200
TZOFFSETTO:+0100
TZNAME:CET
DTSTART:20241027T010000
END:STANDARD
BEGIN:DAYLIGHT
TZOFFSETFROM:+0100
TZOFFSETTO:+0200
TZNAME:CEST
DTSTART:20250330T010000
END:DAYLIGHT
BEGIN:STANDARD
TZOFFSETFROM:+0200
TZOFFSETTO:+0100
TZNAME:CET
DTSTART:20251026T010000
END:STANDARD
BEGIN:DAYLIGHT
TZOFFSETFROM:+0100
TZOFFSETTO:+0200
TZNAME:CEST
DTSTART:20260329T010000
END:DAYLIGHT
BEGIN:STANDARD
TZOFFSETFROM:+0200
TZOFFSETTO:+0100
TZNAME:CET
DTSTART:20261025T010000
END:STANDARD
END:VTIMEZONE
BEGIN:VEVENT
DTSTART;TZID=Europe/Amsterdam:20250723T103000
DTEND;TZID=Europe/Amsterdam:20250723T130000
DTSTAMP:20260424T100438
CREATED:20250214T122655Z
LAST-MODIFIED:20250224T092211Z
UID:10025518-1753266600-1753275600@dehoofdzaak.org
SUMMARY:Verbindend wandelen groep 2 (Hoorn)
DESCRIPTION:Kom in beweging met gelijkgestemden. Ben je graag buiten in de frisse lucht en vind je het fijn om in groepsverband te wandelen? Doe dan gezellig mee! We starten en sluiten af met een kopje koffie of thee.
URL:https://dehoofdzaak.org/agenda/verbindend-wandelen-groep-2-hoorn/2025-07-23/
LOCATION:De Hoofdzaak Hoorn\, Wilhelminalaan 2\, Hoorn\, 1623 MA\, Nederland
CATEGORIES:Westfriesland
END:VEVENT
BEGIN:VEVENT
DTSTART;TZID=Europe/Amsterdam:20250723T093000
DTEND;TZID=Europe/Amsterdam:20250723T113000
DTSTAMP:20260424T100438
CREATED:20230822T131002Z
LAST-MODIFIED:20250217T085733Z
UID:10004026-1753263000-1753270200@dehoofdzaak.org
SUMMARY:Verbindend wandelen groep 1 (Hoorn)
DESCRIPTION:Kom in beweging met gelijkgestemden. Ben je graag buiten in de frisse lucht en vind je het fijn om in groepsverband te wandelen? Doe dan gezellig mee! We starten en sluiten af met een kopje koffie of thee.
URL:https://dehoofdzaak.org/agenda/wandelgroep-westfriesland/2025-07-23/
LOCATION:De Hoofdzaak Hoorn\, Wilhelminalaan 2\, Hoorn\, 1623 MA\, Nederland
CATEGORIES:Westfriesland
END:VEVENT
BEGIN:VEVENT
DTSTART;TZID=Europe/Amsterdam:20250723T080000
DTEND;TZID=Europe/Amsterdam:20250723T170000
DTSTAMP:20260424T100438
CREATED:20250617T094640Z
LAST-MODIFIED:20250724T101100Z
UID:10032436-1753257600-1753290000@dehoofdzaak.org
SUMMARY:Ontspanningsmomentje
DESCRIPTION:Even op adem komen\, even alleen maar aandacht voor jezelf. Verwen jezelf met dit geschenk in de vakantieperiode. Je bent van harte welkom.
URL:https://dehoofdzaak.org/agenda/ontspanningsmomentje/2025-07-23/
LOCATION:De Hoofdzaak Hoorn\, Wilhelminalaan 2\, Hoorn\, 1623 MA\, Nederland
CATEGORIES:Westfriesland
END:VEVENT
BEGIN:VEVENT
DTSTART;TZID=Europe/Amsterdam:20250722T133000
DTEND;TZID=Europe/Amsterdam:20250722T153000
DTSTAMP:20260424T100438
CREATED:20240228T104044Z
LAST-MODIFIED:20240228T104047Z
UID:10014206-1753191000-1753198200@dehoofdzaak.org
SUMMARY:Dagelijks Autisme
DESCRIPTION:Gespreksgroep voor mensen met autisme.
URL:https://dehoofdzaak.org/agenda/dagelijks-autisme/2025-07-22/
LOCATION:De Hoofdzaak Hoorn\, Wilhelminalaan 2\, Hoorn\, 1623 MA\, Nederland
CATEGORIES:Westfriesland
END:VEVENT
BEGIN:VEVENT
DTSTART;TZID=Europe/Amsterdam:20250722T100000
DTEND;TZID=Europe/Amsterdam:20250722T120000
DTSTAMP:20260424T100438
CREATED:20240701T093136Z
LAST-MODIFIED:20241126T085659Z
UID:10018943-1753178400-1753185600@dehoofdzaak.org
SUMMARY:Mama+ café
DESCRIPTION:Het Mama+ café is specifiek voor moeders met (jonge) kinderen. Moeders met een psychische kwetsbaarheid kunnen elkaar ontmoeten en ervaringen delen\, maar er is ook ruimte voor gezelligheid en ontspanning. Het Mama+ café is een plek waar je jezelf kunt zijn. Je kunt er gewoon binnenkomen voor een kop koffie of thee en ook de kind(eren) zijn van harte welkom. Vrijwilligers van De Hoofdzaak heten je welkom en staan voor je klaar.
URL:https://dehoofdzaak.org/agenda/mama-cafe/2025-07-22/
LOCATION:De Hoofdzaak Hoorn\, Wilhelminalaan 2\, Hoorn\, 1623 MA\, Nederland
CATEGORIES:Westfriesland
END:VEVENT
BEGIN:VEVENT
DTSTART;TZID=Europe/Amsterdam:20250721T133000
DTEND;TZID=Europe/Amsterdam:20250721T150000
DTSTAMP:20260424T100438
CREATED:20250214T102131Z
LAST-MODIFIED:20250214T103430Z
UID:10025358-1753104600-1753110000@dehoofdzaak.org
SUMMARY:Gespreksgroep Lighthouse
DESCRIPTION:Gespreksgroep voor volwassenen met persoonlijke ervaring met zelfbeschadiging.
URL:https://dehoofdzaak.org/agenda/gespreksgroep-lighthouse/2025-07-21/
LOCATION:De Hoofdzaak Hoorn\, Wilhelminalaan 2\, Hoorn\, 1623 MA\, Nederland
CATEGORIES:Westfriesland
END:VEVENT
BEGIN:VEVENT
DTSTART;TZID=Europe/Amsterdam:20250721T130000
DTEND;TZID=Europe/Amsterdam:20250721T140000
DTSTAMP:20260424T100438
CREATED:20250101T124813Z
LAST-MODIFIED:20250620T122531Z
UID:10024647-1753102800-1753106400@dehoofdzaak.org
SUMMARY:Open informatie-uur
DESCRIPTION:Open informatie-uur (i.s.m. de Herstelacademie van GGZ NHN). Wil je weten wat er bij beide organisaties te doen is? Kom gewoon zonder afspraak langs!
URL:https://dehoofdzaak.org/agenda/open-informatie-uur/2025-07-21/
LOCATION:De Hoofdzaak Hoorn\, Wilhelminalaan 2\, Hoorn\, 1623 MA\, Nederland
CATEGORIES:Westfriesland
END:VEVENT
BEGIN:VEVENT
DTSTART;TZID=Europe/Amsterdam:20250721T100000
DTEND;TZID=Europe/Amsterdam:20250721T120000
DTSTAMP:20260424T100438
CREATED:20240214T111832Z
LAST-MODIFIED:20251218T105158Z
UID:10013946-1753092000-1753099200@dehoofdzaak.org
SUMMARY:Opgeruimd huis\, opgeruimd hoofd
DESCRIPTION:Een opgeruimd huis geeft rust. Lukt het jou niet je huis op orde te krijgen? En wil je daarover in gesprek? Doe dan mee met deze groep.
URL:https://dehoofdzaak.org/agenda/opgeruimd-huis-opgeruimd-hoofd/2025-07-21/
LOCATION:De Hoofdzaak Hoorn\, Wilhelminalaan 2\, Hoorn\, 1623 MA\, Nederland
CATEGORIES:Westfriesland
END:VEVENT
BEGIN:VEVENT
DTSTART;TZID=Europe/Amsterdam:20250718T190000
DTEND;TZID=Europe/Amsterdam:20250718T220000
DTSTAMP:20260424T100438
CREATED:20250424T150141Z
LAST-MODIFIED:20250911T093559Z
UID:10035438-1752865200-1752876000@dehoofdzaak.org
SUMMARY:Spelletjes avonden in De Verbinding
DESCRIPTION:Om de week organiseren we in de Verbinding spelletjes avonden. De spelletjes staan klaar en we kijken elke keer waar we zin in hebben. Heb je een zelf een leuk spel? Neem hem mee! Speel je gezellig met ons een spelletje mee?
URL:https://dehoofdzaak.org/agenda/frisse-avonden-in-de-verbinding-2/2025-07-18/
LOCATION:De Hoofdzaak Hoorn\, Wilhelminalaan 2\, Hoorn\, 1623 MA\, Nederland
CATEGORIES:Westfriesland
END:VEVENT
BEGIN:VEVENT
DTSTART;TZID=Europe/Amsterdam:20250716T103000
DTEND;TZID=Europe/Amsterdam:20250716T130000
DTSTAMP:20260424T100438
CREATED:20250214T122655Z
LAST-MODIFIED:20250224T092211Z
UID:10025517-1752661800-1752670800@dehoofdzaak.org
SUMMARY:Verbindend wandelen groep 2 (Hoorn)
DESCRIPTION:Kom in beweging met gelijkgestemden. Ben je graag buiten in de frisse lucht en vind je het fijn om in groepsverband te wandelen? Doe dan gezellig mee! We starten en sluiten af met een kopje koffie of thee.
URL:https://dehoofdzaak.org/agenda/verbindend-wandelen-groep-2-hoorn/2025-07-16/
LOCATION:De Hoofdzaak Hoorn\, Wilhelminalaan 2\, Hoorn\, 1623 MA\, Nederland
CATEGORIES:Westfriesland
END:VEVENT
BEGIN:VEVENT
DTSTART;TZID=Europe/Amsterdam:20250716T093000
DTEND;TZID=Europe/Amsterdam:20250716T113000
DTSTAMP:20260424T100438
CREATED:20230822T131002Z
LAST-MODIFIED:20250217T085733Z
UID:10004025-1752658200-1752665400@dehoofdzaak.org
SUMMARY:Verbindend wandelen groep 1 (Hoorn)
DESCRIPTION:Kom in beweging met gelijkgestemden. Ben je graag buiten in de frisse lucht en vind je het fijn om in groepsverband te wandelen? Doe dan gezellig mee! We starten en sluiten af met een kopje koffie of thee.
URL:https://dehoofdzaak.org/agenda/wandelgroep-westfriesland/2025-07-16/
LOCATION:De Hoofdzaak Hoorn\, Wilhelminalaan 2\, Hoorn\, 1623 MA\, Nederland
CATEGORIES:Westfriesland
END:VEVENT
BEGIN:VEVENT
DTSTART;TZID=Europe/Amsterdam:20250715T190000
DTEND;TZID=Europe/Amsterdam:20250715T210000
DTSTAMP:20260424T100438
CREATED:20250225T121959Z
LAST-MODIFIED:20250225T122010Z
UID:10011636-1752606000-1752613200@dehoofdzaak.org
SUMMARY:Samen sterk\, lotgenotengroep voor naasten
DESCRIPTION:Als een dierbare te maken heeft met psychische ontregeling\, kan het fijn zijn om contact te hebben met andere naasten. Vanuit ervaring begrijp je elkaars zorgen en uitdagingen\, en kun je elkaar steunen.
URL:https://dehoofdzaak.org/agenda/samen-sterk-lotgenotengroep-voor-naasten-3/2025-07-15/
LOCATION:De Hoofdzaak Hoorn\, Wilhelminalaan 2\, Hoorn\, 1623 MA\, Nederland
CATEGORIES:Westfriesland
END:VEVENT
BEGIN:VEVENT
DTSTART;TZID=Europe/Amsterdam:20250715T140000
DTEND;TZID=Europe/Amsterdam:20250715T170000
DTSTAMP:20260424T100438
CREATED:20250123T121653Z
LAST-MODIFIED:20250123T121824Z
UID:10005430-1752588000-1752598800@dehoofdzaak.org
SUMMARY:Het opstellen van verlangen (Hoorn)
DESCRIPTION:Het opstellen van het verlangen is een speelse methode om de zoektocht naar het eigen verlangen te verkennen. Het vindt zijn oorsprong in familieopstellingen. Door het verlangen op te stellen kun je nieuwe inzichten opdoen.
URL:https://dehoofdzaak.org/agenda/het-opstellen-van-verlangen-hoorn-2/2025-07-15/
LOCATION:De Hoofdzaak Hoorn\, Wilhelminalaan 2\, Hoorn\, 1623 MA\, Nederland
CATEGORIES:Westfriesland
END:VEVENT
BEGIN:VEVENT
DTSTART;TZID=Europe/Amsterdam:20250715T100000
DTEND;TZID=Europe/Amsterdam:20250715T120000
DTSTAMP:20260424T100438
CREATED:20240701T093136Z
LAST-MODIFIED:20241126T085659Z
UID:10018942-1752573600-1752580800@dehoofdzaak.org
SUMMARY:Mama+ café
DESCRIPTION:Het Mama+ café is specifiek voor moeders met (jonge) kinderen. Moeders met een psychische kwetsbaarheid kunnen elkaar ontmoeten en ervaringen delen\, maar er is ook ruimte voor gezelligheid en ontspanning. Het Mama+ café is een plek waar je jezelf kunt zijn. Je kunt er gewoon binnenkomen voor een kop koffie of thee en ook de kind(eren) zijn van harte welkom. Vrijwilligers van De Hoofdzaak heten je welkom en staan voor je klaar.
URL:https://dehoofdzaak.org/agenda/mama-cafe/2025-07-15/
LOCATION:De Hoofdzaak Hoorn\, Wilhelminalaan 2\, Hoorn\, 1623 MA\, Nederland
CATEGORIES:Westfriesland
END:VEVENT
BEGIN:VEVENT
DTSTART;TZID=Europe/Amsterdam:20250714T140000
DTEND;TZID=Europe/Amsterdam:20250714T163000
DTSTAMP:20260424T100438
CREATED:20230822T133812Z
LAST-MODIFIED:20240717T061233Z
UID:10004953-1752501600-1752510600@dehoofdzaak.org
SUMMARY:Zelfhulpgroep Krachtig vanuit kwetsbaarheid
DESCRIPTION:Gespreksgroep waarin we elkaar steunen\, in een veilige setting ervaringen te delen. Zo ontwikkelen we samen kracht uit kwetsbaarheid.
URL:https://dehoofdzaak.org/agenda/zelfhulpgroep-krachtig-uit-kwetsbaarheid/2025-07-14/
LOCATION:De Hoofdzaak Hoorn\, Wilhelminalaan 2\, Hoorn\, 1623 MA\, Nederland
CATEGORIES:Westfriesland
END:VEVENT
BEGIN:VEVENT
DTSTART;TZID=Europe/Amsterdam:20250714T130000
DTEND;TZID=Europe/Amsterdam:20250714T140000
DTSTAMP:20260424T100438
CREATED:20250101T124813Z
LAST-MODIFIED:20250620T122531Z
UID:10024646-1752498000-1752501600@dehoofdzaak.org
SUMMARY:Open informatie-uur
DESCRIPTION:Open informatie-uur (i.s.m. de Herstelacademie van GGZ NHN). Wil je weten wat er bij beide organisaties te doen is? Kom gewoon zonder afspraak langs!
URL:https://dehoofdzaak.org/agenda/open-informatie-uur/2025-07-14/
LOCATION:De Hoofdzaak Hoorn\, Wilhelminalaan 2\, Hoorn\, 1623 MA\, Nederland
CATEGORIES:Westfriesland
END:VEVENT
BEGIN:VEVENT
DTSTART;TZID=Europe/Amsterdam:20250714T100000
DTEND;TZID=Europe/Amsterdam:20250714T113000
DTSTAMP:20260424T100438
CREATED:20230822T125920Z
LAST-MODIFIED:20230822T125923Z
UID:10003444-1752487200-1752492600@dehoofdzaak.org
SUMMARY:Verbindend autisme
DESCRIPTION:Een gesprekgroep voor mensen met autisme.
URL:https://dehoofdzaak.org/agenda/verbindend-autisme/2025-07-14/
LOCATION:De Hoofdzaak Hoorn\, Wilhelminalaan 2\, Hoorn\, 1623 MA\, Nederland
CATEGORIES:Westfriesland
END:VEVENT
BEGIN:VEVENT
DTSTART;TZID=Europe/Amsterdam:20250712T133000
DTEND;TZID=Europe/Amsterdam:20250712T163000
DTSTAMP:20260424T100438
CREATED:20241111T075459Z
LAST-MODIFIED:20250203T160640Z
UID:10021795-1752327000-1752337800@dehoofdzaak.org
SUMMARY:Bordspellenmiddag i.s.m. NVA
DESCRIPTION:Kom gezellig bordspellen spelen! Neurodivers-vriendelijk :).
URL:https://dehoofdzaak.org/agenda/bordspellenmiddag-i-s-m-nva/2025-07-12/
LOCATION:De Hoofdzaak Hoorn\, Wilhelminalaan 2\, Hoorn\, 1623 MA\, Nederland
CATEGORIES:Westfriesland
END:VEVENT
BEGIN:VEVENT
DTSTART;TZID=Europe/Amsterdam:20250710T130000
DTEND;TZID=Europe/Amsterdam:20250710T150000
DTSTAMP:20260424T100438
CREATED:20250304T080244Z
LAST-MODIFIED:20250304T080249Z
UID:10026412-1752152400-1752159600@dehoofdzaak.org
SUMMARY:Soul Art
DESCRIPTION:Geef uiting aan je gedachten en gevoelens met creatieve materialen.
URL:https://dehoofdzaak.org/agenda/soul-art-3/2025-07-10/
LOCATION:De Hoofdzaak Hoorn\, Wilhelminalaan 2\, Hoorn\, 1623 MA\, Nederland
CATEGORIES:Westfriesland
END:VEVENT
BEGIN:VEVENT
DTSTART;TZID=Europe/Amsterdam:20250710T130000
DTEND;TZID=Europe/Amsterdam:20250710T150000
DTSTAMP:20260424T100438
CREATED:20230822T122030Z
LAST-MODIFIED:20250818T072620Z
UID:10034322-1752152400-1752159600@dehoofdzaak.org
SUMMARY:Schrijvend op reis!
DESCRIPTION:Aan de slag met schrijfopdrachten. Door te schrijven kun je emoties en ideeën onder woorden brengen en met elkaar delen. De schrijfgroep van Westfriesland vindt tweewekelijks plaats in Hoorn. Schrijf je mee?
URL:https://dehoofdzaak.org/agenda/schrijf-het-op/2025-07-10/
LOCATION:De Hoofdzaak Hoorn\, Wilhelminalaan 2\, Hoorn\, 1623 MA\, Nederland
CATEGORIES:Westfriesland
END:VEVENT
BEGIN:VEVENT
DTSTART;TZID=Europe/Amsterdam:20250710T100000
DTEND;TZID=Europe/Amsterdam:20250710T120000
DTSTAMP:20260424T100438
CREATED:20241210T102306Z
LAST-MODIFIED:20250225T121055Z
UID:10023706-1752141600-1752148800@dehoofdzaak.org
SUMMARY:Zelfhulpgroep depressie donderdag
DESCRIPTION:Gespreksgroep voor mensen die te maken hebben met depressie.
URL:https://dehoofdzaak.org/agenda/zelfhulpgroep-depressie-donderdag/2025-07-10/
LOCATION:De Hoofdzaak Hoorn\, Wilhelminalaan 2\, Hoorn\, 1623 MA\, Nederland
CATEGORIES:Westfriesland
END:VEVENT
BEGIN:VEVENT
DTSTART;TZID=Europe/Amsterdam:20250709T190000
DTEND;TZID=Europe/Amsterdam:20250709T213000
DTSTAMP:20260424T100438
CREATED:20240328T155738Z
LAST-MODIFIED:20240328T155742Z
UID:10014980-1752087600-1752096600@dehoofdzaak.org
SUMMARY:Thematische gespreksgroep autisme (volwassenen)
DESCRIPTION:
URL:https://dehoofdzaak.org/agenda/thematische-gespreksgroep-autisme-volwassenen-2/2025-07-09/
LOCATION:De Hoofdzaak Hoorn\, Wilhelminalaan 2\, Hoorn\, 1623 MA\, Nederland
CATEGORIES:Westfriesland
END:VEVENT
BEGIN:VEVENT
DTSTART;TZID=Europe/Amsterdam:20250709T133000
DTEND;TZID=Europe/Amsterdam:20250709T161500
DTSTAMP:20260424T100438
CREATED:20230822T142950Z
LAST-MODIFIED:20250711T094007Z
UID:10005604-1752067800-1752077700@dehoofdzaak.org
SUMMARY:Met beide benen op de grond
DESCRIPTION:Vaak hebben mensen allerlei doemscenario’s in hun hoofd die niets met de realiteit te maken hebben. In deze bewustwordingsgroep leer je om vanuit het hier en nu te kijken of er werkelijk een probleem is.
URL:https://dehoofdzaak.org/agenda/met-beide-benen-op-de-grond/2025-07-09/
LOCATION:De Hoofdzaak Hoorn\, Wilhelminalaan 2\, Hoorn\, 1623 MA\, Nederland
CATEGORIES:Westfriesland
END:VEVENT
BEGIN:VEVENT
DTSTART;TZID=Europe/Amsterdam:20250709T103000
DTEND;TZID=Europe/Amsterdam:20250709T130000
DTSTAMP:20260424T100438
CREATED:20250214T122655Z
LAST-MODIFIED:20250224T092211Z
UID:10025516-1752057000-1752066000@dehoofdzaak.org
SUMMARY:Verbindend wandelen groep 2 (Hoorn)
DESCRIPTION:Kom in beweging met gelijkgestemden. Ben je graag buiten in de frisse lucht en vind je het fijn om in groepsverband te wandelen? Doe dan gezellig mee! We starten en sluiten af met een kopje koffie of thee.
URL:https://dehoofdzaak.org/agenda/verbindend-wandelen-groep-2-hoorn/2025-07-09/
LOCATION:De Hoofdzaak Hoorn\, Wilhelminalaan 2\, Hoorn\, 1623 MA\, Nederland
CATEGORIES:Westfriesland
END:VEVENT
BEGIN:VEVENT
DTSTART;TZID=Europe/Amsterdam:20250709T093000
DTEND;TZID=Europe/Amsterdam:20250709T113000
DTSTAMP:20260424T100438
CREATED:20230822T131002Z
LAST-MODIFIED:20250217T085733Z
UID:10004024-1752053400-1752060600@dehoofdzaak.org
SUMMARY:Verbindend wandelen groep 1 (Hoorn)
DESCRIPTION:Kom in beweging met gelijkgestemden. Ben je graag buiten in de frisse lucht en vind je het fijn om in groepsverband te wandelen? Doe dan gezellig mee! We starten en sluiten af met een kopje koffie of thee.
URL:https://dehoofdzaak.org/agenda/wandelgroep-westfriesland/2025-07-09/
LOCATION:De Hoofdzaak Hoorn\, Wilhelminalaan 2\, Hoorn\, 1623 MA\, Nederland
CATEGORIES:Westfriesland
END:VEVENT
BEGIN:VEVENT
DTSTART;TZID=Europe/Amsterdam:20250709T080000
DTEND;TZID=Europe/Amsterdam:20250709T170000
DTSTAMP:20260424T100438
CREATED:20250617T094640Z
LAST-MODIFIED:20250724T101100Z
UID:10032435-1752048000-1752080400@dehoofdzaak.org
SUMMARY:Ontspanningsmomentje
DESCRIPTION:Even op adem komen\, even alleen maar aandacht voor jezelf. Verwen jezelf met dit geschenk in de vakantieperiode. Je bent van harte welkom.
URL:https://dehoofdzaak.org/agenda/ontspanningsmomentje/2025-07-09/
LOCATION:De Hoofdzaak Hoorn\, Wilhelminalaan 2\, Hoorn\, 1623 MA\, Nederland
CATEGORIES:Westfriesland
END:VEVENT
BEGIN:VEVENT
DTSTART;TZID=Europe/Amsterdam:20250708T133000
DTEND;TZID=Europe/Amsterdam:20250708T153000
DTSTAMP:20260424T100438
CREATED:20240228T104044Z
LAST-MODIFIED:20240228T104047Z
UID:10014205-1751981400-1751988600@dehoofdzaak.org
SUMMARY:Dagelijks Autisme
DESCRIPTION:Gespreksgroep voor mensen met autisme.
URL:https://dehoofdzaak.org/agenda/dagelijks-autisme/2025-07-08/
LOCATION:De Hoofdzaak Hoorn\, Wilhelminalaan 2\, Hoorn\, 1623 MA\, Nederland
CATEGORIES:Westfriesland
END:VEVENT
BEGIN:VEVENT
DTSTART;TZID=Europe/Amsterdam:20250708T100000
DTEND;TZID=Europe/Amsterdam:20250708T120000
DTSTAMP:20260424T100438
CREATED:20240701T093136Z
LAST-MODIFIED:20241126T085659Z
UID:10018941-1751968800-1751976000@dehoofdzaak.org
SUMMARY:Mama+ café
DESCRIPTION:Het Mama+ café is specifiek voor moeders met (jonge) kinderen. Moeders met een psychische kwetsbaarheid kunnen elkaar ontmoeten en ervaringen delen\, maar er is ook ruimte voor gezelligheid en ontspanning. Het Mama+ café is een plek waar je jezelf kunt zijn. Je kunt er gewoon binnenkomen voor een kop koffie of thee en ook de kind(eren) zijn van harte welkom. Vrijwilligers van De Hoofdzaak heten je welkom en staan voor je klaar.
URL:https://dehoofdzaak.org/agenda/mama-cafe/2025-07-08/
LOCATION:De Hoofdzaak Hoorn\, Wilhelminalaan 2\, Hoorn\, 1623 MA\, Nederland
CATEGORIES:Westfriesland
END:VEVENT
BEGIN:VEVENT
DTSTART;TZID=Europe/Amsterdam:20250707T133000
DTEND;TZID=Europe/Amsterdam:20250707T150000
DTSTAMP:20260424T100438
CREATED:20250214T102131Z
LAST-MODIFIED:20250214T103430Z
UID:10025357-1751895000-1751900400@dehoofdzaak.org
SUMMARY:Gespreksgroep Lighthouse
DESCRIPTION:Gespreksgroep voor volwassenen met persoonlijke ervaring met zelfbeschadiging.
URL:https://dehoofdzaak.org/agenda/gespreksgroep-lighthouse/2025-07-07/
LOCATION:De Hoofdzaak Hoorn\, Wilhelminalaan 2\, Hoorn\, 1623 MA\, Nederland
CATEGORIES:Westfriesland
END:VEVENT
BEGIN:VEVENT
DTSTART;TZID=Europe/Amsterdam:20250707T130000
DTEND;TZID=Europe/Amsterdam:20250707T140000
DTSTAMP:20260424T100438
CREATED:20250101T124813Z
LAST-MODIFIED:20250620T122531Z
UID:10024645-1751893200-1751896800@dehoofdzaak.org
SUMMARY:Open informatie-uur
DESCRIPTION:Open informatie-uur (i.s.m. de Herstelacademie van GGZ NHN). Wil je weten wat er bij beide organisaties te doen is? Kom gewoon zonder afspraak langs!
URL:https://dehoofdzaak.org/agenda/open-informatie-uur/2025-07-07/
LOCATION:De Hoofdzaak Hoorn\, Wilhelminalaan 2\, Hoorn\, 1623 MA\, Nederland
CATEGORIES:Westfriesland
END:VEVENT
END:VCALENDAR