BEGIN:VCALENDAR
VERSION:2.0
PRODID:-//De Hoofdzaak - ECPv6.15.20//NONSGML v1.0//EN
CALSCALE:GREGORIAN
METHOD:PUBLISH
X-ORIGINAL-URL:https://dehoofdzaak.org
X-WR-CALDESC:Evenementen voor De Hoofdzaak
REFRESH-INTERVAL;VALUE=DURATION:PT1H
X-Robots-Tag:noindex
X-PUBLISHED-TTL:PT1H
BEGIN:VTIMEZONE
TZID:Europe/Amsterdam
BEGIN:DAYLIGHT
TZOFFSETFROM:+0100
TZOFFSETTO:+0200
TZNAME:CEST
DTSTART:20240331T010000
END:DAYLIGHT
BEGIN:STANDARD
TZOFFSETFROM:+0200
TZOFFSETTO:+0100
TZNAME:CET
DTSTART:20241027T010000
END:STANDARD
BEGIN:DAYLIGHT
TZOFFSETFROM:+0100
TZOFFSETTO:+0200
TZNAME:CEST
DTSTART:20250330T010000
END:DAYLIGHT
BEGIN:STANDARD
TZOFFSETFROM:+0200
TZOFFSETTO:+0100
TZNAME:CET
DTSTART:20251026T010000
END:STANDARD
BEGIN:DAYLIGHT
TZOFFSETFROM:+0100
TZOFFSETTO:+0200
TZNAME:CEST
DTSTART:20260329T010000
END:DAYLIGHT
BEGIN:STANDARD
TZOFFSETFROM:+0200
TZOFFSETTO:+0100
TZNAME:CET
DTSTART:20261025T010000
END:STANDARD
END:VTIMEZONE
BEGIN:VEVENT
DTSTART;TZID=Europe/Amsterdam:20250626T130000
DTEND;TZID=Europe/Amsterdam:20250626T150000
DTSTAMP:20260424T174834
CREATED:20250304T080244Z
LAST-MODIFIED:20250304T080249Z
UID:10026410-1750942800-1750950000@dehoofdzaak.org
SUMMARY:Soul Art
DESCRIPTION:Geef uiting aan je gedachten en gevoelens met creatieve materialen.
URL:https://dehoofdzaak.org/agenda/soul-art-3/2025-06-26/
LOCATION:De Hoofdzaak Hoorn\, Wilhelminalaan 2\, Hoorn\, 1623 MA\, Nederland
CATEGORIES:Westfriesland
END:VEVENT
BEGIN:VEVENT
DTSTART;TZID=Europe/Amsterdam:20250626T130000
DTEND;TZID=Europe/Amsterdam:20250626T150000
DTSTAMP:20260424T174834
CREATED:20230822T122030Z
LAST-MODIFIED:20250818T072620Z
UID:10034321-1750942800-1750950000@dehoofdzaak.org
SUMMARY:Schrijvend op reis!
DESCRIPTION:Aan de slag met schrijfopdrachten. Door te schrijven kun je emoties en ideeën onder woorden brengen en met elkaar delen. De schrijfgroep van Westfriesland vindt tweewekelijks plaats in Hoorn. Schrijf je mee?
URL:https://dehoofdzaak.org/agenda/schrijf-het-op/2025-06-26/
LOCATION:De Hoofdzaak Hoorn\, Wilhelminalaan 2\, Hoorn\, 1623 MA\, Nederland
CATEGORIES:Westfriesland
END:VEVENT
BEGIN:VEVENT
DTSTART;TZID=Europe/Amsterdam:20250626T100000
DTEND;TZID=Europe/Amsterdam:20250626T120000
DTSTAMP:20260424T174834
CREATED:20241210T102306Z
LAST-MODIFIED:20250225T121055Z
UID:10023705-1750932000-1750939200@dehoofdzaak.org
SUMMARY:Zelfhulpgroep depressie donderdag
DESCRIPTION:Gespreksgroep voor mensen die te maken hebben met depressie.
URL:https://dehoofdzaak.org/agenda/zelfhulpgroep-depressie-donderdag/2025-06-26/
LOCATION:De Hoofdzaak Hoorn\, Wilhelminalaan 2\, Hoorn\, 1623 MA\, Nederland
CATEGORIES:Westfriesland
END:VEVENT
BEGIN:VEVENT
DTSTART;TZID=Europe/Amsterdam:20250625T133000
DTEND;TZID=Europe/Amsterdam:20250625T161500
DTSTAMP:20260424T174834
CREATED:20230822T142950Z
LAST-MODIFIED:20250711T094007Z
UID:10005603-1750858200-1750868100@dehoofdzaak.org
SUMMARY:Met beide benen op de grond
DESCRIPTION:Vaak hebben mensen allerlei doemscenario’s in hun hoofd die niets met de realiteit te maken hebben. In deze bewustwordingsgroep leer je om vanuit het hier en nu te kijken of er werkelijk een probleem is.
URL:https://dehoofdzaak.org/agenda/met-beide-benen-op-de-grond/2025-06-25/
LOCATION:De Hoofdzaak Hoorn\, Wilhelminalaan 2\, Hoorn\, 1623 MA\, Nederland
CATEGORIES:Westfriesland
END:VEVENT
BEGIN:VEVENT
DTSTART;TZID=Europe/Amsterdam:20250625T103000
DTEND;TZID=Europe/Amsterdam:20250625T130000
DTSTAMP:20260424T174834
CREATED:20250214T122655Z
LAST-MODIFIED:20250224T092211Z
UID:10025514-1750847400-1750856400@dehoofdzaak.org
SUMMARY:Verbindend wandelen groep 2 (Hoorn)
DESCRIPTION:Kom in beweging met gelijkgestemden. Ben je graag buiten in de frisse lucht en vind je het fijn om in groepsverband te wandelen? Doe dan gezellig mee! We starten en sluiten af met een kopje koffie of thee.
URL:https://dehoofdzaak.org/agenda/verbindend-wandelen-groep-2-hoorn/2025-06-25/
LOCATION:De Hoofdzaak Hoorn\, Wilhelminalaan 2\, Hoorn\, 1623 MA\, Nederland
CATEGORIES:Westfriesland
END:VEVENT
BEGIN:VEVENT
DTSTART;TZID=Europe/Amsterdam:20250625T093000
DTEND;TZID=Europe/Amsterdam:20250625T113000
DTSTAMP:20260424T174834
CREATED:20230822T131002Z
LAST-MODIFIED:20250217T085733Z
UID:10004022-1750843800-1750851000@dehoofdzaak.org
SUMMARY:Verbindend wandelen groep 1 (Hoorn)
DESCRIPTION:Kom in beweging met gelijkgestemden. Ben je graag buiten in de frisse lucht en vind je het fijn om in groepsverband te wandelen? Doe dan gezellig mee! We starten en sluiten af met een kopje koffie of thee.
URL:https://dehoofdzaak.org/agenda/wandelgroep-westfriesland/2025-06-25/
LOCATION:De Hoofdzaak Hoorn\, Wilhelminalaan 2\, Hoorn\, 1623 MA\, Nederland
CATEGORIES:Westfriesland
END:VEVENT
BEGIN:VEVENT
DTSTART;TZID=Europe/Amsterdam:20250624T190000
DTEND;TZID=Europe/Amsterdam:20250624T210000
DTSTAMP:20260424T174834
CREATED:20250530T141800Z
LAST-MODIFIED:20250530T142625Z
UID:10030852-1750791600-1750798800@dehoofdzaak.org
SUMMARY:'Werk als bron van kracht' ontdek de mogelijkheden!
DESCRIPTION:Een inspirerende bijeenkomst van Startwijzer en De Hoofdzaak. Ben jij je aan het oriënteren op (vrijwilligers)werk? Startwijzer en De Hoofdzaak kunnen je ondersteunen op jouw pad. Klik op de button hieronder voor meer informatie!
URL:https://dehoofdzaak.org/agenda/werk-als-bron-van-kracht/
LOCATION:De Hoofdzaak Hoorn\, Wilhelminalaan 2\, Hoorn\, 1623 MA\, Nederland
CATEGORIES:Westfriesland
END:VEVENT
BEGIN:VEVENT
DTSTART;TZID=Europe/Amsterdam:20250624T133000
DTEND;TZID=Europe/Amsterdam:20250624T160000
DTSTAMP:20260424T174834
CREATED:20250225T112629Z
LAST-MODIFIED:20250225T112636Z
UID:10026322-1750771800-1750780800@dehoofdzaak.org
SUMMARY:Thematische gespreksgroep autisme (volwassenen)
DESCRIPTION:
URL:https://dehoofdzaak.org/agenda/thematische-gespreksgroep-autisme-volwassenen-3/2025-06-24/
LOCATION:De Hoofdzaak Hoorn\, Wilhelminalaan 2\, Hoorn\, 1623 MA\, Nederland
CATEGORIES:Westfriesland
END:VEVENT
BEGIN:VEVENT
DTSTART;TZID=Europe/Amsterdam:20250624T133000
DTEND;TZID=Europe/Amsterdam:20250624T153000
DTSTAMP:20260424T174834
CREATED:20240228T104044Z
LAST-MODIFIED:20240228T104047Z
UID:10014204-1750771800-1750779000@dehoofdzaak.org
SUMMARY:Dagelijks Autisme
DESCRIPTION:Gespreksgroep voor mensen met autisme.
URL:https://dehoofdzaak.org/agenda/dagelijks-autisme/2025-06-24/
LOCATION:De Hoofdzaak Hoorn\, Wilhelminalaan 2\, Hoorn\, 1623 MA\, Nederland
CATEGORIES:Westfriesland
END:VEVENT
BEGIN:VEVENT
DTSTART;TZID=Europe/Amsterdam:20250624T100000
DTEND;TZID=Europe/Amsterdam:20250624T120000
DTSTAMP:20260424T174834
CREATED:20240701T093136Z
LAST-MODIFIED:20241126T085659Z
UID:10018939-1750759200-1750766400@dehoofdzaak.org
SUMMARY:Mama+ café
DESCRIPTION:Het Mama+ café is specifiek voor moeders met (jonge) kinderen. Moeders met een psychische kwetsbaarheid kunnen elkaar ontmoeten en ervaringen delen\, maar er is ook ruimte voor gezelligheid en ontspanning. Het Mama+ café is een plek waar je jezelf kunt zijn. Je kunt er gewoon binnenkomen voor een kop koffie of thee en ook de kind(eren) zijn van harte welkom. Vrijwilligers van De Hoofdzaak heten je welkom en staan voor je klaar.
URL:https://dehoofdzaak.org/agenda/mama-cafe/2025-06-24/
LOCATION:De Hoofdzaak Hoorn\, Wilhelminalaan 2\, Hoorn\, 1623 MA\, Nederland
CATEGORIES:Westfriesland
END:VEVENT
BEGIN:VEVENT
DTSTART;TZID=Europe/Amsterdam:20250623T133000
DTEND;TZID=Europe/Amsterdam:20250623T150000
DTSTAMP:20260424T174834
CREATED:20250214T102131Z
LAST-MODIFIED:20250214T103430Z
UID:10025356-1750685400-1750690800@dehoofdzaak.org
SUMMARY:Gespreksgroep Lighthouse
DESCRIPTION:Gespreksgroep voor volwassenen met persoonlijke ervaring met zelfbeschadiging.
URL:https://dehoofdzaak.org/agenda/gespreksgroep-lighthouse/2025-06-23/
LOCATION:De Hoofdzaak Hoorn\, Wilhelminalaan 2\, Hoorn\, 1623 MA\, Nederland
CATEGORIES:Westfriesland
END:VEVENT
BEGIN:VEVENT
DTSTART;TZID=Europe/Amsterdam:20250623T100000
DTEND;TZID=Europe/Amsterdam:20250623T120000
DTSTAMP:20260424T174834
CREATED:20241218T101941Z
LAST-MODIFIED:20251009T084949Z
UID:10002343-1750672800-1750680000@dehoofdzaak.org
SUMMARY:Fotografiegroep 'Hoofdzaken door de lens'
DESCRIPTION:Tijdens de bijeenkomsten van ‘Hoofdzaken door de lens’ gaat het niet om het perfecte plaatje. Je gebruikt beelden om je eigen verhaal te vertellen. Bijvoorbeeld aan de hand van verschillende thema’s en opdrachten. \n\n\n\nMeer info: Fotografiegroep ‘Hoofdzaken door de lens’ | De Hoofdzaak
URL:https://dehoofdzaak.org/agenda/fotografiegroep-hoofdzaken-door-de-lens-2/2025-06-23/
LOCATION:De Hoofdzaak Hoorn\, Wilhelminalaan 2\, Hoorn\, 1623 MA\, Nederland
CATEGORIES:Westfriesland
END:VEVENT
BEGIN:VEVENT
DTSTART;TZID=Europe/Amsterdam:20250623T100000
DTEND;TZID=Europe/Amsterdam:20250623T120000
DTSTAMP:20260424T174834
CREATED:20240214T111832Z
LAST-MODIFIED:20251218T105158Z
UID:10013944-1750672800-1750680000@dehoofdzaak.org
SUMMARY:Opgeruimd huis\, opgeruimd hoofd
DESCRIPTION:Een opgeruimd huis geeft rust. Lukt het jou niet je huis op orde te krijgen? En wil je daarover in gesprek? Doe dan mee met deze groep.
URL:https://dehoofdzaak.org/agenda/opgeruimd-huis-opgeruimd-hoofd/2025-06-23/
LOCATION:De Hoofdzaak Hoorn\, Wilhelminalaan 2\, Hoorn\, 1623 MA\, Nederland
CATEGORIES:Westfriesland
END:VEVENT
BEGIN:VEVENT
DTSTART;TZID=Europe/Amsterdam:20250620T190000
DTEND;TZID=Europe/Amsterdam:20250620T220000
DTSTAMP:20260424T174834
CREATED:20250424T150141Z
LAST-MODIFIED:20250911T093559Z
UID:10035436-1750446000-1750456800@dehoofdzaak.org
SUMMARY:Spelletjes avonden in De Verbinding
DESCRIPTION:Om de week organiseren we in de Verbinding spelletjes avonden. De spelletjes staan klaar en we kijken elke keer waar we zin in hebben. Heb je een zelf een leuk spel? Neem hem mee! Speel je gezellig met ons een spelletje mee?
URL:https://dehoofdzaak.org/agenda/frisse-avonden-in-de-verbinding-2/2025-06-20/
LOCATION:De Hoofdzaak Hoorn\, Wilhelminalaan 2\, Hoorn\, 1623 MA\, Nederland
CATEGORIES:Westfriesland
END:VEVENT
BEGIN:VEVENT
DTSTART;TZID=Europe/Amsterdam:20250619T193000
DTEND;TZID=Europe/Amsterdam:20250619T210000
DTSTAMP:20260424T174834
CREATED:20250430T074400Z
LAST-MODIFIED:20250430T075128Z
UID:10028668-1750361400-1750366800@dehoofdzaak.org
SUMMARY:Voeding voor het brein
DESCRIPTION:Wil jij aan de slag met jouw voedingspatroon en ontdekken hoe voeding kan bijdragen aan het herstel van je brein? Tijdens deze bijeenkomsten staan verschillende thema’s centraal over voeding en de invloed hiervan op psychische klachten.
URL:https://dehoofdzaak.org/agenda/voeding-voor-het-brein-2/2025-06-19/
LOCATION:De Hoofdzaak Hoorn\, Wilhelminalaan 2\, Hoorn\, 1623 MA\, Nederland
CATEGORIES:Westfriesland
END:VEVENT
BEGIN:VEVENT
DTSTART;TZID=Europe/Amsterdam:20250619T133000
DTEND;TZID=Europe/Amsterdam:20250619T153000
DTSTAMP:20260424T174834
CREATED:20241126T095007Z
LAST-MODIFIED:20241126T095016Z
UID:10022853-1750339800-1750347000@dehoofdzaak.org
SUMMARY:Filosofie\, een hoofdzaak?
DESCRIPTION:In de filosofiegroep worden ervaringen en ideeën uit de filosofie (wijsbegeerte) en spiritualiteit met elkaar gedeeld. Wat kun jij met filosofie in jouw dagelijks leven?
URL:https://dehoofdzaak.org/agenda/filosofie-een-hoofdzaak-3/2025-06-19/
LOCATION:De Hoofdzaak Hoorn\, Wilhelminalaan 2\, Hoorn\, 1623 MA\, Nederland
CATEGORIES:Westfriesland
END:VEVENT
BEGIN:VEVENT
DTSTART;TZID=Europe/Amsterdam:20250619T130000
DTEND;TZID=Europe/Amsterdam:20250619T150000
DTSTAMP:20260424T174834
CREATED:20250304T080244Z
LAST-MODIFIED:20250304T080249Z
UID:10026409-1750338000-1750345200@dehoofdzaak.org
SUMMARY:Soul Art
DESCRIPTION:Geef uiting aan je gedachten en gevoelens met creatieve materialen.
URL:https://dehoofdzaak.org/agenda/soul-art-3/2025-06-19/
LOCATION:De Hoofdzaak Hoorn\, Wilhelminalaan 2\, Hoorn\, 1623 MA\, Nederland
CATEGORIES:Westfriesland
END:VEVENT
BEGIN:VEVENT
DTSTART;TZID=Europe/Amsterdam:20250618T103000
DTEND;TZID=Europe/Amsterdam:20250618T130000
DTSTAMP:20260424T174834
CREATED:20250214T122655Z
LAST-MODIFIED:20250224T092211Z
UID:10025513-1750242600-1750251600@dehoofdzaak.org
SUMMARY:Verbindend wandelen groep 2 (Hoorn)
DESCRIPTION:Kom in beweging met gelijkgestemden. Ben je graag buiten in de frisse lucht en vind je het fijn om in groepsverband te wandelen? Doe dan gezellig mee! We starten en sluiten af met een kopje koffie of thee.
URL:https://dehoofdzaak.org/agenda/verbindend-wandelen-groep-2-hoorn/2025-06-18/
LOCATION:De Hoofdzaak Hoorn\, Wilhelminalaan 2\, Hoorn\, 1623 MA\, Nederland
CATEGORIES:Westfriesland
END:VEVENT
BEGIN:VEVENT
DTSTART;TZID=Europe/Amsterdam:20250618T093000
DTEND;TZID=Europe/Amsterdam:20250618T113000
DTSTAMP:20260424T174834
CREATED:20230822T131002Z
LAST-MODIFIED:20250217T085733Z
UID:10004021-1750239000-1750246200@dehoofdzaak.org
SUMMARY:Verbindend wandelen groep 1 (Hoorn)
DESCRIPTION:Kom in beweging met gelijkgestemden. Ben je graag buiten in de frisse lucht en vind je het fijn om in groepsverband te wandelen? Doe dan gezellig mee! We starten en sluiten af met een kopje koffie of thee.
URL:https://dehoofdzaak.org/agenda/wandelgroep-westfriesland/2025-06-18/
LOCATION:De Hoofdzaak Hoorn\, Wilhelminalaan 2\, Hoorn\, 1623 MA\, Nederland
CATEGORIES:Westfriesland
END:VEVENT
BEGIN:VEVENT
DTSTART;TZID=Europe/Amsterdam:20250617T190000
DTEND;TZID=Europe/Amsterdam:20250617T210000
DTSTAMP:20260424T174834
CREATED:20250225T121959Z
LAST-MODIFIED:20250225T122010Z
UID:10011635-1750186800-1750194000@dehoofdzaak.org
SUMMARY:Samen sterk\, lotgenotengroep voor naasten
DESCRIPTION:Als een dierbare te maken heeft met psychische ontregeling\, kan het fijn zijn om contact te hebben met andere naasten. Vanuit ervaring begrijp je elkaars zorgen en uitdagingen\, en kun je elkaar steunen.
URL:https://dehoofdzaak.org/agenda/samen-sterk-lotgenotengroep-voor-naasten-3/2025-06-17/
LOCATION:De Hoofdzaak Hoorn\, Wilhelminalaan 2\, Hoorn\, 1623 MA\, Nederland
CATEGORIES:Westfriesland
END:VEVENT
BEGIN:VEVENT
DTSTART;TZID=Europe/Amsterdam:20250617T140000
DTEND;TZID=Europe/Amsterdam:20250617T170000
DTSTAMP:20260424T174834
CREATED:20250123T121653Z
LAST-MODIFIED:20250123T121824Z
UID:10005428-1750168800-1750179600@dehoofdzaak.org
SUMMARY:Het opstellen van verlangen (Hoorn)
DESCRIPTION:Het opstellen van het verlangen is een speelse methode om de zoektocht naar het eigen verlangen te verkennen. Het vindt zijn oorsprong in familieopstellingen. Door het verlangen op te stellen kun je nieuwe inzichten opdoen.
URL:https://dehoofdzaak.org/agenda/het-opstellen-van-verlangen-hoorn-2/2025-06-17/
LOCATION:De Hoofdzaak Hoorn\, Wilhelminalaan 2\, Hoorn\, 1623 MA\, Nederland
CATEGORIES:Westfriesland
END:VEVENT
BEGIN:VEVENT
DTSTART;TZID=Europe/Amsterdam:20250617T100000
DTEND;TZID=Europe/Amsterdam:20250617T120000
DTSTAMP:20260424T174834
CREATED:20240701T093136Z
LAST-MODIFIED:20241126T085659Z
UID:10018938-1750154400-1750161600@dehoofdzaak.org
SUMMARY:Mama+ café
DESCRIPTION:Het Mama+ café is specifiek voor moeders met (jonge) kinderen. Moeders met een psychische kwetsbaarheid kunnen elkaar ontmoeten en ervaringen delen\, maar er is ook ruimte voor gezelligheid en ontspanning. Het Mama+ café is een plek waar je jezelf kunt zijn. Je kunt er gewoon binnenkomen voor een kop koffie of thee en ook de kind(eren) zijn van harte welkom. Vrijwilligers van De Hoofdzaak heten je welkom en staan voor je klaar.
URL:https://dehoofdzaak.org/agenda/mama-cafe/2025-06-17/
LOCATION:De Hoofdzaak Hoorn\, Wilhelminalaan 2\, Hoorn\, 1623 MA\, Nederland
CATEGORIES:Westfriesland
END:VEVENT
BEGIN:VEVENT
DTSTART;TZID=Europe/Amsterdam:20250616T190000
DTEND;TZID=Europe/Amsterdam:20250616T213000
DTSTAMP:20260424T174834
CREATED:20240328T160609Z
LAST-MODIFIED:20241128T102802Z
UID:10015056-1750100400-1750109400@dehoofdzaak.org
SUMMARY:Thematische gespreksgroep autisme (jongvolwassenen)
DESCRIPTION:
URL:https://dehoofdzaak.org/agenda/thematische-gespreksgroep-autisme-jongvolwassenen/2025-06-16/
LOCATION:De Hoofdzaak Hoorn\, Wilhelminalaan 2\, Hoorn\, 1623 MA\, Nederland
CATEGORIES:Westfriesland
END:VEVENT
BEGIN:VEVENT
DTSTART;TZID=Europe/Amsterdam:20250616T140000
DTEND;TZID=Europe/Amsterdam:20250616T163000
DTSTAMP:20260424T174834
CREATED:20230822T133812Z
LAST-MODIFIED:20240717T061233Z
UID:10004951-1750082400-1750091400@dehoofdzaak.org
SUMMARY:Zelfhulpgroep Krachtig vanuit kwetsbaarheid
DESCRIPTION:Gespreksgroep waarin we elkaar steunen\, in een veilige setting ervaringen te delen. Zo ontwikkelen we samen kracht uit kwetsbaarheid.
URL:https://dehoofdzaak.org/agenda/zelfhulpgroep-krachtig-uit-kwetsbaarheid/2025-06-16/
LOCATION:De Hoofdzaak Hoorn\, Wilhelminalaan 2\, Hoorn\, 1623 MA\, Nederland
CATEGORIES:Westfriesland
END:VEVENT
BEGIN:VEVENT
DTSTART;TZID=Europe/Amsterdam:20250616T130000
DTEND;TZID=Europe/Amsterdam:20250616T140000
DTSTAMP:20260424T174834
CREATED:20250101T124813Z
LAST-MODIFIED:20250620T122531Z
UID:10024642-1750078800-1750082400@dehoofdzaak.org
SUMMARY:Open informatie-uur
DESCRIPTION:Open informatie-uur (i.s.m. de Herstelacademie van GGZ NHN). Wil je weten wat er bij beide organisaties te doen is? Kom gewoon zonder afspraak langs!
URL:https://dehoofdzaak.org/agenda/open-informatie-uur/2025-06-16/
LOCATION:De Hoofdzaak Hoorn\, Wilhelminalaan 2\, Hoorn\, 1623 MA\, Nederland
CATEGORIES:Westfriesland
END:VEVENT
BEGIN:VEVENT
DTSTART;TZID=Europe/Amsterdam:20250616T100000
DTEND;TZID=Europe/Amsterdam:20250616T113000
DTSTAMP:20260424T174834
CREATED:20230822T125920Z
LAST-MODIFIED:20230822T125923Z
UID:10003442-1750068000-1750073400@dehoofdzaak.org
SUMMARY:Verbindend autisme
DESCRIPTION:Een gesprekgroep voor mensen met autisme.
URL:https://dehoofdzaak.org/agenda/verbindend-autisme/2025-06-16/
LOCATION:De Hoofdzaak Hoorn\, Wilhelminalaan 2\, Hoorn\, 1623 MA\, Nederland
CATEGORIES:Westfriesland
END:VEVENT
BEGIN:VEVENT
DTSTART;TZID=Europe/Amsterdam:20250614T133000
DTEND;TZID=Europe/Amsterdam:20250614T163000
DTSTAMP:20260424T174834
CREATED:20241111T075459Z
LAST-MODIFIED:20250203T160640Z
UID:10021794-1749907800-1749918600@dehoofdzaak.org
SUMMARY:Bordspellenmiddag i.s.m. NVA
DESCRIPTION:Kom gezellig bordspellen spelen! Neurodivers-vriendelijk :).
URL:https://dehoofdzaak.org/agenda/bordspellenmiddag-i-s-m-nva/2025-06-14/
LOCATION:De Hoofdzaak Hoorn\, Wilhelminalaan 2\, Hoorn\, 1623 MA\, Nederland
CATEGORIES:Westfriesland
END:VEVENT
BEGIN:VEVENT
DTSTART;TZID=Europe/Amsterdam:20250613T133000
DTEND;TZID=Europe/Amsterdam:20250613T150000
DTSTAMP:20260424T174834
CREATED:20241105T151737Z
LAST-MODIFIED:20241126T091740Z
UID:10008722-1749821400-1749826800@dehoofdzaak.org
SUMMARY:In gesprek met elkaar
DESCRIPTION:Gespreksgroep. Elke week is er een wisselende gespreksleider. Hij of zij geeft de aanzet voor een gesprek\, maar eigen inbreng is ook altijd welkom.
URL:https://dehoofdzaak.org/agenda/in-gesprek-met-elkaar-2/2025-06-13/
LOCATION:De Hoofdzaak Hoorn\, Wilhelminalaan 2\, Hoorn\, 1623 MA\, Nederland
CATEGORIES:Westfriesland
END:VEVENT
BEGIN:VEVENT
DTSTART;TZID=Europe/Amsterdam:20250612T193000
DTEND;TZID=Europe/Amsterdam:20250612T210000
DTSTAMP:20260424T174834
CREATED:20250430T074400Z
LAST-MODIFIED:20250430T075128Z
UID:10028667-1749756600-1749762000@dehoofdzaak.org
SUMMARY:Voeding voor het brein
DESCRIPTION:Wil jij aan de slag met jouw voedingspatroon en ontdekken hoe voeding kan bijdragen aan het herstel van je brein? Tijdens deze bijeenkomsten staan verschillende thema’s centraal over voeding en de invloed hiervan op psychische klachten.
URL:https://dehoofdzaak.org/agenda/voeding-voor-het-brein-2/2025-06-12/
LOCATION:De Hoofdzaak Hoorn\, Wilhelminalaan 2\, Hoorn\, 1623 MA\, Nederland
CATEGORIES:Westfriesland
END:VEVENT
BEGIN:VEVENT
DTSTART;TZID=Europe/Amsterdam:20250612T130000
DTEND;TZID=Europe/Amsterdam:20250612T150000
DTSTAMP:20260424T174834
CREATED:20250304T080244Z
LAST-MODIFIED:20250304T080249Z
UID:10026408-1749733200-1749740400@dehoofdzaak.org
SUMMARY:Soul Art
DESCRIPTION:Geef uiting aan je gedachten en gevoelens met creatieve materialen.
URL:https://dehoofdzaak.org/agenda/soul-art-3/2025-06-12/
LOCATION:De Hoofdzaak Hoorn\, Wilhelminalaan 2\, Hoorn\, 1623 MA\, Nederland
CATEGORIES:Westfriesland
END:VEVENT
END:VCALENDAR