BEGIN:VCALENDAR
VERSION:2.0
PRODID:-//De Hoofdzaak - ECPv6.15.20//NONSGML v1.0//EN
CALSCALE:GREGORIAN
METHOD:PUBLISH
X-ORIGINAL-URL:https://dehoofdzaak.org
X-WR-CALDESC:Evenementen voor De Hoofdzaak
REFRESH-INTERVAL;VALUE=DURATION:PT1H
X-Robots-Tag:noindex
X-PUBLISHED-TTL:PT1H
BEGIN:VTIMEZONE
TZID:Europe/Amsterdam
BEGIN:DAYLIGHT
TZOFFSETFROM:+0100
TZOFFSETTO:+0200
TZNAME:CEST
DTSTART:20240331T010000
END:DAYLIGHT
BEGIN:STANDARD
TZOFFSETFROM:+0200
TZOFFSETTO:+0100
TZNAME:CET
DTSTART:20241027T010000
END:STANDARD
BEGIN:DAYLIGHT
TZOFFSETFROM:+0100
TZOFFSETTO:+0200
TZNAME:CEST
DTSTART:20250330T010000
END:DAYLIGHT
BEGIN:STANDARD
TZOFFSETFROM:+0200
TZOFFSETTO:+0100
TZNAME:CET
DTSTART:20251026T010000
END:STANDARD
BEGIN:DAYLIGHT
TZOFFSETFROM:+0100
TZOFFSETTO:+0200
TZNAME:CEST
DTSTART:20260329T010000
END:DAYLIGHT
BEGIN:STANDARD
TZOFFSETFROM:+0200
TZOFFSETTO:+0100
TZNAME:CET
DTSTART:20261025T010000
END:STANDARD
END:VTIMEZONE
BEGIN:VEVENT
DTSTART;TZID=Europe/Amsterdam:20250611T093000
DTEND;TZID=Europe/Amsterdam:20250611T113000
DTSTAMP:20260424T233006
CREATED:20230822T131002Z
LAST-MODIFIED:20250217T085733Z
UID:10004020-1749634200-1749641400@dehoofdzaak.org
SUMMARY:Verbindend wandelen groep 1 (Hoorn)
DESCRIPTION:Kom in beweging met gelijkgestemden. Ben je graag buiten in de frisse lucht en vind je het fijn om in groepsverband te wandelen? Doe dan gezellig mee! We starten en sluiten af met een kopje koffie of thee.
URL:https://dehoofdzaak.org/agenda/wandelgroep-westfriesland/2025-06-11/
LOCATION:De Hoofdzaak Hoorn\, Wilhelminalaan 2\, Hoorn\, 1623 MA\, Nederland
CATEGORIES:Westfriesland
END:VEVENT
BEGIN:VEVENT
DTSTART;TZID=Europe/Amsterdam:20250610T133000
DTEND;TZID=Europe/Amsterdam:20250610T153000
DTSTAMP:20260424T233006
CREATED:20240228T104044Z
LAST-MODIFIED:20240228T104047Z
UID:10014203-1749562200-1749569400@dehoofdzaak.org
SUMMARY:Dagelijks Autisme
DESCRIPTION:Gespreksgroep voor mensen met autisme.
URL:https://dehoofdzaak.org/agenda/dagelijks-autisme/2025-06-10/
LOCATION:De Hoofdzaak Hoorn\, Wilhelminalaan 2\, Hoorn\, 1623 MA\, Nederland
CATEGORIES:Westfriesland
END:VEVENT
BEGIN:VEVENT
DTSTART;TZID=Europe/Amsterdam:20250610T100000
DTEND;TZID=Europe/Amsterdam:20250610T120000
DTSTAMP:20260424T233006
CREATED:20240701T093136Z
LAST-MODIFIED:20241126T085659Z
UID:10018937-1749549600-1749556800@dehoofdzaak.org
SUMMARY:Mama+ café
DESCRIPTION:Het Mama+ café is specifiek voor moeders met (jonge) kinderen. Moeders met een psychische kwetsbaarheid kunnen elkaar ontmoeten en ervaringen delen\, maar er is ook ruimte voor gezelligheid en ontspanning. Het Mama+ café is een plek waar je jezelf kunt zijn. Je kunt er gewoon binnenkomen voor een kop koffie of thee en ook de kind(eren) zijn van harte welkom. Vrijwilligers van De Hoofdzaak heten je welkom en staan voor je klaar.
URL:https://dehoofdzaak.org/agenda/mama-cafe/2025-06-10/
LOCATION:De Hoofdzaak Hoorn\, Wilhelminalaan 2\, Hoorn\, 1623 MA\, Nederland
CATEGORIES:Westfriesland
END:VEVENT
BEGIN:VEVENT
DTSTART;TZID=Europe/Amsterdam:20250609T133000
DTEND;TZID=Europe/Amsterdam:20250609T150000
DTSTAMP:20260424T233006
CREATED:20250214T102131Z
LAST-MODIFIED:20250214T103430Z
UID:10025355-1749475800-1749481200@dehoofdzaak.org
SUMMARY:Gespreksgroep Lighthouse
DESCRIPTION:Gespreksgroep voor volwassenen met persoonlijke ervaring met zelfbeschadiging.
URL:https://dehoofdzaak.org/agenda/gespreksgroep-lighthouse/2025-06-09/
LOCATION:De Hoofdzaak Hoorn\, Wilhelminalaan 2\, Hoorn\, 1623 MA\, Nederland
CATEGORIES:Westfriesland
END:VEVENT
BEGIN:VEVENT
DTSTART;TZID=Europe/Amsterdam:20250609T100000
DTEND;TZID=Europe/Amsterdam:20250609T120000
DTSTAMP:20260424T233006
CREATED:20241218T101941Z
LAST-MODIFIED:20251009T084949Z
UID:10002342-1749463200-1749470400@dehoofdzaak.org
SUMMARY:Fotografiegroep 'Hoofdzaken door de lens'
DESCRIPTION:Tijdens de bijeenkomsten van ‘Hoofdzaken door de lens’ gaat het niet om het perfecte plaatje. Je gebruikt beelden om je eigen verhaal te vertellen. Bijvoorbeeld aan de hand van verschillende thema’s en opdrachten. \n\n\n\nMeer info: Fotografiegroep ‘Hoofdzaken door de lens’ | De Hoofdzaak
URL:https://dehoofdzaak.org/agenda/fotografiegroep-hoofdzaken-door-de-lens-2/2025-06-09/
LOCATION:De Hoofdzaak Hoorn\, Wilhelminalaan 2\, Hoorn\, 1623 MA\, Nederland
CATEGORIES:Westfriesland
END:VEVENT
BEGIN:VEVENT
DTSTART;TZID=Europe/Amsterdam:20250609T100000
DTEND;TZID=Europe/Amsterdam:20250609T120000
DTSTAMP:20260424T233006
CREATED:20240214T111832Z
LAST-MODIFIED:20251218T105158Z
UID:10013943-1749463200-1749470400@dehoofdzaak.org
SUMMARY:Opgeruimd huis\, opgeruimd hoofd
DESCRIPTION:Een opgeruimd huis geeft rust. Lukt het jou niet je huis op orde te krijgen? En wil je daarover in gesprek? Doe dan mee met deze groep.
URL:https://dehoofdzaak.org/agenda/opgeruimd-huis-opgeruimd-hoofd/2025-06-09/
LOCATION:De Hoofdzaak Hoorn\, Wilhelminalaan 2\, Hoorn\, 1623 MA\, Nederland
CATEGORIES:Westfriesland
END:VEVENT
BEGIN:VEVENT
DTSTART;TZID=Europe/Amsterdam:20250606T190000
DTEND;TZID=Europe/Amsterdam:20250606T220000
DTSTAMP:20260424T233006
CREATED:20250424T150141Z
LAST-MODIFIED:20250911T093559Z
UID:10035435-1749236400-1749247200@dehoofdzaak.org
SUMMARY:Spelletjes avonden in De Verbinding
DESCRIPTION:Om de week organiseren we in de Verbinding spelletjes avonden. De spelletjes staan klaar en we kijken elke keer waar we zin in hebben. Heb je een zelf een leuk spel? Neem hem mee! Speel je gezellig met ons een spelletje mee?
URL:https://dehoofdzaak.org/agenda/frisse-avonden-in-de-verbinding-2/2025-06-06/
LOCATION:De Hoofdzaak Hoorn\, Wilhelminalaan 2\, Hoorn\, 1623 MA\, Nederland
CATEGORIES:Westfriesland
END:VEVENT
BEGIN:VEVENT
DTSTART;TZID=Europe/Amsterdam:20250605T193000
DTEND;TZID=Europe/Amsterdam:20250605T210000
DTSTAMP:20260424T233006
CREATED:20250430T074400Z
LAST-MODIFIED:20250430T075128Z
UID:10028666-1749151800-1749157200@dehoofdzaak.org
SUMMARY:Voeding voor het brein
DESCRIPTION:Wil jij aan de slag met jouw voedingspatroon en ontdekken hoe voeding kan bijdragen aan het herstel van je brein? Tijdens deze bijeenkomsten staan verschillende thema’s centraal over voeding en de invloed hiervan op psychische klachten.
URL:https://dehoofdzaak.org/agenda/voeding-voor-het-brein-2/2025-06-05/
LOCATION:De Hoofdzaak Hoorn\, Wilhelminalaan 2\, Hoorn\, 1623 MA\, Nederland
CATEGORIES:Westfriesland
END:VEVENT
BEGIN:VEVENT
DTSTART;TZID=Europe/Amsterdam:20250605T190000
DTEND;TZID=Europe/Amsterdam:20250605T220000
DTSTAMP:20260424T233006
CREATED:20250313T102543Z
LAST-MODIFIED:20260313T110505Z
UID:10027045-1749150000-1749160800@dehoofdzaak.org
SUMMARY:Jongerenavond Hoorn
DESCRIPTION:Heb je behoefte aan een gezellige avond met gelijkgestemde jongeren\, die jou begrijpen en waar je jezelf kunt zijn? Kom dan naar de jongerenavonden bij de Hoofdzaak. Samen doen we leuke activiteiten\, zoals een spelletje Hitster\, gamen\, weerwolven\, en nog veel meer.  \n\n\n\nDeze avonden worden georganiseerd door onze ervaringsdeskundigen\, voor en door jongeren van 16 t/m 27 jaar. Zij weten door eigen ervaring wat je voelt en begrijpen jouw kwetsbaarheid.
URL:https://dehoofdzaak.org/agenda/jongerenavond-2/2025-06-05/
LOCATION:De Hoofdzaak Hoorn\, Wilhelminalaan 2\, Hoorn\, 1623 MA\, Nederland
CATEGORIES:Westfriesland
END:VEVENT
BEGIN:VEVENT
DTSTART;TZID=Europe/Amsterdam:20250605T130000
DTEND;TZID=Europe/Amsterdam:20250605T150000
DTSTAMP:20260424T233006
CREATED:20250304T080244Z
LAST-MODIFIED:20250304T080249Z
UID:10026407-1749128400-1749135600@dehoofdzaak.org
SUMMARY:Soul Art
DESCRIPTION:Geef uiting aan je gedachten en gevoelens met creatieve materialen.
URL:https://dehoofdzaak.org/agenda/soul-art-3/2025-06-05/
LOCATION:De Hoofdzaak Hoorn\, Wilhelminalaan 2\, Hoorn\, 1623 MA\, Nederland
CATEGORIES:Westfriesland
END:VEVENT
BEGIN:VEVENT
DTSTART;TZID=Europe/Amsterdam:20250604T103000
DTEND;TZID=Europe/Amsterdam:20250604T130000
DTSTAMP:20260424T233006
CREATED:20250214T122655Z
LAST-MODIFIED:20250224T092211Z
UID:10025511-1749033000-1749042000@dehoofdzaak.org
SUMMARY:Verbindend wandelen groep 2 (Hoorn)
DESCRIPTION:Kom in beweging met gelijkgestemden. Ben je graag buiten in de frisse lucht en vind je het fijn om in groepsverband te wandelen? Doe dan gezellig mee! We starten en sluiten af met een kopje koffie of thee.
URL:https://dehoofdzaak.org/agenda/verbindend-wandelen-groep-2-hoorn/2025-06-04/
LOCATION:De Hoofdzaak Hoorn\, Wilhelminalaan 2\, Hoorn\, 1623 MA\, Nederland
CATEGORIES:Westfriesland
END:VEVENT
BEGIN:VEVENT
DTSTART;TZID=Europe/Amsterdam:20250604T093000
DTEND;TZID=Europe/Amsterdam:20250604T113000
DTSTAMP:20260424T233006
CREATED:20230822T131002Z
LAST-MODIFIED:20250217T085733Z
UID:10004019-1749029400-1749036600@dehoofdzaak.org
SUMMARY:Verbindend wandelen groep 1 (Hoorn)
DESCRIPTION:Kom in beweging met gelijkgestemden. Ben je graag buiten in de frisse lucht en vind je het fijn om in groepsverband te wandelen? Doe dan gezellig mee! We starten en sluiten af met een kopje koffie of thee.
URL:https://dehoofdzaak.org/agenda/wandelgroep-westfriesland/2025-06-04/
LOCATION:De Hoofdzaak Hoorn\, Wilhelminalaan 2\, Hoorn\, 1623 MA\, Nederland
CATEGORIES:Westfriesland
END:VEVENT
BEGIN:VEVENT
DTSTART;TZID=Europe/Amsterdam:20250603T100000
DTEND;TZID=Europe/Amsterdam:20250603T120000
DTSTAMP:20260424T233006
CREATED:20240701T093136Z
LAST-MODIFIED:20241126T085659Z
UID:10018936-1748944800-1748952000@dehoofdzaak.org
SUMMARY:Mama+ café
DESCRIPTION:Het Mama+ café is specifiek voor moeders met (jonge) kinderen. Moeders met een psychische kwetsbaarheid kunnen elkaar ontmoeten en ervaringen delen\, maar er is ook ruimte voor gezelligheid en ontspanning. Het Mama+ café is een plek waar je jezelf kunt zijn. Je kunt er gewoon binnenkomen voor een kop koffie of thee en ook de kind(eren) zijn van harte welkom. Vrijwilligers van De Hoofdzaak heten je welkom en staan voor je klaar.
URL:https://dehoofdzaak.org/agenda/mama-cafe/2025-06-03/
LOCATION:De Hoofdzaak Hoorn\, Wilhelminalaan 2\, Hoorn\, 1623 MA\, Nederland
CATEGORIES:Westfriesland
END:VEVENT
BEGIN:VEVENT
DTSTART;TZID=Europe/Amsterdam:20250602T190000
DTEND;TZID=Europe/Amsterdam:20250602T213000
DTSTAMP:20260424T233006
CREATED:20240328T160609Z
LAST-MODIFIED:20241128T102802Z
UID:10015055-1748890800-1748899800@dehoofdzaak.org
SUMMARY:Thematische gespreksgroep autisme (jongvolwassenen)
DESCRIPTION:
URL:https://dehoofdzaak.org/agenda/thematische-gespreksgroep-autisme-jongvolwassenen/2025-06-02/
LOCATION:De Hoofdzaak Hoorn\, Wilhelminalaan 2\, Hoorn\, 1623 MA\, Nederland
CATEGORIES:Westfriesland
END:VEVENT
BEGIN:VEVENT
DTSTART;TZID=Europe/Amsterdam:20250602T140000
DTEND;TZID=Europe/Amsterdam:20250602T163000
DTSTAMP:20260424T233006
CREATED:20230822T133812Z
LAST-MODIFIED:20240717T061233Z
UID:10004950-1748872800-1748881800@dehoofdzaak.org
SUMMARY:Zelfhulpgroep Krachtig vanuit kwetsbaarheid
DESCRIPTION:Gespreksgroep waarin we elkaar steunen\, in een veilige setting ervaringen te delen. Zo ontwikkelen we samen kracht uit kwetsbaarheid.
URL:https://dehoofdzaak.org/agenda/zelfhulpgroep-krachtig-uit-kwetsbaarheid/2025-06-02/
LOCATION:De Hoofdzaak Hoorn\, Wilhelminalaan 2\, Hoorn\, 1623 MA\, Nederland
CATEGORIES:Westfriesland
END:VEVENT
BEGIN:VEVENT
DTSTART;TZID=Europe/Amsterdam:20250602T130000
DTEND;TZID=Europe/Amsterdam:20250602T140000
DTSTAMP:20260424T233006
CREATED:20250101T124813Z
LAST-MODIFIED:20250620T122531Z
UID:10024640-1748869200-1748872800@dehoofdzaak.org
SUMMARY:Open informatie-uur
DESCRIPTION:Open informatie-uur (i.s.m. de Herstelacademie van GGZ NHN). Wil je weten wat er bij beide organisaties te doen is? Kom gewoon zonder afspraak langs!
URL:https://dehoofdzaak.org/agenda/open-informatie-uur/2025-06-02/
LOCATION:De Hoofdzaak Hoorn\, Wilhelminalaan 2\, Hoorn\, 1623 MA\, Nederland
CATEGORIES:Westfriesland
END:VEVENT
BEGIN:VEVENT
DTSTART;TZID=Europe/Amsterdam:20250602T100000
DTEND;TZID=Europe/Amsterdam:20250602T113000
DTSTAMP:20260424T233006
CREATED:20230822T125920Z
LAST-MODIFIED:20230822T125923Z
UID:10003441-1748858400-1748863800@dehoofdzaak.org
SUMMARY:Verbindend autisme
DESCRIPTION:Een gesprekgroep voor mensen met autisme.
URL:https://dehoofdzaak.org/agenda/verbindend-autisme/2025-06-02/
LOCATION:De Hoofdzaak Hoorn\, Wilhelminalaan 2\, Hoorn\, 1623 MA\, Nederland
CATEGORIES:Westfriesland
END:VEVENT
BEGIN:VEVENT
DTSTART;TZID=Europe/Amsterdam:20250530T133000
DTEND;TZID=Europe/Amsterdam:20250530T150000
DTSTAMP:20260424T233006
CREATED:20241105T151737Z
LAST-MODIFIED:20241126T091740Z
UID:10008720-1748611800-1748617200@dehoofdzaak.org
SUMMARY:In gesprek met elkaar
DESCRIPTION:Gespreksgroep. Elke week is er een wisselende gespreksleider. Hij of zij geeft de aanzet voor een gesprek\, maar eigen inbreng is ook altijd welkom.
URL:https://dehoofdzaak.org/agenda/in-gesprek-met-elkaar-2/2025-05-30/
LOCATION:De Hoofdzaak Hoorn\, Wilhelminalaan 2\, Hoorn\, 1623 MA\, Nederland
CATEGORIES:Westfriesland
END:VEVENT
BEGIN:VEVENT
DTSTART;TZID=Europe/Amsterdam:20250529T193000
DTEND;TZID=Europe/Amsterdam:20250529T210000
DTSTAMP:20260424T233006
CREATED:20250430T074400Z
LAST-MODIFIED:20250430T075128Z
UID:10028665-1748547000-1748552400@dehoofdzaak.org
SUMMARY:Voeding voor het brein
DESCRIPTION:Wil jij aan de slag met jouw voedingspatroon en ontdekken hoe voeding kan bijdragen aan het herstel van je brein? Tijdens deze bijeenkomsten staan verschillende thema’s centraal over voeding en de invloed hiervan op psychische klachten.
URL:https://dehoofdzaak.org/agenda/voeding-voor-het-brein-2/2025-05-29/
LOCATION:De Hoofdzaak Hoorn\, Wilhelminalaan 2\, Hoorn\, 1623 MA\, Nederland
CATEGORIES:Westfriesland
END:VEVENT
BEGIN:VEVENT
DTSTART;TZID=Europe/Amsterdam:20250529T130000
DTEND;TZID=Europe/Amsterdam:20250529T150000
DTSTAMP:20260424T233006
CREATED:20250304T080244Z
LAST-MODIFIED:20250304T080249Z
UID:10026406-1748523600-1748530800@dehoofdzaak.org
SUMMARY:Soul Art
DESCRIPTION:Geef uiting aan je gedachten en gevoelens met creatieve materialen.
URL:https://dehoofdzaak.org/agenda/soul-art-3/2025-05-29/
LOCATION:De Hoofdzaak Hoorn\, Wilhelminalaan 2\, Hoorn\, 1623 MA\, Nederland
CATEGORIES:Westfriesland
END:VEVENT
BEGIN:VEVENT
DTSTART;TZID=Europe/Amsterdam:20250529T130000
DTEND;TZID=Europe/Amsterdam:20250529T150000
DTSTAMP:20260424T233006
CREATED:20230822T122030Z
LAST-MODIFIED:20250818T072620Z
UID:10034319-1748523600-1748530800@dehoofdzaak.org
SUMMARY:Schrijvend op reis!
DESCRIPTION:Aan de slag met schrijfopdrachten. Door te schrijven kun je emoties en ideeën onder woorden brengen en met elkaar delen. De schrijfgroep van Westfriesland vindt tweewekelijks plaats in Hoorn. Schrijf je mee?
URL:https://dehoofdzaak.org/agenda/schrijf-het-op/2025-05-29/
LOCATION:De Hoofdzaak Hoorn\, Wilhelminalaan 2\, Hoorn\, 1623 MA\, Nederland
CATEGORIES:Westfriesland
END:VEVENT
BEGIN:VEVENT
DTSTART;TZID=Europe/Amsterdam:20250529T100000
DTEND;TZID=Europe/Amsterdam:20250529T120000
DTSTAMP:20260424T233006
CREATED:20241210T102306Z
LAST-MODIFIED:20250225T121055Z
UID:10023703-1748512800-1748520000@dehoofdzaak.org
SUMMARY:Zelfhulpgroep depressie donderdag
DESCRIPTION:Gespreksgroep voor mensen die te maken hebben met depressie.
URL:https://dehoofdzaak.org/agenda/zelfhulpgroep-depressie-donderdag/2025-05-29/
LOCATION:De Hoofdzaak Hoorn\, Wilhelminalaan 2\, Hoorn\, 1623 MA\, Nederland
CATEGORIES:Westfriesland
END:VEVENT
BEGIN:VEVENT
DTSTART;TZID=Europe/Amsterdam:20250528T133000
DTEND;TZID=Europe/Amsterdam:20250528T161500
DTSTAMP:20260424T233006
CREATED:20230822T142950Z
LAST-MODIFIED:20250711T094007Z
UID:10005601-1748439000-1748448900@dehoofdzaak.org
SUMMARY:Met beide benen op de grond
DESCRIPTION:Vaak hebben mensen allerlei doemscenario’s in hun hoofd die niets met de realiteit te maken hebben. In deze bewustwordingsgroep leer je om vanuit het hier en nu te kijken of er werkelijk een probleem is.
URL:https://dehoofdzaak.org/agenda/met-beide-benen-op-de-grond/2025-05-28/
LOCATION:De Hoofdzaak Hoorn\, Wilhelminalaan 2\, Hoorn\, 1623 MA\, Nederland
CATEGORIES:Westfriesland
END:VEVENT
BEGIN:VEVENT
DTSTART;TZID=Europe/Amsterdam:20250528T103000
DTEND;TZID=Europe/Amsterdam:20250528T130000
DTSTAMP:20260424T233006
CREATED:20250214T122655Z
LAST-MODIFIED:20250224T092211Z
UID:10025510-1748428200-1748437200@dehoofdzaak.org
SUMMARY:Verbindend wandelen groep 2 (Hoorn)
DESCRIPTION:Kom in beweging met gelijkgestemden. Ben je graag buiten in de frisse lucht en vind je het fijn om in groepsverband te wandelen? Doe dan gezellig mee! We starten en sluiten af met een kopje koffie of thee.
URL:https://dehoofdzaak.org/agenda/verbindend-wandelen-groep-2-hoorn/2025-05-28/
LOCATION:De Hoofdzaak Hoorn\, Wilhelminalaan 2\, Hoorn\, 1623 MA\, Nederland
CATEGORIES:Westfriesland
END:VEVENT
BEGIN:VEVENT
DTSTART;TZID=Europe/Amsterdam:20250528T093000
DTEND;TZID=Europe/Amsterdam:20250528T113000
DTSTAMP:20260424T233006
CREATED:20230822T131002Z
LAST-MODIFIED:20250217T085733Z
UID:10004018-1748424600-1748431800@dehoofdzaak.org
SUMMARY:Verbindend wandelen groep 1 (Hoorn)
DESCRIPTION:Kom in beweging met gelijkgestemden. Ben je graag buiten in de frisse lucht en vind je het fijn om in groepsverband te wandelen? Doe dan gezellig mee! We starten en sluiten af met een kopje koffie of thee.
URL:https://dehoofdzaak.org/agenda/wandelgroep-westfriesland/2025-05-28/
LOCATION:De Hoofdzaak Hoorn\, Wilhelminalaan 2\, Hoorn\, 1623 MA\, Nederland
CATEGORIES:Westfriesland
END:VEVENT
BEGIN:VEVENT
DTSTART;TZID=Europe/Amsterdam:20250527T190000
DTEND;TZID=Europe/Amsterdam:20250527T210000
DTSTAMP:20260424T233006
CREATED:20250516T074628Z
LAST-MODIFIED:20250516T081606Z
UID:10029028-1748372400-1748379600@dehoofdzaak.org
SUMMARY:Werk als bron van kracht: ontdek de mogelijkheden
DESCRIPTION:Op dinsdagavond 27 mei organiseren wij samen met Startwijzer een inspirerende bijeenkomst over werk\, voor mensen met een psychische kwetsbaarheid. Welke vormen van werk passen bij jouw situatie? Denk bijvoorbeeld aan vrijwilligerswerk\, betaald werk of misschien zelfs zelfstandig ondernemen. Je hoeft dit pad niet alleen te bewandelen. Tijdens deze bijeenkomst ontdek je wie je kan ondersteunen op jouw route naar werk.
URL:https://dehoofdzaak.org/agenda/werk-als-bron-van-kracht-ontdek-de-mogelijkheden/
LOCATION:De Hoofdzaak Hoorn\, Wilhelminalaan 2\, Hoorn\, 1623 MA\, Nederland
CATEGORIES:Westfriesland
END:VEVENT
BEGIN:VEVENT
DTSTART;TZID=Europe/Amsterdam:20250527T133000
DTEND;TZID=Europe/Amsterdam:20250527T160000
DTSTAMP:20260424T233006
CREATED:20250225T112629Z
LAST-MODIFIED:20250225T112636Z
UID:10026321-1748352600-1748361600@dehoofdzaak.org
SUMMARY:Thematische gespreksgroep autisme (volwassenen)
DESCRIPTION:
URL:https://dehoofdzaak.org/agenda/thematische-gespreksgroep-autisme-volwassenen-3/2025-05-27/
LOCATION:De Hoofdzaak Hoorn\, Wilhelminalaan 2\, Hoorn\, 1623 MA\, Nederland
CATEGORIES:Westfriesland
END:VEVENT
BEGIN:VEVENT
DTSTART;TZID=Europe/Amsterdam:20250527T133000
DTEND;TZID=Europe/Amsterdam:20250527T153000
DTSTAMP:20260424T233006
CREATED:20240228T104044Z
LAST-MODIFIED:20240228T104047Z
UID:10014202-1748352600-1748359800@dehoofdzaak.org
SUMMARY:Dagelijks Autisme
DESCRIPTION:Gespreksgroep voor mensen met autisme.
URL:https://dehoofdzaak.org/agenda/dagelijks-autisme/2025-05-27/
LOCATION:De Hoofdzaak Hoorn\, Wilhelminalaan 2\, Hoorn\, 1623 MA\, Nederland
CATEGORIES:Westfriesland
END:VEVENT
BEGIN:VEVENT
DTSTART;TZID=Europe/Amsterdam:20250527T100000
DTEND;TZID=Europe/Amsterdam:20250527T120000
DTSTAMP:20260424T233006
CREATED:20240701T093136Z
LAST-MODIFIED:20241126T085659Z
UID:10018935-1748340000-1748347200@dehoofdzaak.org
SUMMARY:Mama+ café
DESCRIPTION:Het Mama+ café is specifiek voor moeders met (jonge) kinderen. Moeders met een psychische kwetsbaarheid kunnen elkaar ontmoeten en ervaringen delen\, maar er is ook ruimte voor gezelligheid en ontspanning. Het Mama+ café is een plek waar je jezelf kunt zijn. Je kunt er gewoon binnenkomen voor een kop koffie of thee en ook de kind(eren) zijn van harte welkom. Vrijwilligers van De Hoofdzaak heten je welkom en staan voor je klaar.
URL:https://dehoofdzaak.org/agenda/mama-cafe/2025-05-27/
LOCATION:De Hoofdzaak Hoorn\, Wilhelminalaan 2\, Hoorn\, 1623 MA\, Nederland
CATEGORIES:Westfriesland
END:VEVENT
BEGIN:VEVENT
DTSTART;TZID=Europe/Amsterdam:20250526T133000
DTEND;TZID=Europe/Amsterdam:20250526T150000
DTSTAMP:20260424T233006
CREATED:20250214T102131Z
LAST-MODIFIED:20250214T103430Z
UID:10025354-1748266200-1748271600@dehoofdzaak.org
SUMMARY:Gespreksgroep Lighthouse
DESCRIPTION:Gespreksgroep voor volwassenen met persoonlijke ervaring met zelfbeschadiging.
URL:https://dehoofdzaak.org/agenda/gespreksgroep-lighthouse/2025-05-26/
LOCATION:De Hoofdzaak Hoorn\, Wilhelminalaan 2\, Hoorn\, 1623 MA\, Nederland
CATEGORIES:Westfriesland
END:VEVENT
END:VCALENDAR