BEGIN:VCALENDAR
VERSION:2.0
PRODID:-//De Hoofdzaak - ECPv6.15.20//NONSGML v1.0//EN
CALSCALE:GREGORIAN
METHOD:PUBLISH
X-ORIGINAL-URL:https://dehoofdzaak.org
X-WR-CALDESC:Evenementen voor De Hoofdzaak
REFRESH-INTERVAL;VALUE=DURATION:PT1H
X-Robots-Tag:noindex
X-PUBLISHED-TTL:PT1H
BEGIN:VTIMEZONE
TZID:Europe/Amsterdam
BEGIN:DAYLIGHT
TZOFFSETFROM:+0100
TZOFFSETTO:+0200
TZNAME:CEST
DTSTART:20240331T010000
END:DAYLIGHT
BEGIN:STANDARD
TZOFFSETFROM:+0200
TZOFFSETTO:+0100
TZNAME:CET
DTSTART:20241027T010000
END:STANDARD
BEGIN:DAYLIGHT
TZOFFSETFROM:+0100
TZOFFSETTO:+0200
TZNAME:CEST
DTSTART:20250330T010000
END:DAYLIGHT
BEGIN:STANDARD
TZOFFSETFROM:+0200
TZOFFSETTO:+0100
TZNAME:CET
DTSTART:20251026T010000
END:STANDARD
BEGIN:DAYLIGHT
TZOFFSETFROM:+0100
TZOFFSETTO:+0200
TZNAME:CEST
DTSTART:20260329T010000
END:DAYLIGHT
BEGIN:STANDARD
TZOFFSETFROM:+0200
TZOFFSETTO:+0100
TZNAME:CET
DTSTART:20261025T010000
END:STANDARD
END:VTIMEZONE
BEGIN:VEVENT
DTSTART;TZID=Europe/Amsterdam:20250313T130000
DTEND;TZID=Europe/Amsterdam:20250313T150000
DTSTAMP:20260426T030850
CREATED:20250304T080244Z
LAST-MODIFIED:20250304T080249Z
UID:10026395-1741870800-1741878000@dehoofdzaak.org
SUMMARY:Soul Art
DESCRIPTION:Geef uiting aan je gedachten en gevoelens met creatieve materialen.
URL:https://dehoofdzaak.org/agenda/soul-art-3/2025-03-13/
LOCATION:De Hoofdzaak Hoorn\, Wilhelminalaan 2\, Hoorn\, 1623 MA\, Nederland
CATEGORIES:Westfriesland
END:VEVENT
BEGIN:VEVENT
DTSTART;TZID=Europe/Amsterdam:20250312T190000
DTEND;TZID=Europe/Amsterdam:20250312T213000
DTSTAMP:20260426T030850
CREATED:20240328T155738Z
LAST-MODIFIED:20240328T155742Z
UID:10014976-1741806000-1741815000@dehoofdzaak.org
SUMMARY:Thematische gespreksgroep autisme (volwassenen)
DESCRIPTION:
URL:https://dehoofdzaak.org/agenda/thematische-gespreksgroep-autisme-volwassenen-2/2025-03-12/
LOCATION:De Hoofdzaak Hoorn\, Wilhelminalaan 2\, Hoorn\, 1623 MA\, Nederland
CATEGORIES:Westfriesland
END:VEVENT
BEGIN:VEVENT
DTSTART;TZID=Europe/Amsterdam:20250312T103000
DTEND;TZID=Europe/Amsterdam:20250312T130000
DTSTAMP:20260426T030850
CREATED:20250214T122655Z
LAST-MODIFIED:20250224T092211Z
UID:10025499-1741775400-1741784400@dehoofdzaak.org
SUMMARY:Verbindend wandelen groep 2 (Hoorn)
DESCRIPTION:Kom in beweging met gelijkgestemden. Ben je graag buiten in de frisse lucht en vind je het fijn om in groepsverband te wandelen? Doe dan gezellig mee! We starten en sluiten af met een kopje koffie of thee.
URL:https://dehoofdzaak.org/agenda/verbindend-wandelen-groep-2-hoorn/2025-03-12/
LOCATION:De Hoofdzaak Hoorn\, Wilhelminalaan 2\, Hoorn\, 1623 MA\, Nederland
CATEGORIES:Westfriesland
END:VEVENT
BEGIN:VEVENT
DTSTART;TZID=Europe/Amsterdam:20250312T093000
DTEND;TZID=Europe/Amsterdam:20250312T113000
DTSTAMP:20260426T030850
CREATED:20230822T131002Z
LAST-MODIFIED:20250217T085733Z
UID:10004007-1741771800-1741779000@dehoofdzaak.org
SUMMARY:Verbindend wandelen groep 1 (Hoorn)
DESCRIPTION:Kom in beweging met gelijkgestemden. Ben je graag buiten in de frisse lucht en vind je het fijn om in groepsverband te wandelen? Doe dan gezellig mee! We starten en sluiten af met een kopje koffie of thee.
URL:https://dehoofdzaak.org/agenda/wandelgroep-westfriesland/2025-03-12/
LOCATION:De Hoofdzaak Hoorn\, Wilhelminalaan 2\, Hoorn\, 1623 MA\, Nederland
CATEGORIES:Westfriesland
END:VEVENT
BEGIN:VEVENT
DTSTART;TZID=Europe/Amsterdam:20250311T100000
DTEND;TZID=Europe/Amsterdam:20250311T120000
DTSTAMP:20260426T030850
CREATED:20240701T093136Z
LAST-MODIFIED:20241126T085659Z
UID:10018924-1741687200-1741694400@dehoofdzaak.org
SUMMARY:Mama+ café
DESCRIPTION:Het Mama+ café is specifiek voor moeders met (jonge) kinderen. Moeders met een psychische kwetsbaarheid kunnen elkaar ontmoeten en ervaringen delen\, maar er is ook ruimte voor gezelligheid en ontspanning. Het Mama+ café is een plek waar je jezelf kunt zijn. Je kunt er gewoon binnenkomen voor een kop koffie of thee en ook de kind(eren) zijn van harte welkom. Vrijwilligers van De Hoofdzaak heten je welkom en staan voor je klaar.
URL:https://dehoofdzaak.org/agenda/mama-cafe/2025-03-11/
LOCATION:De Hoofdzaak Hoorn\, Wilhelminalaan 2\, Hoorn\, 1623 MA\, Nederland
CATEGORIES:Westfriesland
END:VEVENT
BEGIN:VEVENT
DTSTART;TZID=Europe/Amsterdam:20250310T190000
DTEND;TZID=Europe/Amsterdam:20250310T213000
DTSTAMP:20260426T030850
CREATED:20240328T160609Z
LAST-MODIFIED:20241128T102802Z
UID:10015049-1741633200-1741642200@dehoofdzaak.org
SUMMARY:Thematische gespreksgroep autisme (jongvolwassenen)
DESCRIPTION:
URL:https://dehoofdzaak.org/agenda/thematische-gespreksgroep-autisme-jongvolwassenen/2025-03-10/
LOCATION:De Hoofdzaak Hoorn\, Wilhelminalaan 2\, Hoorn\, 1623 MA\, Nederland
CATEGORIES:Westfriesland
END:VEVENT
BEGIN:VEVENT
DTSTART;TZID=Europe/Amsterdam:20250310T140000
DTEND;TZID=Europe/Amsterdam:20250310T163000
DTSTAMP:20260426T030850
CREATED:20230822T133812Z
LAST-MODIFIED:20240717T061233Z
UID:10004944-1741615200-1741624200@dehoofdzaak.org
SUMMARY:Zelfhulpgroep Krachtig vanuit kwetsbaarheid
DESCRIPTION:Gespreksgroep waarin we elkaar steunen\, in een veilige setting ervaringen te delen. Zo ontwikkelen we samen kracht uit kwetsbaarheid.
URL:https://dehoofdzaak.org/agenda/zelfhulpgroep-krachtig-uit-kwetsbaarheid/2025-03-10/
LOCATION:De Hoofdzaak Hoorn\, Wilhelminalaan 2\, Hoorn\, 1623 MA\, Nederland
CATEGORIES:Westfriesland
END:VEVENT
BEGIN:VEVENT
DTSTART;TZID=Europe/Amsterdam:20250310T130000
DTEND;TZID=Europe/Amsterdam:20250310T140000
DTSTAMP:20260426T030850
CREATED:20250101T124813Z
LAST-MODIFIED:20250620T122531Z
UID:10024628-1741611600-1741615200@dehoofdzaak.org
SUMMARY:Open informatie-uur
DESCRIPTION:Open informatie-uur (i.s.m. de Herstelacademie van GGZ NHN). Wil je weten wat er bij beide organisaties te doen is? Kom gewoon zonder afspraak langs!
URL:https://dehoofdzaak.org/agenda/open-informatie-uur/2025-03-10/
LOCATION:De Hoofdzaak Hoorn\, Wilhelminalaan 2\, Hoorn\, 1623 MA\, Nederland
CATEGORIES:Westfriesland
END:VEVENT
BEGIN:VEVENT
DTSTART;TZID=Europe/Amsterdam:20250310T100000
DTEND;TZID=Europe/Amsterdam:20250310T113000
DTSTAMP:20260426T030850
CREATED:20230822T125920Z
LAST-MODIFIED:20230822T125923Z
UID:10003435-1741600800-1741606200@dehoofdzaak.org
SUMMARY:Verbindend autisme
DESCRIPTION:Een gesprekgroep voor mensen met autisme.
URL:https://dehoofdzaak.org/agenda/verbindend-autisme/2025-03-10/
LOCATION:De Hoofdzaak Hoorn\, Wilhelminalaan 2\, Hoorn\, 1623 MA\, Nederland
CATEGORIES:Westfriesland
END:VEVENT
BEGIN:VEVENT
DTSTART;TZID=Europe/Amsterdam:20250307T133000
DTEND;TZID=Europe/Amsterdam:20250307T150000
DTSTAMP:20260426T030850
CREATED:20241105T151737Z
LAST-MODIFIED:20241126T091740Z
UID:10008708-1741354200-1741359600@dehoofdzaak.org
SUMMARY:In gesprek met elkaar
DESCRIPTION:Gespreksgroep. Elke week is er een wisselende gespreksleider. Hij of zij geeft de aanzet voor een gesprek\, maar eigen inbreng is ook altijd welkom.
URL:https://dehoofdzaak.org/agenda/in-gesprek-met-elkaar-2/2025-03-07/
LOCATION:De Hoofdzaak Hoorn\, Wilhelminalaan 2\, Hoorn\, 1623 MA\, Nederland
CATEGORIES:Westfriesland
END:VEVENT
BEGIN:VEVENT
DTSTART;TZID=Europe/Amsterdam:20250306T130000
DTEND;TZID=Europe/Amsterdam:20250306T150000
DTSTAMP:20260426T030850
CREATED:20250304T080244Z
LAST-MODIFIED:20250304T080249Z
UID:10026059-1741266000-1741273200@dehoofdzaak.org
SUMMARY:Soul Art
DESCRIPTION:Geef uiting aan je gedachten en gevoelens met creatieve materialen.
URL:https://dehoofdzaak.org/agenda/soul-art-3/2025-03-06/
LOCATION:De Hoofdzaak Hoorn\, Wilhelminalaan 2\, Hoorn\, 1623 MA\, Nederland
CATEGORIES:Westfriesland
END:VEVENT
BEGIN:VEVENT
DTSTART;TZID=Europe/Amsterdam:20250306T130000
DTEND;TZID=Europe/Amsterdam:20250306T150000
DTSTAMP:20260426T030850
CREATED:20230822T122030Z
LAST-MODIFIED:20250818T072620Z
UID:10034313-1741266000-1741273200@dehoofdzaak.org
SUMMARY:Schrijvend op reis!
DESCRIPTION:Aan de slag met schrijfopdrachten. Door te schrijven kun je emoties en ideeën onder woorden brengen en met elkaar delen. De schrijfgroep van Westfriesland vindt tweewekelijks plaats in Hoorn. Schrijf je mee?
URL:https://dehoofdzaak.org/agenda/schrijf-het-op/2025-03-06/
LOCATION:De Hoofdzaak Hoorn\, Wilhelminalaan 2\, Hoorn\, 1623 MA\, Nederland
CATEGORIES:Westfriesland
END:VEVENT
BEGIN:VEVENT
DTSTART;TZID=Europe/Amsterdam:20250306T100000
DTEND;TZID=Europe/Amsterdam:20250306T120000
DTSTAMP:20260426T030850
CREATED:20241210T102306Z
LAST-MODIFIED:20250225T121055Z
UID:10023697-1741255200-1741262400@dehoofdzaak.org
SUMMARY:Zelfhulpgroep depressie donderdag
DESCRIPTION:Gespreksgroep voor mensen die te maken hebben met depressie.
URL:https://dehoofdzaak.org/agenda/zelfhulpgroep-depressie-donderdag/2025-03-06/
LOCATION:De Hoofdzaak Hoorn\, Wilhelminalaan 2\, Hoorn\, 1623 MA\, Nederland
CATEGORIES:Westfriesland
END:VEVENT
BEGIN:VEVENT
DTSTART;TZID=Europe/Amsterdam:20250305T133000
DTEND;TZID=Europe/Amsterdam:20250305T161500
DTSTAMP:20260426T030850
CREATED:20230822T142950Z
LAST-MODIFIED:20250711T094007Z
UID:10005595-1741181400-1741191300@dehoofdzaak.org
SUMMARY:Met beide benen op de grond
DESCRIPTION:Vaak hebben mensen allerlei doemscenario’s in hun hoofd die niets met de realiteit te maken hebben. In deze bewustwordingsgroep leer je om vanuit het hier en nu te kijken of er werkelijk een probleem is.
URL:https://dehoofdzaak.org/agenda/met-beide-benen-op-de-grond/2025-03-05/
LOCATION:De Hoofdzaak Hoorn\, Wilhelminalaan 2\, Hoorn\, 1623 MA\, Nederland
CATEGORIES:Westfriesland
END:VEVENT
BEGIN:VEVENT
DTSTART;TZID=Europe/Amsterdam:20250305T103000
DTEND;TZID=Europe/Amsterdam:20250305T130000
DTSTAMP:20260426T030850
CREATED:20250214T122655Z
LAST-MODIFIED:20250224T092211Z
UID:10025498-1741170600-1741179600@dehoofdzaak.org
SUMMARY:Verbindend wandelen groep 2 (Hoorn)
DESCRIPTION:Kom in beweging met gelijkgestemden. Ben je graag buiten in de frisse lucht en vind je het fijn om in groepsverband te wandelen? Doe dan gezellig mee! We starten en sluiten af met een kopje koffie of thee.
URL:https://dehoofdzaak.org/agenda/verbindend-wandelen-groep-2-hoorn/2025-03-05/
LOCATION:De Hoofdzaak Hoorn\, Wilhelminalaan 2\, Hoorn\, 1623 MA\, Nederland
CATEGORIES:Westfriesland
END:VEVENT
BEGIN:VEVENT
DTSTART;TZID=Europe/Amsterdam:20250305T093000
DTEND;TZID=Europe/Amsterdam:20250305T113000
DTSTAMP:20260426T030850
CREATED:20230822T131002Z
LAST-MODIFIED:20250217T085733Z
UID:10004006-1741167000-1741174200@dehoofdzaak.org
SUMMARY:Verbindend wandelen groep 1 (Hoorn)
DESCRIPTION:Kom in beweging met gelijkgestemden. Ben je graag buiten in de frisse lucht en vind je het fijn om in groepsverband te wandelen? Doe dan gezellig mee! We starten en sluiten af met een kopje koffie of thee.
URL:https://dehoofdzaak.org/agenda/wandelgroep-westfriesland/2025-03-05/
LOCATION:De Hoofdzaak Hoorn\, Wilhelminalaan 2\, Hoorn\, 1623 MA\, Nederland
CATEGORIES:Westfriesland
END:VEVENT
BEGIN:VEVENT
DTSTART;TZID=Europe/Amsterdam:20250304T133000
DTEND;TZID=Europe/Amsterdam:20250304T160000
DTSTAMP:20260426T030850
CREATED:20250225T112629Z
LAST-MODIFIED:20250225T112636Z
UID:10014912-1741095000-1741104000@dehoofdzaak.org
SUMMARY:Thematische gespreksgroep autisme (volwassenen)
DESCRIPTION:
URL:https://dehoofdzaak.org/agenda/thematische-gespreksgroep-autisme-volwassenen-3/2025-03-04/
LOCATION:De Hoofdzaak Hoorn\, Wilhelminalaan 2\, Hoorn\, 1623 MA\, Nederland
CATEGORIES:Westfriesland
END:VEVENT
BEGIN:VEVENT
DTSTART;TZID=Europe/Amsterdam:20250304T133000
DTEND;TZID=Europe/Amsterdam:20250304T153000
DTSTAMP:20260426T030850
CREATED:20240228T104044Z
LAST-MODIFIED:20240228T104047Z
UID:10014196-1741095000-1741102200@dehoofdzaak.org
SUMMARY:Dagelijks Autisme
DESCRIPTION:Gespreksgroep voor mensen met autisme.
URL:https://dehoofdzaak.org/agenda/dagelijks-autisme/2025-03-04/
LOCATION:De Hoofdzaak Hoorn\, Wilhelminalaan 2\, Hoorn\, 1623 MA\, Nederland
CATEGORIES:Westfriesland
END:VEVENT
BEGIN:VEVENT
DTSTART;TZID=Europe/Amsterdam:20250304T100000
DTEND;TZID=Europe/Amsterdam:20250304T120000
DTSTAMP:20260426T030850
CREATED:20240701T093136Z
LAST-MODIFIED:20241126T085659Z
UID:10018923-1741082400-1741089600@dehoofdzaak.org
SUMMARY:Mama+ café
DESCRIPTION:Het Mama+ café is specifiek voor moeders met (jonge) kinderen. Moeders met een psychische kwetsbaarheid kunnen elkaar ontmoeten en ervaringen delen\, maar er is ook ruimte voor gezelligheid en ontspanning. Het Mama+ café is een plek waar je jezelf kunt zijn. Je kunt er gewoon binnenkomen voor een kop koffie of thee en ook de kind(eren) zijn van harte welkom. Vrijwilligers van De Hoofdzaak heten je welkom en staan voor je klaar.
URL:https://dehoofdzaak.org/agenda/mama-cafe/2025-03-04/
LOCATION:De Hoofdzaak Hoorn\, Wilhelminalaan 2\, Hoorn\, 1623 MA\, Nederland
CATEGORIES:Westfriesland
END:VEVENT
BEGIN:VEVENT
DTSTART;TZID=Europe/Amsterdam:20250303T133000
DTEND;TZID=Europe/Amsterdam:20250303T150000
DTSTAMP:20260426T030850
CREATED:20250214T102131Z
LAST-MODIFIED:20250214T103430Z
UID:10025348-1741008600-1741014000@dehoofdzaak.org
SUMMARY:Gespreksgroep Lighthouse
DESCRIPTION:Gespreksgroep voor volwassenen met persoonlijke ervaring met zelfbeschadiging.
URL:https://dehoofdzaak.org/agenda/gespreksgroep-lighthouse/2025-03-03/
LOCATION:De Hoofdzaak Hoorn\, Wilhelminalaan 2\, Hoorn\, 1623 MA\, Nederland
CATEGORIES:Westfriesland
END:VEVENT
BEGIN:VEVENT
DTSTART;TZID=Europe/Amsterdam:20250303T130000
DTEND;TZID=Europe/Amsterdam:20250303T140000
DTSTAMP:20260426T030850
CREATED:20250101T124813Z
LAST-MODIFIED:20250620T122531Z
UID:10024627-1741006800-1741010400@dehoofdzaak.org
SUMMARY:Open informatie-uur
DESCRIPTION:Open informatie-uur (i.s.m. de Herstelacademie van GGZ NHN). Wil je weten wat er bij beide organisaties te doen is? Kom gewoon zonder afspraak langs!
URL:https://dehoofdzaak.org/agenda/open-informatie-uur/2025-03-03/
LOCATION:De Hoofdzaak Hoorn\, Wilhelminalaan 2\, Hoorn\, 1623 MA\, Nederland
CATEGORIES:Westfriesland
END:VEVENT
BEGIN:VEVENT
DTSTART;TZID=Europe/Amsterdam:20250303T100000
DTEND;TZID=Europe/Amsterdam:20250303T120000
DTSTAMP:20260426T030850
CREATED:20241218T101941Z
LAST-MODIFIED:20251009T084949Z
UID:10002335-1740996000-1741003200@dehoofdzaak.org
SUMMARY:Fotografiegroep 'Hoofdzaken door de lens'
DESCRIPTION:Tijdens de bijeenkomsten van ‘Hoofdzaken door de lens’ gaat het niet om het perfecte plaatje. Je gebruikt beelden om je eigen verhaal te vertellen. Bijvoorbeeld aan de hand van verschillende thema’s en opdrachten. \n\n\n\nMeer info: Fotografiegroep ‘Hoofdzaken door de lens’ | De Hoofdzaak
URL:https://dehoofdzaak.org/agenda/fotografiegroep-hoofdzaken-door-de-lens-2/2025-03-03/
LOCATION:De Hoofdzaak Hoorn\, Wilhelminalaan 2\, Hoorn\, 1623 MA\, Nederland
CATEGORIES:Westfriesland
END:VEVENT
BEGIN:VEVENT
DTSTART;TZID=Europe/Amsterdam:20250303T100000
DTEND;TZID=Europe/Amsterdam:20250303T120000
DTSTAMP:20260426T030850
CREATED:20240214T111832Z
LAST-MODIFIED:20251218T105158Z
UID:10013936-1740996000-1741003200@dehoofdzaak.org
SUMMARY:Opgeruimd huis\, opgeruimd hoofd
DESCRIPTION:Een opgeruimd huis geeft rust. Lukt het jou niet je huis op orde te krijgen? En wil je daarover in gesprek? Doe dan mee met deze groep.
URL:https://dehoofdzaak.org/agenda/opgeruimd-huis-opgeruimd-hoofd/2025-03-03/
LOCATION:De Hoofdzaak Hoorn\, Wilhelminalaan 2\, Hoorn\, 1623 MA\, Nederland
CATEGORIES:Westfriesland
END:VEVENT
BEGIN:VEVENT
DTSTART;TZID=Europe/Amsterdam:20250301T133000
DTEND;TZID=Europe/Amsterdam:20250301T160000
DTSTAMP:20260426T030850
CREATED:20250218T103447Z
LAST-MODIFIED:20250218T103657Z
UID:10025778-1740835800-1740844800@dehoofdzaak.org
SUMMARY:Workshop mandala's tekenen
DESCRIPTION:Mandala’s bestaan uit lijnen\, vormen en kleuren die zich in een vast patroon herhalen. Dat lijkt soms ingewikkeld\, maar ervaringsdeskundige vrijwilligers leggen uit hoe je met gebruik van hulplijnen iets moois kunt creëren.
URL:https://dehoofdzaak.org/agenda/workshop-mandalas-tekenen/
LOCATION:De Hoofdzaak Hoorn\, Wilhelminalaan 2\, Hoorn\, 1623 MA\, Nederland
CATEGORIES:Westfriesland
END:VEVENT
BEGIN:VEVENT
DTSTART;TZID=Europe/Amsterdam:20250227T170000
DTEND;TZID=Europe/Amsterdam:20250227T190000
DTSTAMP:20260426T030850
CREATED:20240306T121539Z
LAST-MODIFIED:20250818T071322Z
UID:10014359-1740675600-1740682800@dehoofdzaak.org
SUMMARY:Samen eten in De Verbinding
DESCRIPTION:Gezellig samen koken en eten in Hoorn.
URL:https://dehoofdzaak.org/agenda/samen-eten-in-de-verbinding/2025-02-27/
LOCATION:De Hoofdzaak Hoorn\, Wilhelminalaan 2\, Hoorn\, 1623 MA\, Nederland
CATEGORIES:Westfriesland
END:VEVENT
BEGIN:VEVENT
DTSTART;TZID=Europe/Amsterdam:20250227T133000
DTEND;TZID=Europe/Amsterdam:20250227T153000
DTSTAMP:20260426T030850
CREATED:20241126T095007Z
LAST-MODIFIED:20241126T095016Z
UID:10022849-1740663000-1740670200@dehoofdzaak.org
SUMMARY:Filosofie\, een hoofdzaak?
DESCRIPTION:In de filosofiegroep worden ervaringen en ideeën uit de filosofie (wijsbegeerte) en spiritualiteit met elkaar gedeeld. Wat kun jij met filosofie in jouw dagelijks leven?
URL:https://dehoofdzaak.org/agenda/filosofie-een-hoofdzaak-3/2025-02-27/
LOCATION:De Hoofdzaak Hoorn\, Wilhelminalaan 2\, Hoorn\, 1623 MA\, Nederland
CATEGORIES:Westfriesland
END:VEVENT
BEGIN:VEVENT
DTSTART;TZID=Europe/Amsterdam:20250226T103000
DTEND;TZID=Europe/Amsterdam:20250226T130000
DTSTAMP:20260426T030850
CREATED:20250214T122655Z
LAST-MODIFIED:20250224T092211Z
UID:10025497-1740565800-1740574800@dehoofdzaak.org
SUMMARY:Verbindend wandelen groep 2 (Hoorn)
DESCRIPTION:Kom in beweging met gelijkgestemden. Ben je graag buiten in de frisse lucht en vind je het fijn om in groepsverband te wandelen? Doe dan gezellig mee! We starten en sluiten af met een kopje koffie of thee.
URL:https://dehoofdzaak.org/agenda/verbindend-wandelen-groep-2-hoorn/2025-02-26/
LOCATION:De Hoofdzaak Hoorn\, Wilhelminalaan 2\, Hoorn\, 1623 MA\, Nederland
CATEGORIES:Westfriesland
END:VEVENT
BEGIN:VEVENT
DTSTART;TZID=Europe/Amsterdam:20250226T093000
DTEND;TZID=Europe/Amsterdam:20250226T113000
DTSTAMP:20260426T030850
CREATED:20230822T131002Z
LAST-MODIFIED:20250217T085733Z
UID:10004005-1740562200-1740569400@dehoofdzaak.org
SUMMARY:Verbindend wandelen groep 1 (Hoorn)
DESCRIPTION:Kom in beweging met gelijkgestemden. Ben je graag buiten in de frisse lucht en vind je het fijn om in groepsverband te wandelen? Doe dan gezellig mee! We starten en sluiten af met een kopje koffie of thee.
URL:https://dehoofdzaak.org/agenda/wandelgroep-westfriesland/2025-02-26/
LOCATION:De Hoofdzaak Hoorn\, Wilhelminalaan 2\, Hoorn\, 1623 MA\, Nederland
CATEGORIES:Westfriesland
END:VEVENT
BEGIN:VEVENT
DTSTART;TZID=Europe/Amsterdam:20250225T140000
DTEND;TZID=Europe/Amsterdam:20250225T170000
DTSTAMP:20260426T030850
CREATED:20250123T121653Z
LAST-MODIFIED:20250123T121824Z
UID:10005420-1740492000-1740502800@dehoofdzaak.org
SUMMARY:Het opstellen van verlangen (Hoorn)
DESCRIPTION:Het opstellen van het verlangen is een speelse methode om de zoektocht naar het eigen verlangen te verkennen. Het vindt zijn oorsprong in familieopstellingen. Door het verlangen op te stellen kun je nieuwe inzichten opdoen.
URL:https://dehoofdzaak.org/agenda/het-opstellen-van-verlangen-hoorn-2/2025-02-25/
LOCATION:De Hoofdzaak Hoorn\, Wilhelminalaan 2\, Hoorn\, 1623 MA\, Nederland
CATEGORIES:Westfriesland
END:VEVENT
BEGIN:VEVENT
DTSTART;TZID=Europe/Amsterdam:20250225T100000
DTEND;TZID=Europe/Amsterdam:20250225T120000
DTSTAMP:20260426T030850
CREATED:20240701T093136Z
LAST-MODIFIED:20241126T085659Z
UID:10018922-1740477600-1740484800@dehoofdzaak.org
SUMMARY:Mama+ café
DESCRIPTION:Het Mama+ café is specifiek voor moeders met (jonge) kinderen. Moeders met een psychische kwetsbaarheid kunnen elkaar ontmoeten en ervaringen delen\, maar er is ook ruimte voor gezelligheid en ontspanning. Het Mama+ café is een plek waar je jezelf kunt zijn. Je kunt er gewoon binnenkomen voor een kop koffie of thee en ook de kind(eren) zijn van harte welkom. Vrijwilligers van De Hoofdzaak heten je welkom en staan voor je klaar.
URL:https://dehoofdzaak.org/agenda/mama-cafe/2025-02-25/
LOCATION:De Hoofdzaak Hoorn\, Wilhelminalaan 2\, Hoorn\, 1623 MA\, Nederland
CATEGORIES:Westfriesland
END:VEVENT
END:VCALENDAR