BEGIN:VCALENDAR
VERSION:2.0
PRODID:-//De Hoofdzaak - ECPv6.15.20//NONSGML v1.0//EN
CALSCALE:GREGORIAN
METHOD:PUBLISH
X-ORIGINAL-URL:https://dehoofdzaak.org
X-WR-CALDESC:Evenementen voor De Hoofdzaak
REFRESH-INTERVAL;VALUE=DURATION:PT1H
X-Robots-Tag:noindex
X-PUBLISHED-TTL:PT1H
BEGIN:VTIMEZONE
TZID:Europe/Amsterdam
BEGIN:DAYLIGHT
TZOFFSETFROM:+0100
TZOFFSETTO:+0200
TZNAME:CEST
DTSTART:20240331T010000
END:DAYLIGHT
BEGIN:STANDARD
TZOFFSETFROM:+0200
TZOFFSETTO:+0100
TZNAME:CET
DTSTART:20241027T010000
END:STANDARD
BEGIN:DAYLIGHT
TZOFFSETFROM:+0100
TZOFFSETTO:+0200
TZNAME:CEST
DTSTART:20250330T010000
END:DAYLIGHT
BEGIN:STANDARD
TZOFFSETFROM:+0200
TZOFFSETTO:+0100
TZNAME:CET
DTSTART:20251026T010000
END:STANDARD
BEGIN:DAYLIGHT
TZOFFSETFROM:+0100
TZOFFSETTO:+0200
TZNAME:CEST
DTSTART:20260329T010000
END:DAYLIGHT
BEGIN:STANDARD
TZOFFSETFROM:+0200
TZOFFSETTO:+0100
TZNAME:CET
DTSTART:20261025T010000
END:STANDARD
BEGIN:DAYLIGHT
TZOFFSETFROM:+0100
TZOFFSETTO:+0200
TZNAME:CEST
DTSTART:20270328T010000
END:DAYLIGHT
BEGIN:STANDARD
TZOFFSETFROM:+0200
TZOFFSETTO:+0100
TZNAME:CET
DTSTART:20271031T010000
END:STANDARD
END:VTIMEZONE
BEGIN:VEVENT
DTSTART;TZID=Europe/Amsterdam:20260119T100000
DTEND;TZID=Europe/Amsterdam:20260119T120000
DTSTAMP:20260419T161720
CREATED:20251017T064736Z
LAST-MODIFIED:20260318T145319Z
UID:10037926-1768816800-1768824000@dehoofdzaak.org
SUMMARY:Krachtig vanuit kwetsbaarheid Anna Paulowna
DESCRIPTION:Als je te maken hebt met een psychische kwetsbaarheid\, kun je daardoor erg overweldigd zijn. Maar herstel is mogelijk! Lotgenoten kunnen je daarbij ondersteunen. En jij kunt anderen ondersteunen bij hun herstel. \n\n\n\nJe hoeft het niet alleen te doen. Zoek de steun van lotgenoten in deze herstelgroep. Ze hebben vergelijkbare ervaring als jij en begrijpen je worsteling. Ze begrijpen je verhaal en helpen je vanuit hun eigen ervaring met herstel. De groep wordt begeleid door twee ervaringsdeskundigen.
URL:https://dehoofdzaak.org/agenda/krachtig-vanuit-kwetsbaarheid-anna-paulowna/2026-01-19/
LOCATION:Dorpshuis de Veerburg\, Sportlaan 21\, Anna Paulowna\, 1761ZA\, Netherlands
CATEGORIES:Kop Noord Holland
END:VEVENT
BEGIN:VEVENT
DTSTART;TZID=Europe/Amsterdam:20260112T100000
DTEND;TZID=Europe/Amsterdam:20260112T120000
DTSTAMP:20260419T161720
CREATED:20251017T064736Z
LAST-MODIFIED:20260318T145319Z
UID:10037925-1768212000-1768219200@dehoofdzaak.org
SUMMARY:Krachtig vanuit kwetsbaarheid Anna Paulowna
DESCRIPTION:Als je te maken hebt met een psychische kwetsbaarheid\, kun je daardoor erg overweldigd zijn. Maar herstel is mogelijk! Lotgenoten kunnen je daarbij ondersteunen. En jij kunt anderen ondersteunen bij hun herstel. \n\n\n\nJe hoeft het niet alleen te doen. Zoek de steun van lotgenoten in deze herstelgroep. Ze hebben vergelijkbare ervaring als jij en begrijpen je worsteling. Ze begrijpen je verhaal en helpen je vanuit hun eigen ervaring met herstel. De groep wordt begeleid door twee ervaringsdeskundigen.
URL:https://dehoofdzaak.org/agenda/krachtig-vanuit-kwetsbaarheid-anna-paulowna/2026-01-12/
LOCATION:Dorpshuis de Veerburg\, Sportlaan 21\, Anna Paulowna\, 1761ZA\, Netherlands
CATEGORIES:Kop Noord Holland
END:VEVENT
BEGIN:VEVENT
DTSTART;TZID=Europe/Amsterdam:20260105T100000
DTEND;TZID=Europe/Amsterdam:20260105T120000
DTSTAMP:20260419T161720
CREATED:20251017T064736Z
LAST-MODIFIED:20260318T145319Z
UID:10037924-1767607200-1767614400@dehoofdzaak.org
SUMMARY:Krachtig vanuit kwetsbaarheid Anna Paulowna
DESCRIPTION:Als je te maken hebt met een psychische kwetsbaarheid\, kun je daardoor erg overweldigd zijn. Maar herstel is mogelijk! Lotgenoten kunnen je daarbij ondersteunen. En jij kunt anderen ondersteunen bij hun herstel. \n\n\n\nJe hoeft het niet alleen te doen. Zoek de steun van lotgenoten in deze herstelgroep. Ze hebben vergelijkbare ervaring als jij en begrijpen je worsteling. Ze begrijpen je verhaal en helpen je vanuit hun eigen ervaring met herstel. De groep wordt begeleid door twee ervaringsdeskundigen.
URL:https://dehoofdzaak.org/agenda/krachtig-vanuit-kwetsbaarheid-anna-paulowna/2026-01-05/
LOCATION:Dorpshuis de Veerburg\, Sportlaan 21\, Anna Paulowna\, 1761ZA\, Netherlands
CATEGORIES:Kop Noord Holland
END:VEVENT
BEGIN:VEVENT
DTSTART;TZID=Europe/Amsterdam:20251229T100000
DTEND;TZID=Europe/Amsterdam:20251229T120000
DTSTAMP:20260419T161720
CREATED:20251017T064736Z
LAST-MODIFIED:20260318T145319Z
UID:10037923-1767002400-1767009600@dehoofdzaak.org
SUMMARY:Krachtig vanuit kwetsbaarheid Anna Paulowna
DESCRIPTION:Als je te maken hebt met een psychische kwetsbaarheid\, kun je daardoor erg overweldigd zijn. Maar herstel is mogelijk! Lotgenoten kunnen je daarbij ondersteunen. En jij kunt anderen ondersteunen bij hun herstel. \n\n\n\nJe hoeft het niet alleen te doen. Zoek de steun van lotgenoten in deze herstelgroep. Ze hebben vergelijkbare ervaring als jij en begrijpen je worsteling. Ze begrijpen je verhaal en helpen je vanuit hun eigen ervaring met herstel. De groep wordt begeleid door twee ervaringsdeskundigen.
URL:https://dehoofdzaak.org/agenda/krachtig-vanuit-kwetsbaarheid-anna-paulowna/2025-12-29/
LOCATION:Dorpshuis de Veerburg\, Sportlaan 21\, Anna Paulowna\, 1761ZA\, Netherlands
CATEGORIES:Kop Noord Holland
END:VEVENT
BEGIN:VEVENT
DTSTART;TZID=Europe/Amsterdam:20251222T100000
DTEND;TZID=Europe/Amsterdam:20251222T120000
DTSTAMP:20260419T161720
CREATED:20251017T064736Z
LAST-MODIFIED:20260318T145319Z
UID:10037922-1766397600-1766404800@dehoofdzaak.org
SUMMARY:Krachtig vanuit kwetsbaarheid Anna Paulowna
DESCRIPTION:Als je te maken hebt met een psychische kwetsbaarheid\, kun je daardoor erg overweldigd zijn. Maar herstel is mogelijk! Lotgenoten kunnen je daarbij ondersteunen. En jij kunt anderen ondersteunen bij hun herstel. \n\n\n\nJe hoeft het niet alleen te doen. Zoek de steun van lotgenoten in deze herstelgroep. Ze hebben vergelijkbare ervaring als jij en begrijpen je worsteling. Ze begrijpen je verhaal en helpen je vanuit hun eigen ervaring met herstel. De groep wordt begeleid door twee ervaringsdeskundigen.
URL:https://dehoofdzaak.org/agenda/krachtig-vanuit-kwetsbaarheid-anna-paulowna/2025-12-22/
LOCATION:Dorpshuis de Veerburg\, Sportlaan 21\, Anna Paulowna\, 1761ZA\, Netherlands
CATEGORIES:Kop Noord Holland
END:VEVENT
BEGIN:VEVENT
DTSTART;TZID=Europe/Amsterdam:20251215T100000
DTEND;TZID=Europe/Amsterdam:20251215T120000
DTSTAMP:20260419T161720
CREATED:20251017T064736Z
LAST-MODIFIED:20260318T145319Z
UID:10037921-1765792800-1765800000@dehoofdzaak.org
SUMMARY:Krachtig vanuit kwetsbaarheid Anna Paulowna
DESCRIPTION:Als je te maken hebt met een psychische kwetsbaarheid\, kun je daardoor erg overweldigd zijn. Maar herstel is mogelijk! Lotgenoten kunnen je daarbij ondersteunen. En jij kunt anderen ondersteunen bij hun herstel. \n\n\n\nJe hoeft het niet alleen te doen. Zoek de steun van lotgenoten in deze herstelgroep. Ze hebben vergelijkbare ervaring als jij en begrijpen je worsteling. Ze begrijpen je verhaal en helpen je vanuit hun eigen ervaring met herstel. De groep wordt begeleid door twee ervaringsdeskundigen.
URL:https://dehoofdzaak.org/agenda/krachtig-vanuit-kwetsbaarheid-anna-paulowna/2025-12-15/
LOCATION:Dorpshuis de Veerburg\, Sportlaan 21\, Anna Paulowna\, 1761ZA\, Netherlands
CATEGORIES:Kop Noord Holland
END:VEVENT
BEGIN:VEVENT
DTSTART;TZID=Europe/Amsterdam:20251208T100000
DTEND;TZID=Europe/Amsterdam:20251208T120000
DTSTAMP:20260419T161720
CREATED:20251017T064736Z
LAST-MODIFIED:20260318T145319Z
UID:10037920-1765188000-1765195200@dehoofdzaak.org
SUMMARY:Krachtig vanuit kwetsbaarheid Anna Paulowna
DESCRIPTION:Als je te maken hebt met een psychische kwetsbaarheid\, kun je daardoor erg overweldigd zijn. Maar herstel is mogelijk! Lotgenoten kunnen je daarbij ondersteunen. En jij kunt anderen ondersteunen bij hun herstel. \n\n\n\nJe hoeft het niet alleen te doen. Zoek de steun van lotgenoten in deze herstelgroep. Ze hebben vergelijkbare ervaring als jij en begrijpen je worsteling. Ze begrijpen je verhaal en helpen je vanuit hun eigen ervaring met herstel. De groep wordt begeleid door twee ervaringsdeskundigen.
URL:https://dehoofdzaak.org/agenda/krachtig-vanuit-kwetsbaarheid-anna-paulowna/2025-12-08/
LOCATION:Dorpshuis de Veerburg\, Sportlaan 21\, Anna Paulowna\, 1761ZA\, Netherlands
CATEGORIES:Kop Noord Holland
END:VEVENT
BEGIN:VEVENT
DTSTART;TZID=Europe/Amsterdam:20251201T100000
DTEND;TZID=Europe/Amsterdam:20251201T120000
DTSTAMP:20260419T161720
CREATED:20251017T064736Z
LAST-MODIFIED:20260318T145319Z
UID:10037919-1764583200-1764590400@dehoofdzaak.org
SUMMARY:Krachtig vanuit kwetsbaarheid Anna Paulowna
DESCRIPTION:Als je te maken hebt met een psychische kwetsbaarheid\, kun je daardoor erg overweldigd zijn. Maar herstel is mogelijk! Lotgenoten kunnen je daarbij ondersteunen. En jij kunt anderen ondersteunen bij hun herstel. \n\n\n\nJe hoeft het niet alleen te doen. Zoek de steun van lotgenoten in deze herstelgroep. Ze hebben vergelijkbare ervaring als jij en begrijpen je worsteling. Ze begrijpen je verhaal en helpen je vanuit hun eigen ervaring met herstel. De groep wordt begeleid door twee ervaringsdeskundigen.
URL:https://dehoofdzaak.org/agenda/krachtig-vanuit-kwetsbaarheid-anna-paulowna/2025-12-01/
LOCATION:Dorpshuis de Veerburg\, Sportlaan 21\, Anna Paulowna\, 1761ZA\, Netherlands
CATEGORIES:Kop Noord Holland
END:VEVENT
BEGIN:VEVENT
DTSTART;TZID=Europe/Amsterdam:20251124T100000
DTEND;TZID=Europe/Amsterdam:20251124T120000
DTSTAMP:20260419T161720
CREATED:20251017T062509Z
LAST-MODIFIED:20251017T062511Z
UID:10037520-1763978400-1763985600@dehoofdzaak.org
SUMMARY:Creatieve workshop de Veerburg
DESCRIPTION:Tijdens deze workshop ga je aan de slag met klei om een beeldje te maken dat symbool staat voor iets in jou dat meer aandacht\, liefde of kracht mag krijgen. Dat kan je innerlijk kind zijn\, een beschermfiguur\, een krachtbron of iets wat spontaan onder je handen ontstaat. \n\n\n\nJe hebt geen ervaring nodig en het hoeft niet perfect te zijn. Het gaat niet om techniek of resultaat\, maar om het proces – even uit je hoofd en in contact met wat er vanbinnen leeft. \n\n\n\nIn een rustige sfeer\, met zachte muziek en aandacht\, creëren we samen een veilige ruimte waar je helemaal jezelf mag zijn. Aan het eind neem je jouw beeldje mee naar huis als een tastbare herinnering aan iets waardevols in jezelf.
URL:https://dehoofdzaak.org/agenda/creatieve-workshop-de-veerburg/
LOCATION:Dorpshuis de Veerburg\, Sportlaan 21\, Anna Paulowna\, 1761ZA\, Netherlands
CATEGORIES:Kop Noord Holland
END:VEVENT
BEGIN:VEVENT
DTSTART;TZID=Europe/Amsterdam:20251117T100000
DTEND;TZID=Europe/Amsterdam:20251117T120000
DTSTAMP:20260419T161720
CREATED:20251017T064736Z
LAST-MODIFIED:20260318T145319Z
UID:10037917-1763373600-1763380800@dehoofdzaak.org
SUMMARY:Krachtig vanuit kwetsbaarheid Anna Paulowna
DESCRIPTION:Als je te maken hebt met een psychische kwetsbaarheid\, kun je daardoor erg overweldigd zijn. Maar herstel is mogelijk! Lotgenoten kunnen je daarbij ondersteunen. En jij kunt anderen ondersteunen bij hun herstel. \n\n\n\nJe hoeft het niet alleen te doen. Zoek de steun van lotgenoten in deze herstelgroep. Ze hebben vergelijkbare ervaring als jij en begrijpen je worsteling. Ze begrijpen je verhaal en helpen je vanuit hun eigen ervaring met herstel. De groep wordt begeleid door twee ervaringsdeskundigen.
URL:https://dehoofdzaak.org/agenda/krachtig-vanuit-kwetsbaarheid-anna-paulowna/2025-11-17/
LOCATION:Dorpshuis de Veerburg\, Sportlaan 21\, Anna Paulowna\, 1761ZA\, Netherlands
CATEGORIES:Kop Noord Holland
END:VEVENT
BEGIN:VEVENT
DTSTART;TZID=Europe/Amsterdam:20251110T100000
DTEND;TZID=Europe/Amsterdam:20251110T120000
DTSTAMP:20260419T161720
CREATED:20251017T064736Z
LAST-MODIFIED:20260318T145319Z
UID:10037916-1762768800-1762776000@dehoofdzaak.org
SUMMARY:Krachtig vanuit kwetsbaarheid Anna Paulowna
DESCRIPTION:Als je te maken hebt met een psychische kwetsbaarheid\, kun je daardoor erg overweldigd zijn. Maar herstel is mogelijk! Lotgenoten kunnen je daarbij ondersteunen. En jij kunt anderen ondersteunen bij hun herstel. \n\n\n\nJe hoeft het niet alleen te doen. Zoek de steun van lotgenoten in deze herstelgroep. Ze hebben vergelijkbare ervaring als jij en begrijpen je worsteling. Ze begrijpen je verhaal en helpen je vanuit hun eigen ervaring met herstel. De groep wordt begeleid door twee ervaringsdeskundigen.
URL:https://dehoofdzaak.org/agenda/krachtig-vanuit-kwetsbaarheid-anna-paulowna/2025-11-10/
LOCATION:Dorpshuis de Veerburg\, Sportlaan 21\, Anna Paulowna\, 1761ZA\, Netherlands
CATEGORIES:Kop Noord Holland
END:VEVENT
BEGIN:VEVENT
DTSTART;TZID=Europe/Amsterdam:20251103T100000
DTEND;TZID=Europe/Amsterdam:20251103T120000
DTSTAMP:20260419T161720
CREATED:20251017T064736Z
LAST-MODIFIED:20260318T145319Z
UID:10037915-1762164000-1762171200@dehoofdzaak.org
SUMMARY:Krachtig vanuit kwetsbaarheid Anna Paulowna
DESCRIPTION:Als je te maken hebt met een psychische kwetsbaarheid\, kun je daardoor erg overweldigd zijn. Maar herstel is mogelijk! Lotgenoten kunnen je daarbij ondersteunen. En jij kunt anderen ondersteunen bij hun herstel. \n\n\n\nJe hoeft het niet alleen te doen. Zoek de steun van lotgenoten in deze herstelgroep. Ze hebben vergelijkbare ervaring als jij en begrijpen je worsteling. Ze begrijpen je verhaal en helpen je vanuit hun eigen ervaring met herstel. De groep wordt begeleid door twee ervaringsdeskundigen.
URL:https://dehoofdzaak.org/agenda/krachtig-vanuit-kwetsbaarheid-anna-paulowna/2025-11-03/
LOCATION:Dorpshuis de Veerburg\, Sportlaan 21\, Anna Paulowna\, 1761ZA\, Netherlands
CATEGORIES:Kop Noord Holland
END:VEVENT
BEGIN:VEVENT
DTSTART;TZID=Europe/Amsterdam:20251027T100000
DTEND;TZID=Europe/Amsterdam:20251027T120000
DTSTAMP:20260419T161720
CREATED:20251017T064736Z
LAST-MODIFIED:20260318T145319Z
UID:10037914-1761559200-1761566400@dehoofdzaak.org
SUMMARY:Krachtig vanuit kwetsbaarheid Anna Paulowna
DESCRIPTION:Als je te maken hebt met een psychische kwetsbaarheid\, kun je daardoor erg overweldigd zijn. Maar herstel is mogelijk! Lotgenoten kunnen je daarbij ondersteunen. En jij kunt anderen ondersteunen bij hun herstel. \n\n\n\nJe hoeft het niet alleen te doen. Zoek de steun van lotgenoten in deze herstelgroep. Ze hebben vergelijkbare ervaring als jij en begrijpen je worsteling. Ze begrijpen je verhaal en helpen je vanuit hun eigen ervaring met herstel. De groep wordt begeleid door twee ervaringsdeskundigen.
URL:https://dehoofdzaak.org/agenda/krachtig-vanuit-kwetsbaarheid-anna-paulowna/2025-10-27/
LOCATION:Dorpshuis de Veerburg\, Sportlaan 21\, Anna Paulowna\, 1761ZA\, Netherlands
CATEGORIES:Kop Noord Holland
END:VEVENT
END:VCALENDAR