BEGIN:VCALENDAR
VERSION:2.0
PRODID:-//De Hoofdzaak - ECPv6.15.20//NONSGML v1.0//EN
CALSCALE:GREGORIAN
METHOD:PUBLISH
X-WR-CALNAME:De Hoofdzaak
X-ORIGINAL-URL:https://dehoofdzaak.org
X-WR-CALDESC:Evenementen voor De Hoofdzaak
REFRESH-INTERVAL;VALUE=DURATION:PT1H
X-Robots-Tag:noindex
X-PUBLISHED-TTL:PT1H
BEGIN:VTIMEZONE
TZID:Europe/Amsterdam
BEGIN:DAYLIGHT
TZOFFSETFROM:+0100
TZOFFSETTO:+0200
TZNAME:CEST
DTSTART:20270328T010000
END:DAYLIGHT
BEGIN:STANDARD
TZOFFSETFROM:+0200
TZOFFSETTO:+0100
TZNAME:CET
DTSTART:20271031T010000
END:STANDARD
BEGIN:DAYLIGHT
TZOFFSETFROM:+0100
TZOFFSETTO:+0200
TZNAME:CEST
DTSTART:20280326T010000
END:DAYLIGHT
BEGIN:STANDARD
TZOFFSETFROM:+0200
TZOFFSETTO:+0100
TZNAME:CET
DTSTART:20281029T010000
END:STANDARD
BEGIN:DAYLIGHT
TZOFFSETFROM:+0100
TZOFFSETTO:+0200
TZNAME:CEST
DTSTART:20290325T010000
END:DAYLIGHT
BEGIN:STANDARD
TZOFFSETFROM:+0200
TZOFFSETTO:+0100
TZNAME:CET
DTSTART:20291028T010000
END:STANDARD
END:VTIMEZONE
BEGIN:VEVENT
DTSTART;TZID=Europe/Amsterdam:20280515T130000
DTEND;TZID=Europe/Amsterdam:20280515T150000
DTSTAMP:20260419T220838
CREATED:20251209T174222Z
LAST-MODIFIED:20251209T174824Z
UID:10039614-1842008400-1842015600@dehoofdzaak.org
SUMMARY:Herstelgroep 0.0 de Kop
DESCRIPTION:Bij Herstelgroep 0.0 delen we de ups en downs van ons leven in herstel. Na een worsteling met onze verslaving zijn we ondertussen een tijdje clean en is het probleem minder om uit gebruik te blijven dan om met de nieuwe situatie om te gaan. \n\n\n\nWe zijn elkaar tot steun en inspireren elkaar aan de hand van gezamenlijke thema’s. Dit in een sfeer van warmte en verbinding en onder het genot van een kopje koffie of thee. \n\n\n\nDe groep komt elke week bij elkaar behalve in de schoolvakanties.
URL:https://dehoofdzaak.org/agenda/herstelgroep-0-0-de-kop-2/2028-05-15/
LOCATION:Scagon de Luxe\, Torenstraat 1B\, Schagen\, 1741CB
CATEGORIES:Kop Noord Holland
END:VEVENT
BEGIN:VEVENT
DTSTART;TZID=Europe/Amsterdam:20280522T130000
DTEND;TZID=Europe/Amsterdam:20280522T150000
DTSTAMP:20260419T220838
CREATED:20251209T174222Z
LAST-MODIFIED:20251209T174824Z
UID:10039615-1842613200-1842620400@dehoofdzaak.org
SUMMARY:Herstelgroep 0.0 de Kop
DESCRIPTION:Bij Herstelgroep 0.0 delen we de ups en downs van ons leven in herstel. Na een worsteling met onze verslaving zijn we ondertussen een tijdje clean en is het probleem minder om uit gebruik te blijven dan om met de nieuwe situatie om te gaan. \n\n\n\nWe zijn elkaar tot steun en inspireren elkaar aan de hand van gezamenlijke thema’s. Dit in een sfeer van warmte en verbinding en onder het genot van een kopje koffie of thee. \n\n\n\nDe groep komt elke week bij elkaar behalve in de schoolvakanties.
URL:https://dehoofdzaak.org/agenda/herstelgroep-0-0-de-kop-2/2028-05-22/
LOCATION:Scagon de Luxe\, Torenstraat 1B\, Schagen\, 1741CB
CATEGORIES:Kop Noord Holland
END:VEVENT
BEGIN:VEVENT
DTSTART;TZID=Europe/Amsterdam:20280524T100000
DTEND;TZID=Europe/Amsterdam:20280524T130000
DTSTAMP:20260419T220838
CREATED:20260212T130213Z
LAST-MODIFIED:20260212T130219Z
UID:10042660-1842775200-1842786000@dehoofdzaak.org
SUMMARY:Ontmoetingspunt Schagen
DESCRIPTION:Op de woensdag in de even weken: Kom ook eens gezellig binnenlopen op onze locatie in Schagen. Je bent welkom!
URL:https://dehoofdzaak.org/agenda/ontmoetingspunt-schagen/2028-05-24/
LOCATION:Scagon de Luxe\, Torenstraat 1B\, Schagen\, 1741CB
CATEGORIES:Kop Noord Holland
END:VEVENT
BEGIN:VEVENT
DTSTART;TZID=Europe/Amsterdam:20280524T113000
DTEND;TZID=Europe/Amsterdam:20280524T130000
DTSTAMP:20260419T220838
CREATED:20260212T130120Z
LAST-MODIFIED:20260212T130124Z
UID:10042530-1842780600-1842786000@dehoofdzaak.org
SUMMARY:Schagen: creagroep 't luisterend oor'
DESCRIPTION:De groep is bedoeld voor iedereen die het leuk vindt om creatief bezig te zijn of voor als je een plek zoekt om met anderen in contact te komen. Wij zorgen ervoor dat er spullen aanwezig zijn\, zodat jij je kan concentreren op het aansluiten en meedoen. Als je er liever alleen bij wilt zitten en wilt socializen ben je zeker ook welkom. \n\n\n\nDe groep is voor alle leeftijden en wordt om de week gegeven. Ook is er natuurlijk altijd de gelegenheid om met een ervaringsdeskundige apart te zitten voor een gesprek.  \n\n\n\nLocatie: Scagon de Luxe in Schagen
URL:https://dehoofdzaak.org/agenda/schagen-creagroep-t-luisterend-oor/2028-05-24/
LOCATION:Scagon de Luxe\, Torenstraat 1B\, Schagen\, 1741CB
CATEGORIES:Kop Noord Holland
END:VEVENT
BEGIN:VEVENT
DTSTART;TZID=Europe/Amsterdam:20280529T130000
DTEND;TZID=Europe/Amsterdam:20280529T150000
DTSTAMP:20260419T220838
CREATED:20251209T174222Z
LAST-MODIFIED:20251209T174824Z
UID:10039616-1843218000-1843225200@dehoofdzaak.org
SUMMARY:Herstelgroep 0.0 de Kop
DESCRIPTION:Bij Herstelgroep 0.0 delen we de ups en downs van ons leven in herstel. Na een worsteling met onze verslaving zijn we ondertussen een tijdje clean en is het probleem minder om uit gebruik te blijven dan om met de nieuwe situatie om te gaan. \n\n\n\nWe zijn elkaar tot steun en inspireren elkaar aan de hand van gezamenlijke thema’s. Dit in een sfeer van warmte en verbinding en onder het genot van een kopje koffie of thee. \n\n\n\nDe groep komt elke week bij elkaar behalve in de schoolvakanties.
URL:https://dehoofdzaak.org/agenda/herstelgroep-0-0-de-kop-2/2028-05-29/
LOCATION:Scagon de Luxe\, Torenstraat 1B\, Schagen\, 1741CB
CATEGORIES:Kop Noord Holland
END:VEVENT
BEGIN:VEVENT
DTSTART;TZID=Europe/Amsterdam:20280605T130000
DTEND;TZID=Europe/Amsterdam:20280605T150000
DTSTAMP:20260419T220838
CREATED:20251209T174222Z
LAST-MODIFIED:20251209T174824Z
UID:10039617-1843822800-1843830000@dehoofdzaak.org
SUMMARY:Herstelgroep 0.0 de Kop
DESCRIPTION:Bij Herstelgroep 0.0 delen we de ups en downs van ons leven in herstel. Na een worsteling met onze verslaving zijn we ondertussen een tijdje clean en is het probleem minder om uit gebruik te blijven dan om met de nieuwe situatie om te gaan. \n\n\n\nWe zijn elkaar tot steun en inspireren elkaar aan de hand van gezamenlijke thema’s. Dit in een sfeer van warmte en verbinding en onder het genot van een kopje koffie of thee. \n\n\n\nDe groep komt elke week bij elkaar behalve in de schoolvakanties.
URL:https://dehoofdzaak.org/agenda/herstelgroep-0-0-de-kop-2/2028-06-05/
LOCATION:Scagon de Luxe\, Torenstraat 1B\, Schagen\, 1741CB
CATEGORIES:Kop Noord Holland
END:VEVENT
BEGIN:VEVENT
DTSTART;TZID=Europe/Amsterdam:20280607T100000
DTEND;TZID=Europe/Amsterdam:20280607T130000
DTSTAMP:20260419T220838
CREATED:20260212T130213Z
LAST-MODIFIED:20260212T130219Z
UID:10042661-1843984800-1843995600@dehoofdzaak.org
SUMMARY:Ontmoetingspunt Schagen
DESCRIPTION:Op de woensdag in de even weken: Kom ook eens gezellig binnenlopen op onze locatie in Schagen. Je bent welkom!
URL:https://dehoofdzaak.org/agenda/ontmoetingspunt-schagen/2028-06-07/
LOCATION:Scagon de Luxe\, Torenstraat 1B\, Schagen\, 1741CB
CATEGORIES:Kop Noord Holland
END:VEVENT
BEGIN:VEVENT
DTSTART;TZID=Europe/Amsterdam:20280607T113000
DTEND;TZID=Europe/Amsterdam:20280607T130000
DTSTAMP:20260419T220838
CREATED:20260212T130120Z
LAST-MODIFIED:20260212T130124Z
UID:10042531-1843990200-1843995600@dehoofdzaak.org
SUMMARY:Schagen: creagroep 't luisterend oor'
DESCRIPTION:De groep is bedoeld voor iedereen die het leuk vindt om creatief bezig te zijn of voor als je een plek zoekt om met anderen in contact te komen. Wij zorgen ervoor dat er spullen aanwezig zijn\, zodat jij je kan concentreren op het aansluiten en meedoen. Als je er liever alleen bij wilt zitten en wilt socializen ben je zeker ook welkom. \n\n\n\nDe groep is voor alle leeftijden en wordt om de week gegeven. Ook is er natuurlijk altijd de gelegenheid om met een ervaringsdeskundige apart te zitten voor een gesprek.  \n\n\n\nLocatie: Scagon de Luxe in Schagen
URL:https://dehoofdzaak.org/agenda/schagen-creagroep-t-luisterend-oor/2028-06-07/
LOCATION:Scagon de Luxe\, Torenstraat 1B\, Schagen\, 1741CB
CATEGORIES:Kop Noord Holland
END:VEVENT
BEGIN:VEVENT
DTSTART;TZID=Europe/Amsterdam:20280612T130000
DTEND;TZID=Europe/Amsterdam:20280612T150000
DTSTAMP:20260419T220838
CREATED:20251209T174222Z
LAST-MODIFIED:20251209T174824Z
UID:10039618-1844427600-1844434800@dehoofdzaak.org
SUMMARY:Herstelgroep 0.0 de Kop
DESCRIPTION:Bij Herstelgroep 0.0 delen we de ups en downs van ons leven in herstel. Na een worsteling met onze verslaving zijn we ondertussen een tijdje clean en is het probleem minder om uit gebruik te blijven dan om met de nieuwe situatie om te gaan. \n\n\n\nWe zijn elkaar tot steun en inspireren elkaar aan de hand van gezamenlijke thema’s. Dit in een sfeer van warmte en verbinding en onder het genot van een kopje koffie of thee. \n\n\n\nDe groep komt elke week bij elkaar behalve in de schoolvakanties.
URL:https://dehoofdzaak.org/agenda/herstelgroep-0-0-de-kop-2/2028-06-12/
LOCATION:Scagon de Luxe\, Torenstraat 1B\, Schagen\, 1741CB
CATEGORIES:Kop Noord Holland
END:VEVENT
BEGIN:VEVENT
DTSTART;TZID=Europe/Amsterdam:20280619T130000
DTEND;TZID=Europe/Amsterdam:20280619T150000
DTSTAMP:20260419T220838
CREATED:20251209T174222Z
LAST-MODIFIED:20251209T174824Z
UID:10039619-1845032400-1845039600@dehoofdzaak.org
SUMMARY:Herstelgroep 0.0 de Kop
DESCRIPTION:Bij Herstelgroep 0.0 delen we de ups en downs van ons leven in herstel. Na een worsteling met onze verslaving zijn we ondertussen een tijdje clean en is het probleem minder om uit gebruik te blijven dan om met de nieuwe situatie om te gaan. \n\n\n\nWe zijn elkaar tot steun en inspireren elkaar aan de hand van gezamenlijke thema’s. Dit in een sfeer van warmte en verbinding en onder het genot van een kopje koffie of thee. \n\n\n\nDe groep komt elke week bij elkaar behalve in de schoolvakanties.
URL:https://dehoofdzaak.org/agenda/herstelgroep-0-0-de-kop-2/2028-06-19/
LOCATION:Scagon de Luxe\, Torenstraat 1B\, Schagen\, 1741CB
CATEGORIES:Kop Noord Holland
END:VEVENT
BEGIN:VEVENT
DTSTART;TZID=Europe/Amsterdam:20280621T100000
DTEND;TZID=Europe/Amsterdam:20280621T130000
DTSTAMP:20260419T220838
CREATED:20260212T130213Z
LAST-MODIFIED:20260212T130219Z
UID:10042662-1845194400-1845205200@dehoofdzaak.org
SUMMARY:Ontmoetingspunt Schagen
DESCRIPTION:Op de woensdag in de even weken: Kom ook eens gezellig binnenlopen op onze locatie in Schagen. Je bent welkom!
URL:https://dehoofdzaak.org/agenda/ontmoetingspunt-schagen/2028-06-21/
LOCATION:Scagon de Luxe\, Torenstraat 1B\, Schagen\, 1741CB
CATEGORIES:Kop Noord Holland
END:VEVENT
BEGIN:VEVENT
DTSTART;TZID=Europe/Amsterdam:20280621T113000
DTEND;TZID=Europe/Amsterdam:20280621T130000
DTSTAMP:20260419T220838
CREATED:20260212T130120Z
LAST-MODIFIED:20260212T130124Z
UID:10042532-1845199800-1845205200@dehoofdzaak.org
SUMMARY:Schagen: creagroep 't luisterend oor'
DESCRIPTION:De groep is bedoeld voor iedereen die het leuk vindt om creatief bezig te zijn of voor als je een plek zoekt om met anderen in contact te komen. Wij zorgen ervoor dat er spullen aanwezig zijn\, zodat jij je kan concentreren op het aansluiten en meedoen. Als je er liever alleen bij wilt zitten en wilt socializen ben je zeker ook welkom. \n\n\n\nDe groep is voor alle leeftijden en wordt om de week gegeven. Ook is er natuurlijk altijd de gelegenheid om met een ervaringsdeskundige apart te zitten voor een gesprek.  \n\n\n\nLocatie: Scagon de Luxe in Schagen
URL:https://dehoofdzaak.org/agenda/schagen-creagroep-t-luisterend-oor/2028-06-21/
LOCATION:Scagon de Luxe\, Torenstraat 1B\, Schagen\, 1741CB
CATEGORIES:Kop Noord Holland
END:VEVENT
BEGIN:VEVENT
DTSTART;TZID=Europe/Amsterdam:20280626T130000
DTEND;TZID=Europe/Amsterdam:20280626T150000
DTSTAMP:20260419T220838
CREATED:20251209T174222Z
LAST-MODIFIED:20251209T174824Z
UID:10039620-1845637200-1845644400@dehoofdzaak.org
SUMMARY:Herstelgroep 0.0 de Kop
DESCRIPTION:Bij Herstelgroep 0.0 delen we de ups en downs van ons leven in herstel. Na een worsteling met onze verslaving zijn we ondertussen een tijdje clean en is het probleem minder om uit gebruik te blijven dan om met de nieuwe situatie om te gaan. \n\n\n\nWe zijn elkaar tot steun en inspireren elkaar aan de hand van gezamenlijke thema’s. Dit in een sfeer van warmte en verbinding en onder het genot van een kopje koffie of thee. \n\n\n\nDe groep komt elke week bij elkaar behalve in de schoolvakanties.
URL:https://dehoofdzaak.org/agenda/herstelgroep-0-0-de-kop-2/2028-06-26/
LOCATION:Scagon de Luxe\, Torenstraat 1B\, Schagen\, 1741CB
CATEGORIES:Kop Noord Holland
END:VEVENT
BEGIN:VEVENT
DTSTART;TZID=Europe/Amsterdam:20280703T130000
DTEND;TZID=Europe/Amsterdam:20280703T150000
DTSTAMP:20260419T220838
CREATED:20251209T174222Z
LAST-MODIFIED:20251209T174824Z
UID:10039621-1846242000-1846249200@dehoofdzaak.org
SUMMARY:Herstelgroep 0.0 de Kop
DESCRIPTION:Bij Herstelgroep 0.0 delen we de ups en downs van ons leven in herstel. Na een worsteling met onze verslaving zijn we ondertussen een tijdje clean en is het probleem minder om uit gebruik te blijven dan om met de nieuwe situatie om te gaan. \n\n\n\nWe zijn elkaar tot steun en inspireren elkaar aan de hand van gezamenlijke thema’s. Dit in een sfeer van warmte en verbinding en onder het genot van een kopje koffie of thee. \n\n\n\nDe groep komt elke week bij elkaar behalve in de schoolvakanties.
URL:https://dehoofdzaak.org/agenda/herstelgroep-0-0-de-kop-2/2028-07-03/
LOCATION:Scagon de Luxe\, Torenstraat 1B\, Schagen\, 1741CB
CATEGORIES:Kop Noord Holland
END:VEVENT
BEGIN:VEVENT
DTSTART;TZID=Europe/Amsterdam:20280705T100000
DTEND;TZID=Europe/Amsterdam:20280705T130000
DTSTAMP:20260419T220838
CREATED:20260212T130213Z
LAST-MODIFIED:20260212T130219Z
UID:10042663-1846404000-1846414800@dehoofdzaak.org
SUMMARY:Ontmoetingspunt Schagen
DESCRIPTION:Op de woensdag in de even weken: Kom ook eens gezellig binnenlopen op onze locatie in Schagen. Je bent welkom!
URL:https://dehoofdzaak.org/agenda/ontmoetingspunt-schagen/2028-07-05/
LOCATION:Scagon de Luxe\, Torenstraat 1B\, Schagen\, 1741CB
CATEGORIES:Kop Noord Holland
END:VEVENT
BEGIN:VEVENT
DTSTART;TZID=Europe/Amsterdam:20280705T113000
DTEND;TZID=Europe/Amsterdam:20280705T130000
DTSTAMP:20260419T220838
CREATED:20260212T130120Z
LAST-MODIFIED:20260212T130124Z
UID:10042533-1846409400-1846414800@dehoofdzaak.org
SUMMARY:Schagen: creagroep 't luisterend oor'
DESCRIPTION:De groep is bedoeld voor iedereen die het leuk vindt om creatief bezig te zijn of voor als je een plek zoekt om met anderen in contact te komen. Wij zorgen ervoor dat er spullen aanwezig zijn\, zodat jij je kan concentreren op het aansluiten en meedoen. Als je er liever alleen bij wilt zitten en wilt socializen ben je zeker ook welkom. \n\n\n\nDe groep is voor alle leeftijden en wordt om de week gegeven. Ook is er natuurlijk altijd de gelegenheid om met een ervaringsdeskundige apart te zitten voor een gesprek.  \n\n\n\nLocatie: Scagon de Luxe in Schagen
URL:https://dehoofdzaak.org/agenda/schagen-creagroep-t-luisterend-oor/2028-07-05/
LOCATION:Scagon de Luxe\, Torenstraat 1B\, Schagen\, 1741CB
CATEGORIES:Kop Noord Holland
END:VEVENT
BEGIN:VEVENT
DTSTART;TZID=Europe/Amsterdam:20280710T130000
DTEND;TZID=Europe/Amsterdam:20280710T150000
DTSTAMP:20260419T220839
CREATED:20251209T174222Z
LAST-MODIFIED:20251209T174824Z
UID:10039622-1846846800-1846854000@dehoofdzaak.org
SUMMARY:Herstelgroep 0.0 de Kop
DESCRIPTION:Bij Herstelgroep 0.0 delen we de ups en downs van ons leven in herstel. Na een worsteling met onze verslaving zijn we ondertussen een tijdje clean en is het probleem minder om uit gebruik te blijven dan om met de nieuwe situatie om te gaan. \n\n\n\nWe zijn elkaar tot steun en inspireren elkaar aan de hand van gezamenlijke thema’s. Dit in een sfeer van warmte en verbinding en onder het genot van een kopje koffie of thee. \n\n\n\nDe groep komt elke week bij elkaar behalve in de schoolvakanties.
URL:https://dehoofdzaak.org/agenda/herstelgroep-0-0-de-kop-2/2028-07-10/
LOCATION:Scagon de Luxe\, Torenstraat 1B\, Schagen\, 1741CB
CATEGORIES:Kop Noord Holland
END:VEVENT
BEGIN:VEVENT
DTSTART;TZID=Europe/Amsterdam:20280717T130000
DTEND;TZID=Europe/Amsterdam:20280717T150000
DTSTAMP:20260419T220839
CREATED:20251209T174222Z
LAST-MODIFIED:20251209T174824Z
UID:10039623-1847451600-1847458800@dehoofdzaak.org
SUMMARY:Herstelgroep 0.0 de Kop
DESCRIPTION:Bij Herstelgroep 0.0 delen we de ups en downs van ons leven in herstel. Na een worsteling met onze verslaving zijn we ondertussen een tijdje clean en is het probleem minder om uit gebruik te blijven dan om met de nieuwe situatie om te gaan. \n\n\n\nWe zijn elkaar tot steun en inspireren elkaar aan de hand van gezamenlijke thema’s. Dit in een sfeer van warmte en verbinding en onder het genot van een kopje koffie of thee. \n\n\n\nDe groep komt elke week bij elkaar behalve in de schoolvakanties.
URL:https://dehoofdzaak.org/agenda/herstelgroep-0-0-de-kop-2/2028-07-17/
LOCATION:Scagon de Luxe\, Torenstraat 1B\, Schagen\, 1741CB
CATEGORIES:Kop Noord Holland
END:VEVENT
BEGIN:VEVENT
DTSTART;TZID=Europe/Amsterdam:20280719T100000
DTEND;TZID=Europe/Amsterdam:20280719T130000
DTSTAMP:20260419T220839
CREATED:20260212T130213Z
LAST-MODIFIED:20260212T130219Z
UID:10042664-1847613600-1847624400@dehoofdzaak.org
SUMMARY:Ontmoetingspunt Schagen
DESCRIPTION:Op de woensdag in de even weken: Kom ook eens gezellig binnenlopen op onze locatie in Schagen. Je bent welkom!
URL:https://dehoofdzaak.org/agenda/ontmoetingspunt-schagen/2028-07-19/
LOCATION:Scagon de Luxe\, Torenstraat 1B\, Schagen\, 1741CB
CATEGORIES:Kop Noord Holland
END:VEVENT
BEGIN:VEVENT
DTSTART;TZID=Europe/Amsterdam:20280719T113000
DTEND;TZID=Europe/Amsterdam:20280719T130000
DTSTAMP:20260419T220839
CREATED:20260212T130120Z
LAST-MODIFIED:20260212T130124Z
UID:10042534-1847619000-1847624400@dehoofdzaak.org
SUMMARY:Schagen: creagroep 't luisterend oor'
DESCRIPTION:De groep is bedoeld voor iedereen die het leuk vindt om creatief bezig te zijn of voor als je een plek zoekt om met anderen in contact te komen. Wij zorgen ervoor dat er spullen aanwezig zijn\, zodat jij je kan concentreren op het aansluiten en meedoen. Als je er liever alleen bij wilt zitten en wilt socializen ben je zeker ook welkom. \n\n\n\nDe groep is voor alle leeftijden en wordt om de week gegeven. Ook is er natuurlijk altijd de gelegenheid om met een ervaringsdeskundige apart te zitten voor een gesprek.  \n\n\n\nLocatie: Scagon de Luxe in Schagen
URL:https://dehoofdzaak.org/agenda/schagen-creagroep-t-luisterend-oor/2028-07-19/
LOCATION:Scagon de Luxe\, Torenstraat 1B\, Schagen\, 1741CB
CATEGORIES:Kop Noord Holland
END:VEVENT
BEGIN:VEVENT
DTSTART;TZID=Europe/Amsterdam:20280724T130000
DTEND;TZID=Europe/Amsterdam:20280724T150000
DTSTAMP:20260419T220839
CREATED:20251209T174222Z
LAST-MODIFIED:20251209T174824Z
UID:10039624-1848056400-1848063600@dehoofdzaak.org
SUMMARY:Herstelgroep 0.0 de Kop
DESCRIPTION:Bij Herstelgroep 0.0 delen we de ups en downs van ons leven in herstel. Na een worsteling met onze verslaving zijn we ondertussen een tijdje clean en is het probleem minder om uit gebruik te blijven dan om met de nieuwe situatie om te gaan. \n\n\n\nWe zijn elkaar tot steun en inspireren elkaar aan de hand van gezamenlijke thema’s. Dit in een sfeer van warmte en verbinding en onder het genot van een kopje koffie of thee. \n\n\n\nDe groep komt elke week bij elkaar behalve in de schoolvakanties.
URL:https://dehoofdzaak.org/agenda/herstelgroep-0-0-de-kop-2/2028-07-24/
LOCATION:Scagon de Luxe\, Torenstraat 1B\, Schagen\, 1741CB
CATEGORIES:Kop Noord Holland
END:VEVENT
BEGIN:VEVENT
DTSTART;TZID=Europe/Amsterdam:20280731T130000
DTEND;TZID=Europe/Amsterdam:20280731T150000
DTSTAMP:20260419T220839
CREATED:20251209T174222Z
LAST-MODIFIED:20251209T174824Z
UID:10039625-1848661200-1848668400@dehoofdzaak.org
SUMMARY:Herstelgroep 0.0 de Kop
DESCRIPTION:Bij Herstelgroep 0.0 delen we de ups en downs van ons leven in herstel. Na een worsteling met onze verslaving zijn we ondertussen een tijdje clean en is het probleem minder om uit gebruik te blijven dan om met de nieuwe situatie om te gaan. \n\n\n\nWe zijn elkaar tot steun en inspireren elkaar aan de hand van gezamenlijke thema’s. Dit in een sfeer van warmte en verbinding en onder het genot van een kopje koffie of thee. \n\n\n\nDe groep komt elke week bij elkaar behalve in de schoolvakanties.
URL:https://dehoofdzaak.org/agenda/herstelgroep-0-0-de-kop-2/2028-07-31/
LOCATION:Scagon de Luxe\, Torenstraat 1B\, Schagen\, 1741CB
CATEGORIES:Kop Noord Holland
END:VEVENT
BEGIN:VEVENT
DTSTART;TZID=Europe/Amsterdam:20280802T100000
DTEND;TZID=Europe/Amsterdam:20280802T130000
DTSTAMP:20260419T220839
CREATED:20260212T130213Z
LAST-MODIFIED:20260212T130219Z
UID:10042665-1848823200-1848834000@dehoofdzaak.org
SUMMARY:Ontmoetingspunt Schagen
DESCRIPTION:Op de woensdag in de even weken: Kom ook eens gezellig binnenlopen op onze locatie in Schagen. Je bent welkom!
URL:https://dehoofdzaak.org/agenda/ontmoetingspunt-schagen/2028-08-02/
LOCATION:Scagon de Luxe\, Torenstraat 1B\, Schagen\, 1741CB
CATEGORIES:Kop Noord Holland
END:VEVENT
BEGIN:VEVENT
DTSTART;TZID=Europe/Amsterdam:20280802T113000
DTEND;TZID=Europe/Amsterdam:20280802T130000
DTSTAMP:20260419T220839
CREATED:20260212T130120Z
LAST-MODIFIED:20260212T130124Z
UID:10042535-1848828600-1848834000@dehoofdzaak.org
SUMMARY:Schagen: creagroep 't luisterend oor'
DESCRIPTION:De groep is bedoeld voor iedereen die het leuk vindt om creatief bezig te zijn of voor als je een plek zoekt om met anderen in contact te komen. Wij zorgen ervoor dat er spullen aanwezig zijn\, zodat jij je kan concentreren op het aansluiten en meedoen. Als je er liever alleen bij wilt zitten en wilt socializen ben je zeker ook welkom. \n\n\n\nDe groep is voor alle leeftijden en wordt om de week gegeven. Ook is er natuurlijk altijd de gelegenheid om met een ervaringsdeskundige apart te zitten voor een gesprek.  \n\n\n\nLocatie: Scagon de Luxe in Schagen
URL:https://dehoofdzaak.org/agenda/schagen-creagroep-t-luisterend-oor/2028-08-02/
LOCATION:Scagon de Luxe\, Torenstraat 1B\, Schagen\, 1741CB
CATEGORIES:Kop Noord Holland
END:VEVENT
BEGIN:VEVENT
DTSTART;TZID=Europe/Amsterdam:20280807T130000
DTEND;TZID=Europe/Amsterdam:20280807T150000
DTSTAMP:20260419T220839
CREATED:20251209T174222Z
LAST-MODIFIED:20251209T174824Z
UID:10039626-1849266000-1849273200@dehoofdzaak.org
SUMMARY:Herstelgroep 0.0 de Kop
DESCRIPTION:Bij Herstelgroep 0.0 delen we de ups en downs van ons leven in herstel. Na een worsteling met onze verslaving zijn we ondertussen een tijdje clean en is het probleem minder om uit gebruik te blijven dan om met de nieuwe situatie om te gaan. \n\n\n\nWe zijn elkaar tot steun en inspireren elkaar aan de hand van gezamenlijke thema’s. Dit in een sfeer van warmte en verbinding en onder het genot van een kopje koffie of thee. \n\n\n\nDe groep komt elke week bij elkaar behalve in de schoolvakanties.
URL:https://dehoofdzaak.org/agenda/herstelgroep-0-0-de-kop-2/2028-08-07/
LOCATION:Scagon de Luxe\, Torenstraat 1B\, Schagen\, 1741CB
CATEGORIES:Kop Noord Holland
END:VEVENT
BEGIN:VEVENT
DTSTART;TZID=Europe/Amsterdam:20280814T130000
DTEND;TZID=Europe/Amsterdam:20280814T150000
DTSTAMP:20260419T220839
CREATED:20251209T174222Z
LAST-MODIFIED:20251209T174824Z
UID:10039627-1849870800-1849878000@dehoofdzaak.org
SUMMARY:Herstelgroep 0.0 de Kop
DESCRIPTION:Bij Herstelgroep 0.0 delen we de ups en downs van ons leven in herstel. Na een worsteling met onze verslaving zijn we ondertussen een tijdje clean en is het probleem minder om uit gebruik te blijven dan om met de nieuwe situatie om te gaan. \n\n\n\nWe zijn elkaar tot steun en inspireren elkaar aan de hand van gezamenlijke thema’s. Dit in een sfeer van warmte en verbinding en onder het genot van een kopje koffie of thee. \n\n\n\nDe groep komt elke week bij elkaar behalve in de schoolvakanties.
URL:https://dehoofdzaak.org/agenda/herstelgroep-0-0-de-kop-2/2028-08-14/
LOCATION:Scagon de Luxe\, Torenstraat 1B\, Schagen\, 1741CB
CATEGORIES:Kop Noord Holland
END:VEVENT
BEGIN:VEVENT
DTSTART;TZID=Europe/Amsterdam:20280816T100000
DTEND;TZID=Europe/Amsterdam:20280816T130000
DTSTAMP:20260419T220839
CREATED:20260212T130213Z
LAST-MODIFIED:20260212T130219Z
UID:10042666-1850032800-1850043600@dehoofdzaak.org
SUMMARY:Ontmoetingspunt Schagen
DESCRIPTION:Op de woensdag in de even weken: Kom ook eens gezellig binnenlopen op onze locatie in Schagen. Je bent welkom!
URL:https://dehoofdzaak.org/agenda/ontmoetingspunt-schagen/2028-08-16/
LOCATION:Scagon de Luxe\, Torenstraat 1B\, Schagen\, 1741CB
CATEGORIES:Kop Noord Holland
END:VEVENT
BEGIN:VEVENT
DTSTART;TZID=Europe/Amsterdam:20280816T113000
DTEND;TZID=Europe/Amsterdam:20280816T130000
DTSTAMP:20260419T220839
CREATED:20260212T130120Z
LAST-MODIFIED:20260212T130124Z
UID:10042536-1850038200-1850043600@dehoofdzaak.org
SUMMARY:Schagen: creagroep 't luisterend oor'
DESCRIPTION:De groep is bedoeld voor iedereen die het leuk vindt om creatief bezig te zijn of voor als je een plek zoekt om met anderen in contact te komen. Wij zorgen ervoor dat er spullen aanwezig zijn\, zodat jij je kan concentreren op het aansluiten en meedoen. Als je er liever alleen bij wilt zitten en wilt socializen ben je zeker ook welkom. \n\n\n\nDe groep is voor alle leeftijden en wordt om de week gegeven. Ook is er natuurlijk altijd de gelegenheid om met een ervaringsdeskundige apart te zitten voor een gesprek.  \n\n\n\nLocatie: Scagon de Luxe in Schagen
URL:https://dehoofdzaak.org/agenda/schagen-creagroep-t-luisterend-oor/2028-08-16/
LOCATION:Scagon de Luxe\, Torenstraat 1B\, Schagen\, 1741CB
CATEGORIES:Kop Noord Holland
END:VEVENT
BEGIN:VEVENT
DTSTART;TZID=Europe/Amsterdam:20280821T130000
DTEND;TZID=Europe/Amsterdam:20280821T150000
DTSTAMP:20260419T220839
CREATED:20251209T174222Z
LAST-MODIFIED:20251209T174824Z
UID:10039628-1850475600-1850482800@dehoofdzaak.org
SUMMARY:Herstelgroep 0.0 de Kop
DESCRIPTION:Bij Herstelgroep 0.0 delen we de ups en downs van ons leven in herstel. Na een worsteling met onze verslaving zijn we ondertussen een tijdje clean en is het probleem minder om uit gebruik te blijven dan om met de nieuwe situatie om te gaan. \n\n\n\nWe zijn elkaar tot steun en inspireren elkaar aan de hand van gezamenlijke thema’s. Dit in een sfeer van warmte en verbinding en onder het genot van een kopje koffie of thee. \n\n\n\nDe groep komt elke week bij elkaar behalve in de schoolvakanties.
URL:https://dehoofdzaak.org/agenda/herstelgroep-0-0-de-kop-2/2028-08-21/
LOCATION:Scagon de Luxe\, Torenstraat 1B\, Schagen\, 1741CB
CATEGORIES:Kop Noord Holland
END:VEVENT
BEGIN:VEVENT
DTSTART;TZID=Europe/Amsterdam:20280828T130000
DTEND;TZID=Europe/Amsterdam:20280828T150000
DTSTAMP:20260419T220839
CREATED:20251209T174222Z
LAST-MODIFIED:20251209T174824Z
UID:10039629-1851080400-1851087600@dehoofdzaak.org
SUMMARY:Herstelgroep 0.0 de Kop
DESCRIPTION:Bij Herstelgroep 0.0 delen we de ups en downs van ons leven in herstel. Na een worsteling met onze verslaving zijn we ondertussen een tijdje clean en is het probleem minder om uit gebruik te blijven dan om met de nieuwe situatie om te gaan. \n\n\n\nWe zijn elkaar tot steun en inspireren elkaar aan de hand van gezamenlijke thema’s. Dit in een sfeer van warmte en verbinding en onder het genot van een kopje koffie of thee. \n\n\n\nDe groep komt elke week bij elkaar behalve in de schoolvakanties.
URL:https://dehoofdzaak.org/agenda/herstelgroep-0-0-de-kop-2/2028-08-28/
LOCATION:Scagon de Luxe\, Torenstraat 1B\, Schagen\, 1741CB
CATEGORIES:Kop Noord Holland
END:VEVENT
END:VCALENDAR