BEGIN:VCALENDAR
VERSION:2.0
PRODID:-//De Hoofdzaak - ECPv6.15.20//NONSGML v1.0//EN
CALSCALE:GREGORIAN
METHOD:PUBLISH
X-WR-CALNAME:De Hoofdzaak
X-ORIGINAL-URL:https://dehoofdzaak.org
X-WR-CALDESC:Evenementen voor De Hoofdzaak
REFRESH-INTERVAL;VALUE=DURATION:PT1H
X-Robots-Tag:noindex
X-PUBLISHED-TTL:PT1H
BEGIN:VTIMEZONE
TZID:Europe/Amsterdam
BEGIN:DAYLIGHT
TZOFFSETFROM:+0100
TZOFFSETTO:+0200
TZNAME:CEST
DTSTART:20270328T010000
END:DAYLIGHT
BEGIN:STANDARD
TZOFFSETFROM:+0200
TZOFFSETTO:+0100
TZNAME:CET
DTSTART:20271031T010000
END:STANDARD
BEGIN:DAYLIGHT
TZOFFSETFROM:+0100
TZOFFSETTO:+0200
TZNAME:CEST
DTSTART:20280326T010000
END:DAYLIGHT
BEGIN:STANDARD
TZOFFSETFROM:+0200
TZOFFSETTO:+0100
TZNAME:CET
DTSTART:20281029T010000
END:STANDARD
BEGIN:DAYLIGHT
TZOFFSETFROM:+0100
TZOFFSETTO:+0200
TZNAME:CEST
DTSTART:20290325T010000
END:DAYLIGHT
BEGIN:STANDARD
TZOFFSETFROM:+0200
TZOFFSETTO:+0100
TZNAME:CET
DTSTART:20291028T010000
END:STANDARD
BEGIN:DAYLIGHT
TZOFFSETFROM:+0100
TZOFFSETTO:+0200
TZNAME:CEST
DTSTART:20300331T010000
END:DAYLIGHT
BEGIN:STANDARD
TZOFFSETFROM:+0200
TZOFFSETTO:+0100
TZNAME:CET
DTSTART:20301027T010000
END:STANDARD
END:VTIMEZONE
BEGIN:VEVENT
DTSTART;TZID=Europe/Amsterdam:20281030T130000
DTEND;TZID=Europe/Amsterdam:20281030T150000
DTSTAMP:20260420T055343
CREATED:20251209T174222Z
LAST-MODIFIED:20251209T174824Z
UID:10039638-1856523600-1856530800@dehoofdzaak.org
SUMMARY:Herstelgroep 0.0 de Kop
DESCRIPTION:Bij Herstelgroep 0.0 delen we de ups en downs van ons leven in herstel. Na een worsteling met onze verslaving zijn we ondertussen een tijdje clean en is het probleem minder om uit gebruik te blijven dan om met de nieuwe situatie om te gaan. \n\n\n\nWe zijn elkaar tot steun en inspireren elkaar aan de hand van gezamenlijke thema’s. Dit in een sfeer van warmte en verbinding en onder het genot van een kopje koffie of thee. \n\n\n\nDe groep komt elke week bij elkaar behalve in de schoolvakanties.
URL:https://dehoofdzaak.org/agenda/herstelgroep-0-0-de-kop-2/2028-10-30/
LOCATION:Scagon de Luxe\, Torenstraat 1B\, Schagen\, 1741CB
CATEGORIES:Kop Noord Holland
END:VEVENT
BEGIN:VEVENT
DTSTART;TZID=Europe/Amsterdam:20281106T130000
DTEND;TZID=Europe/Amsterdam:20281106T150000
DTSTAMP:20260420T055343
CREATED:20251209T174222Z
LAST-MODIFIED:20251209T174824Z
UID:10039639-1857128400-1857135600@dehoofdzaak.org
SUMMARY:Herstelgroep 0.0 de Kop
DESCRIPTION:Bij Herstelgroep 0.0 delen we de ups en downs van ons leven in herstel. Na een worsteling met onze verslaving zijn we ondertussen een tijdje clean en is het probleem minder om uit gebruik te blijven dan om met de nieuwe situatie om te gaan. \n\n\n\nWe zijn elkaar tot steun en inspireren elkaar aan de hand van gezamenlijke thema’s. Dit in een sfeer van warmte en verbinding en onder het genot van een kopje koffie of thee. \n\n\n\nDe groep komt elke week bij elkaar behalve in de schoolvakanties.
URL:https://dehoofdzaak.org/agenda/herstelgroep-0-0-de-kop-2/2028-11-06/
LOCATION:Scagon de Luxe\, Torenstraat 1B\, Schagen\, 1741CB
CATEGORIES:Kop Noord Holland
END:VEVENT
BEGIN:VEVENT
DTSTART;TZID=Europe/Amsterdam:20281108T100000
DTEND;TZID=Europe/Amsterdam:20281108T130000
DTSTAMP:20260420T055343
CREATED:20260212T130213Z
LAST-MODIFIED:20260212T130219Z
UID:10042672-1857290400-1857301200@dehoofdzaak.org
SUMMARY:Ontmoetingspunt Schagen
DESCRIPTION:Op de woensdag in de even weken: Kom ook eens gezellig binnenlopen op onze locatie in Schagen. Je bent welkom!
URL:https://dehoofdzaak.org/agenda/ontmoetingspunt-schagen/2028-11-08/
LOCATION:Scagon de Luxe\, Torenstraat 1B\, Schagen\, 1741CB
CATEGORIES:Kop Noord Holland
END:VEVENT
BEGIN:VEVENT
DTSTART;TZID=Europe/Amsterdam:20281108T113000
DTEND;TZID=Europe/Amsterdam:20281108T130000
DTSTAMP:20260420T055343
CREATED:20260212T130120Z
LAST-MODIFIED:20260212T130124Z
UID:10042542-1857295800-1857301200@dehoofdzaak.org
SUMMARY:Schagen: creagroep 't luisterend oor'
DESCRIPTION:De groep is bedoeld voor iedereen die het leuk vindt om creatief bezig te zijn of voor als je een plek zoekt om met anderen in contact te komen. Wij zorgen ervoor dat er spullen aanwezig zijn\, zodat jij je kan concentreren op het aansluiten en meedoen. Als je er liever alleen bij wilt zitten en wilt socializen ben je zeker ook welkom. \n\n\n\nDe groep is voor alle leeftijden en wordt om de week gegeven. Ook is er natuurlijk altijd de gelegenheid om met een ervaringsdeskundige apart te zitten voor een gesprek.  \n\n\n\nLocatie: Scagon de Luxe in Schagen
URL:https://dehoofdzaak.org/agenda/schagen-creagroep-t-luisterend-oor/2028-11-08/
LOCATION:Scagon de Luxe\, Torenstraat 1B\, Schagen\, 1741CB
CATEGORIES:Kop Noord Holland
END:VEVENT
BEGIN:VEVENT
DTSTART;TZID=Europe/Amsterdam:20281113T130000
DTEND;TZID=Europe/Amsterdam:20281113T150000
DTSTAMP:20260420T055343
CREATED:20251209T174222Z
LAST-MODIFIED:20251209T174824Z
UID:10039640-1857733200-1857740400@dehoofdzaak.org
SUMMARY:Herstelgroep 0.0 de Kop
DESCRIPTION:Bij Herstelgroep 0.0 delen we de ups en downs van ons leven in herstel. Na een worsteling met onze verslaving zijn we ondertussen een tijdje clean en is het probleem minder om uit gebruik te blijven dan om met de nieuwe situatie om te gaan. \n\n\n\nWe zijn elkaar tot steun en inspireren elkaar aan de hand van gezamenlijke thema’s. Dit in een sfeer van warmte en verbinding en onder het genot van een kopje koffie of thee. \n\n\n\nDe groep komt elke week bij elkaar behalve in de schoolvakanties.
URL:https://dehoofdzaak.org/agenda/herstelgroep-0-0-de-kop-2/2028-11-13/
LOCATION:Scagon de Luxe\, Torenstraat 1B\, Schagen\, 1741CB
CATEGORIES:Kop Noord Holland
END:VEVENT
BEGIN:VEVENT
DTSTART;TZID=Europe/Amsterdam:20281120T130000
DTEND;TZID=Europe/Amsterdam:20281120T150000
DTSTAMP:20260420T055343
CREATED:20251209T174222Z
LAST-MODIFIED:20251209T174824Z
UID:10039641-1858338000-1858345200@dehoofdzaak.org
SUMMARY:Herstelgroep 0.0 de Kop
DESCRIPTION:Bij Herstelgroep 0.0 delen we de ups en downs van ons leven in herstel. Na een worsteling met onze verslaving zijn we ondertussen een tijdje clean en is het probleem minder om uit gebruik te blijven dan om met de nieuwe situatie om te gaan. \n\n\n\nWe zijn elkaar tot steun en inspireren elkaar aan de hand van gezamenlijke thema’s. Dit in een sfeer van warmte en verbinding en onder het genot van een kopje koffie of thee. \n\n\n\nDe groep komt elke week bij elkaar behalve in de schoolvakanties.
URL:https://dehoofdzaak.org/agenda/herstelgroep-0-0-de-kop-2/2028-11-20/
LOCATION:Scagon de Luxe\, Torenstraat 1B\, Schagen\, 1741CB
CATEGORIES:Kop Noord Holland
END:VEVENT
BEGIN:VEVENT
DTSTART;TZID=Europe/Amsterdam:20281122T100000
DTEND;TZID=Europe/Amsterdam:20281122T130000
DTSTAMP:20260420T055343
CREATED:20260212T130213Z
LAST-MODIFIED:20260212T130219Z
UID:10042673-1858500000-1858510800@dehoofdzaak.org
SUMMARY:Ontmoetingspunt Schagen
DESCRIPTION:Op de woensdag in de even weken: Kom ook eens gezellig binnenlopen op onze locatie in Schagen. Je bent welkom!
URL:https://dehoofdzaak.org/agenda/ontmoetingspunt-schagen/2028-11-22/
LOCATION:Scagon de Luxe\, Torenstraat 1B\, Schagen\, 1741CB
CATEGORIES:Kop Noord Holland
END:VEVENT
BEGIN:VEVENT
DTSTART;TZID=Europe/Amsterdam:20281122T113000
DTEND;TZID=Europe/Amsterdam:20281122T130000
DTSTAMP:20260420T055343
CREATED:20260212T130120Z
LAST-MODIFIED:20260212T130124Z
UID:10042543-1858505400-1858510800@dehoofdzaak.org
SUMMARY:Schagen: creagroep 't luisterend oor'
DESCRIPTION:De groep is bedoeld voor iedereen die het leuk vindt om creatief bezig te zijn of voor als je een plek zoekt om met anderen in contact te komen. Wij zorgen ervoor dat er spullen aanwezig zijn\, zodat jij je kan concentreren op het aansluiten en meedoen. Als je er liever alleen bij wilt zitten en wilt socializen ben je zeker ook welkom. \n\n\n\nDe groep is voor alle leeftijden en wordt om de week gegeven. Ook is er natuurlijk altijd de gelegenheid om met een ervaringsdeskundige apart te zitten voor een gesprek.  \n\n\n\nLocatie: Scagon de Luxe in Schagen
URL:https://dehoofdzaak.org/agenda/schagen-creagroep-t-luisterend-oor/2028-11-22/
LOCATION:Scagon de Luxe\, Torenstraat 1B\, Schagen\, 1741CB
CATEGORIES:Kop Noord Holland
END:VEVENT
BEGIN:VEVENT
DTSTART;TZID=Europe/Amsterdam:20281127T130000
DTEND;TZID=Europe/Amsterdam:20281127T150000
DTSTAMP:20260420T055343
CREATED:20251209T174222Z
LAST-MODIFIED:20251209T174824Z
UID:10039642-1858942800-1858950000@dehoofdzaak.org
SUMMARY:Herstelgroep 0.0 de Kop
DESCRIPTION:Bij Herstelgroep 0.0 delen we de ups en downs van ons leven in herstel. Na een worsteling met onze verslaving zijn we ondertussen een tijdje clean en is het probleem minder om uit gebruik te blijven dan om met de nieuwe situatie om te gaan. \n\n\n\nWe zijn elkaar tot steun en inspireren elkaar aan de hand van gezamenlijke thema’s. Dit in een sfeer van warmte en verbinding en onder het genot van een kopje koffie of thee. \n\n\n\nDe groep komt elke week bij elkaar behalve in de schoolvakanties.
URL:https://dehoofdzaak.org/agenda/herstelgroep-0-0-de-kop-2/2028-11-27/
LOCATION:Scagon de Luxe\, Torenstraat 1B\, Schagen\, 1741CB
CATEGORIES:Kop Noord Holland
END:VEVENT
BEGIN:VEVENT
DTSTART;TZID=Europe/Amsterdam:20281204T130000
DTEND;TZID=Europe/Amsterdam:20281204T150000
DTSTAMP:20260420T055343
CREATED:20251209T174222Z
LAST-MODIFIED:20251209T174824Z
UID:10039643-1859547600-1859554800@dehoofdzaak.org
SUMMARY:Herstelgroep 0.0 de Kop
DESCRIPTION:Bij Herstelgroep 0.0 delen we de ups en downs van ons leven in herstel. Na een worsteling met onze verslaving zijn we ondertussen een tijdje clean en is het probleem minder om uit gebruik te blijven dan om met de nieuwe situatie om te gaan. \n\n\n\nWe zijn elkaar tot steun en inspireren elkaar aan de hand van gezamenlijke thema’s. Dit in een sfeer van warmte en verbinding en onder het genot van een kopje koffie of thee. \n\n\n\nDe groep komt elke week bij elkaar behalve in de schoolvakanties.
URL:https://dehoofdzaak.org/agenda/herstelgroep-0-0-de-kop-2/2028-12-04/
LOCATION:Scagon de Luxe\, Torenstraat 1B\, Schagen\, 1741CB
CATEGORIES:Kop Noord Holland
END:VEVENT
BEGIN:VEVENT
DTSTART;TZID=Europe/Amsterdam:20281206T100000
DTEND;TZID=Europe/Amsterdam:20281206T130000
DTSTAMP:20260420T055343
CREATED:20260212T130213Z
LAST-MODIFIED:20260212T130219Z
UID:10042674-1859709600-1859720400@dehoofdzaak.org
SUMMARY:Ontmoetingspunt Schagen
DESCRIPTION:Op de woensdag in de even weken: Kom ook eens gezellig binnenlopen op onze locatie in Schagen. Je bent welkom!
URL:https://dehoofdzaak.org/agenda/ontmoetingspunt-schagen/2028-12-06/
LOCATION:Scagon de Luxe\, Torenstraat 1B\, Schagen\, 1741CB
CATEGORIES:Kop Noord Holland
END:VEVENT
BEGIN:VEVENT
DTSTART;TZID=Europe/Amsterdam:20281206T113000
DTEND;TZID=Europe/Amsterdam:20281206T130000
DTSTAMP:20260420T055343
CREATED:20260212T130120Z
LAST-MODIFIED:20260212T130124Z
UID:10042544-1859715000-1859720400@dehoofdzaak.org
SUMMARY:Schagen: creagroep 't luisterend oor'
DESCRIPTION:De groep is bedoeld voor iedereen die het leuk vindt om creatief bezig te zijn of voor als je een plek zoekt om met anderen in contact te komen. Wij zorgen ervoor dat er spullen aanwezig zijn\, zodat jij je kan concentreren op het aansluiten en meedoen. Als je er liever alleen bij wilt zitten en wilt socializen ben je zeker ook welkom. \n\n\n\nDe groep is voor alle leeftijden en wordt om de week gegeven. Ook is er natuurlijk altijd de gelegenheid om met een ervaringsdeskundige apart te zitten voor een gesprek.  \n\n\n\nLocatie: Scagon de Luxe in Schagen
URL:https://dehoofdzaak.org/agenda/schagen-creagroep-t-luisterend-oor/2028-12-06/
LOCATION:Scagon de Luxe\, Torenstraat 1B\, Schagen\, 1741CB
CATEGORIES:Kop Noord Holland
END:VEVENT
BEGIN:VEVENT
DTSTART;TZID=Europe/Amsterdam:20281211T130000
DTEND;TZID=Europe/Amsterdam:20281211T150000
DTSTAMP:20260420T055343
CREATED:20251209T174222Z
LAST-MODIFIED:20251209T174824Z
UID:10039644-1860152400-1860159600@dehoofdzaak.org
SUMMARY:Herstelgroep 0.0 de Kop
DESCRIPTION:Bij Herstelgroep 0.0 delen we de ups en downs van ons leven in herstel. Na een worsteling met onze verslaving zijn we ondertussen een tijdje clean en is het probleem minder om uit gebruik te blijven dan om met de nieuwe situatie om te gaan. \n\n\n\nWe zijn elkaar tot steun en inspireren elkaar aan de hand van gezamenlijke thema’s. Dit in een sfeer van warmte en verbinding en onder het genot van een kopje koffie of thee. \n\n\n\nDe groep komt elke week bij elkaar behalve in de schoolvakanties.
URL:https://dehoofdzaak.org/agenda/herstelgroep-0-0-de-kop-2/2028-12-11/
LOCATION:Scagon de Luxe\, Torenstraat 1B\, Schagen\, 1741CB
CATEGORIES:Kop Noord Holland
END:VEVENT
BEGIN:VEVENT
DTSTART;TZID=Europe/Amsterdam:20281218T130000
DTEND;TZID=Europe/Amsterdam:20281218T150000
DTSTAMP:20260420T055343
CREATED:20251209T174222Z
LAST-MODIFIED:20251209T174824Z
UID:10039645-1860757200-1860764400@dehoofdzaak.org
SUMMARY:Herstelgroep 0.0 de Kop
DESCRIPTION:Bij Herstelgroep 0.0 delen we de ups en downs van ons leven in herstel. Na een worsteling met onze verslaving zijn we ondertussen een tijdje clean en is het probleem minder om uit gebruik te blijven dan om met de nieuwe situatie om te gaan. \n\n\n\nWe zijn elkaar tot steun en inspireren elkaar aan de hand van gezamenlijke thema’s. Dit in een sfeer van warmte en verbinding en onder het genot van een kopje koffie of thee. \n\n\n\nDe groep komt elke week bij elkaar behalve in de schoolvakanties.
URL:https://dehoofdzaak.org/agenda/herstelgroep-0-0-de-kop-2/2028-12-18/
LOCATION:Scagon de Luxe\, Torenstraat 1B\, Schagen\, 1741CB
CATEGORIES:Kop Noord Holland
END:VEVENT
BEGIN:VEVENT
DTSTART;TZID=Europe/Amsterdam:20281220T100000
DTEND;TZID=Europe/Amsterdam:20281220T130000
DTSTAMP:20260420T055343
CREATED:20260212T130213Z
LAST-MODIFIED:20260212T130219Z
UID:10042675-1860919200-1860930000@dehoofdzaak.org
SUMMARY:Ontmoetingspunt Schagen
DESCRIPTION:Op de woensdag in de even weken: Kom ook eens gezellig binnenlopen op onze locatie in Schagen. Je bent welkom!
URL:https://dehoofdzaak.org/agenda/ontmoetingspunt-schagen/2028-12-20/
LOCATION:Scagon de Luxe\, Torenstraat 1B\, Schagen\, 1741CB
CATEGORIES:Kop Noord Holland
END:VEVENT
BEGIN:VEVENT
DTSTART;TZID=Europe/Amsterdam:20281220T113000
DTEND;TZID=Europe/Amsterdam:20281220T130000
DTSTAMP:20260420T055343
CREATED:20260212T130120Z
LAST-MODIFIED:20260212T130124Z
UID:10042545-1860924600-1860930000@dehoofdzaak.org
SUMMARY:Schagen: creagroep 't luisterend oor'
DESCRIPTION:De groep is bedoeld voor iedereen die het leuk vindt om creatief bezig te zijn of voor als je een plek zoekt om met anderen in contact te komen. Wij zorgen ervoor dat er spullen aanwezig zijn\, zodat jij je kan concentreren op het aansluiten en meedoen. Als je er liever alleen bij wilt zitten en wilt socializen ben je zeker ook welkom. \n\n\n\nDe groep is voor alle leeftijden en wordt om de week gegeven. Ook is er natuurlijk altijd de gelegenheid om met een ervaringsdeskundige apart te zitten voor een gesprek.  \n\n\n\nLocatie: Scagon de Luxe in Schagen
URL:https://dehoofdzaak.org/agenda/schagen-creagroep-t-luisterend-oor/2028-12-20/
LOCATION:Scagon de Luxe\, Torenstraat 1B\, Schagen\, 1741CB
CATEGORIES:Kop Noord Holland
END:VEVENT
BEGIN:VEVENT
DTSTART;TZID=Europe/Amsterdam:20281225T130000
DTEND;TZID=Europe/Amsterdam:20281225T150000
DTSTAMP:20260420T055343
CREATED:20251209T174222Z
LAST-MODIFIED:20251209T174824Z
UID:10039646-1861362000-1861369200@dehoofdzaak.org
SUMMARY:Herstelgroep 0.0 de Kop
DESCRIPTION:Bij Herstelgroep 0.0 delen we de ups en downs van ons leven in herstel. Na een worsteling met onze verslaving zijn we ondertussen een tijdje clean en is het probleem minder om uit gebruik te blijven dan om met de nieuwe situatie om te gaan. \n\n\n\nWe zijn elkaar tot steun en inspireren elkaar aan de hand van gezamenlijke thema’s. Dit in een sfeer van warmte en verbinding en onder het genot van een kopje koffie of thee. \n\n\n\nDe groep komt elke week bij elkaar behalve in de schoolvakanties.
URL:https://dehoofdzaak.org/agenda/herstelgroep-0-0-de-kop-2/2028-12-25/
LOCATION:Scagon de Luxe\, Torenstraat 1B\, Schagen\, 1741CB
CATEGORIES:Kop Noord Holland
END:VEVENT
BEGIN:VEVENT
DTSTART;TZID=Europe/Amsterdam:20290101T130000
DTEND;TZID=Europe/Amsterdam:20290101T150000
DTSTAMP:20260420T055343
CREATED:20251209T174222Z
LAST-MODIFIED:20251209T174824Z
UID:10039647-1861966800-1861974000@dehoofdzaak.org
SUMMARY:Herstelgroep 0.0 de Kop
DESCRIPTION:Bij Herstelgroep 0.0 delen we de ups en downs van ons leven in herstel. Na een worsteling met onze verslaving zijn we ondertussen een tijdje clean en is het probleem minder om uit gebruik te blijven dan om met de nieuwe situatie om te gaan. \n\n\n\nWe zijn elkaar tot steun en inspireren elkaar aan de hand van gezamenlijke thema’s. Dit in een sfeer van warmte en verbinding en onder het genot van een kopje koffie of thee. \n\n\n\nDe groep komt elke week bij elkaar behalve in de schoolvakanties.
URL:https://dehoofdzaak.org/agenda/herstelgroep-0-0-de-kop-2/2029-01-01/
LOCATION:Scagon de Luxe\, Torenstraat 1B\, Schagen\, 1741CB
CATEGORIES:Kop Noord Holland
END:VEVENT
BEGIN:VEVENT
DTSTART;TZID=Europe/Amsterdam:20290103T100000
DTEND;TZID=Europe/Amsterdam:20290103T130000
DTSTAMP:20260420T055343
CREATED:20260212T130213Z
LAST-MODIFIED:20260212T130219Z
UID:10042676-1862128800-1862139600@dehoofdzaak.org
SUMMARY:Ontmoetingspunt Schagen
DESCRIPTION:Op de woensdag in de even weken: Kom ook eens gezellig binnenlopen op onze locatie in Schagen. Je bent welkom!
URL:https://dehoofdzaak.org/agenda/ontmoetingspunt-schagen/2029-01-03/
LOCATION:Scagon de Luxe\, Torenstraat 1B\, Schagen\, 1741CB
CATEGORIES:Kop Noord Holland
END:VEVENT
BEGIN:VEVENT
DTSTART;TZID=Europe/Amsterdam:20290103T113000
DTEND;TZID=Europe/Amsterdam:20290103T130000
DTSTAMP:20260420T055343
CREATED:20260212T130120Z
LAST-MODIFIED:20260212T130124Z
UID:10042546-1862134200-1862139600@dehoofdzaak.org
SUMMARY:Schagen: creagroep 't luisterend oor'
DESCRIPTION:De groep is bedoeld voor iedereen die het leuk vindt om creatief bezig te zijn of voor als je een plek zoekt om met anderen in contact te komen. Wij zorgen ervoor dat er spullen aanwezig zijn\, zodat jij je kan concentreren op het aansluiten en meedoen. Als je er liever alleen bij wilt zitten en wilt socializen ben je zeker ook welkom. \n\n\n\nDe groep is voor alle leeftijden en wordt om de week gegeven. Ook is er natuurlijk altijd de gelegenheid om met een ervaringsdeskundige apart te zitten voor een gesprek.  \n\n\n\nLocatie: Scagon de Luxe in Schagen
URL:https://dehoofdzaak.org/agenda/schagen-creagroep-t-luisterend-oor/2029-01-03/
LOCATION:Scagon de Luxe\, Torenstraat 1B\, Schagen\, 1741CB
CATEGORIES:Kop Noord Holland
END:VEVENT
BEGIN:VEVENT
DTSTART;TZID=Europe/Amsterdam:20290108T130000
DTEND;TZID=Europe/Amsterdam:20290108T150000
DTSTAMP:20260420T055343
CREATED:20251209T174222Z
LAST-MODIFIED:20251209T174824Z
UID:10039648-1862571600-1862578800@dehoofdzaak.org
SUMMARY:Herstelgroep 0.0 de Kop
DESCRIPTION:Bij Herstelgroep 0.0 delen we de ups en downs van ons leven in herstel. Na een worsteling met onze verslaving zijn we ondertussen een tijdje clean en is het probleem minder om uit gebruik te blijven dan om met de nieuwe situatie om te gaan. \n\n\n\nWe zijn elkaar tot steun en inspireren elkaar aan de hand van gezamenlijke thema’s. Dit in een sfeer van warmte en verbinding en onder het genot van een kopje koffie of thee. \n\n\n\nDe groep komt elke week bij elkaar behalve in de schoolvakanties.
URL:https://dehoofdzaak.org/agenda/herstelgroep-0-0-de-kop-2/2029-01-08/
LOCATION:Scagon de Luxe\, Torenstraat 1B\, Schagen\, 1741CB
CATEGORIES:Kop Noord Holland
END:VEVENT
BEGIN:VEVENT
DTSTART;TZID=Europe/Amsterdam:20290115T130000
DTEND;TZID=Europe/Amsterdam:20290115T150000
DTSTAMP:20260420T055343
CREATED:20251209T174222Z
LAST-MODIFIED:20251209T174824Z
UID:10039649-1863176400-1863183600@dehoofdzaak.org
SUMMARY:Herstelgroep 0.0 de Kop
DESCRIPTION:Bij Herstelgroep 0.0 delen we de ups en downs van ons leven in herstel. Na een worsteling met onze verslaving zijn we ondertussen een tijdje clean en is het probleem minder om uit gebruik te blijven dan om met de nieuwe situatie om te gaan. \n\n\n\nWe zijn elkaar tot steun en inspireren elkaar aan de hand van gezamenlijke thema’s. Dit in een sfeer van warmte en verbinding en onder het genot van een kopje koffie of thee. \n\n\n\nDe groep komt elke week bij elkaar behalve in de schoolvakanties.
URL:https://dehoofdzaak.org/agenda/herstelgroep-0-0-de-kop-2/2029-01-15/
LOCATION:Scagon de Luxe\, Torenstraat 1B\, Schagen\, 1741CB
CATEGORIES:Kop Noord Holland
END:VEVENT
BEGIN:VEVENT
DTSTART;TZID=Europe/Amsterdam:20290117T100000
DTEND;TZID=Europe/Amsterdam:20290117T130000
DTSTAMP:20260420T055343
CREATED:20260212T130213Z
LAST-MODIFIED:20260212T130219Z
UID:10042677-1863338400-1863349200@dehoofdzaak.org
SUMMARY:Ontmoetingspunt Schagen
DESCRIPTION:Op de woensdag in de even weken: Kom ook eens gezellig binnenlopen op onze locatie in Schagen. Je bent welkom!
URL:https://dehoofdzaak.org/agenda/ontmoetingspunt-schagen/2029-01-17/
LOCATION:Scagon de Luxe\, Torenstraat 1B\, Schagen\, 1741CB
CATEGORIES:Kop Noord Holland
END:VEVENT
BEGIN:VEVENT
DTSTART;TZID=Europe/Amsterdam:20290117T113000
DTEND;TZID=Europe/Amsterdam:20290117T130000
DTSTAMP:20260420T055343
CREATED:20260212T130120Z
LAST-MODIFIED:20260212T130124Z
UID:10042547-1863343800-1863349200@dehoofdzaak.org
SUMMARY:Schagen: creagroep 't luisterend oor'
DESCRIPTION:De groep is bedoeld voor iedereen die het leuk vindt om creatief bezig te zijn of voor als je een plek zoekt om met anderen in contact te komen. Wij zorgen ervoor dat er spullen aanwezig zijn\, zodat jij je kan concentreren op het aansluiten en meedoen. Als je er liever alleen bij wilt zitten en wilt socializen ben je zeker ook welkom. \n\n\n\nDe groep is voor alle leeftijden en wordt om de week gegeven. Ook is er natuurlijk altijd de gelegenheid om met een ervaringsdeskundige apart te zitten voor een gesprek.  \n\n\n\nLocatie: Scagon de Luxe in Schagen
URL:https://dehoofdzaak.org/agenda/schagen-creagroep-t-luisterend-oor/2029-01-17/
LOCATION:Scagon de Luxe\, Torenstraat 1B\, Schagen\, 1741CB
CATEGORIES:Kop Noord Holland
END:VEVENT
BEGIN:VEVENT
DTSTART;TZID=Europe/Amsterdam:20290122T130000
DTEND;TZID=Europe/Amsterdam:20290122T150000
DTSTAMP:20260420T055343
CREATED:20251209T174222Z
LAST-MODIFIED:20251209T174824Z
UID:10039650-1863781200-1863788400@dehoofdzaak.org
SUMMARY:Herstelgroep 0.0 de Kop
DESCRIPTION:Bij Herstelgroep 0.0 delen we de ups en downs van ons leven in herstel. Na een worsteling met onze verslaving zijn we ondertussen een tijdje clean en is het probleem minder om uit gebruik te blijven dan om met de nieuwe situatie om te gaan. \n\n\n\nWe zijn elkaar tot steun en inspireren elkaar aan de hand van gezamenlijke thema’s. Dit in een sfeer van warmte en verbinding en onder het genot van een kopje koffie of thee. \n\n\n\nDe groep komt elke week bij elkaar behalve in de schoolvakanties.
URL:https://dehoofdzaak.org/agenda/herstelgroep-0-0-de-kop-2/2029-01-22/
LOCATION:Scagon de Luxe\, Torenstraat 1B\, Schagen\, 1741CB
CATEGORIES:Kop Noord Holland
END:VEVENT
BEGIN:VEVENT
DTSTART;TZID=Europe/Amsterdam:20290129T130000
DTEND;TZID=Europe/Amsterdam:20290129T150000
DTSTAMP:20260420T055343
CREATED:20251209T174222Z
LAST-MODIFIED:20251209T174824Z
UID:10039651-1864386000-1864393200@dehoofdzaak.org
SUMMARY:Herstelgroep 0.0 de Kop
DESCRIPTION:Bij Herstelgroep 0.0 delen we de ups en downs van ons leven in herstel. Na een worsteling met onze verslaving zijn we ondertussen een tijdje clean en is het probleem minder om uit gebruik te blijven dan om met de nieuwe situatie om te gaan. \n\n\n\nWe zijn elkaar tot steun en inspireren elkaar aan de hand van gezamenlijke thema’s. Dit in een sfeer van warmte en verbinding en onder het genot van een kopje koffie of thee. \n\n\n\nDe groep komt elke week bij elkaar behalve in de schoolvakanties.
URL:https://dehoofdzaak.org/agenda/herstelgroep-0-0-de-kop-2/2029-01-29/
LOCATION:Scagon de Luxe\, Torenstraat 1B\, Schagen\, 1741CB
CATEGORIES:Kop Noord Holland
END:VEVENT
BEGIN:VEVENT
DTSTART;TZID=Europe/Amsterdam:20290131T100000
DTEND;TZID=Europe/Amsterdam:20290131T130000
DTSTAMP:20260420T055343
CREATED:20260212T130213Z
LAST-MODIFIED:20260212T130219Z
UID:10042678-1864548000-1864558800@dehoofdzaak.org
SUMMARY:Ontmoetingspunt Schagen
DESCRIPTION:Op de woensdag in de even weken: Kom ook eens gezellig binnenlopen op onze locatie in Schagen. Je bent welkom!
URL:https://dehoofdzaak.org/agenda/ontmoetingspunt-schagen/2029-01-31/
LOCATION:Scagon de Luxe\, Torenstraat 1B\, Schagen\, 1741CB
CATEGORIES:Kop Noord Holland
END:VEVENT
BEGIN:VEVENT
DTSTART;TZID=Europe/Amsterdam:20290131T113000
DTEND;TZID=Europe/Amsterdam:20290131T130000
DTSTAMP:20260420T055343
CREATED:20260212T130120Z
LAST-MODIFIED:20260212T130124Z
UID:10042548-1864553400-1864558800@dehoofdzaak.org
SUMMARY:Schagen: creagroep 't luisterend oor'
DESCRIPTION:De groep is bedoeld voor iedereen die het leuk vindt om creatief bezig te zijn of voor als je een plek zoekt om met anderen in contact te komen. Wij zorgen ervoor dat er spullen aanwezig zijn\, zodat jij je kan concentreren op het aansluiten en meedoen. Als je er liever alleen bij wilt zitten en wilt socializen ben je zeker ook welkom. \n\n\n\nDe groep is voor alle leeftijden en wordt om de week gegeven. Ook is er natuurlijk altijd de gelegenheid om met een ervaringsdeskundige apart te zitten voor een gesprek.  \n\n\n\nLocatie: Scagon de Luxe in Schagen
URL:https://dehoofdzaak.org/agenda/schagen-creagroep-t-luisterend-oor/2029-01-31/
LOCATION:Scagon de Luxe\, Torenstraat 1B\, Schagen\, 1741CB
CATEGORIES:Kop Noord Holland
END:VEVENT
BEGIN:VEVENT
DTSTART;TZID=Europe/Amsterdam:20290205T130000
DTEND;TZID=Europe/Amsterdam:20290205T150000
DTSTAMP:20260420T055343
CREATED:20251209T174222Z
LAST-MODIFIED:20251209T174824Z
UID:10039652-1864990800-1864998000@dehoofdzaak.org
SUMMARY:Herstelgroep 0.0 de Kop
DESCRIPTION:Bij Herstelgroep 0.0 delen we de ups en downs van ons leven in herstel. Na een worsteling met onze verslaving zijn we ondertussen een tijdje clean en is het probleem minder om uit gebruik te blijven dan om met de nieuwe situatie om te gaan. \n\n\n\nWe zijn elkaar tot steun en inspireren elkaar aan de hand van gezamenlijke thema’s. Dit in een sfeer van warmte en verbinding en onder het genot van een kopje koffie of thee. \n\n\n\nDe groep komt elke week bij elkaar behalve in de schoolvakanties.
URL:https://dehoofdzaak.org/agenda/herstelgroep-0-0-de-kop-2/2029-02-05/
LOCATION:Scagon de Luxe\, Torenstraat 1B\, Schagen\, 1741CB
CATEGORIES:Kop Noord Holland
END:VEVENT
BEGIN:VEVENT
DTSTART;TZID=Europe/Amsterdam:20290212T130000
DTEND;TZID=Europe/Amsterdam:20290212T150000
DTSTAMP:20260420T055343
CREATED:20251209T174222Z
LAST-MODIFIED:20251209T174824Z
UID:10039653-1865595600-1865602800@dehoofdzaak.org
SUMMARY:Herstelgroep 0.0 de Kop
DESCRIPTION:Bij Herstelgroep 0.0 delen we de ups en downs van ons leven in herstel. Na een worsteling met onze verslaving zijn we ondertussen een tijdje clean en is het probleem minder om uit gebruik te blijven dan om met de nieuwe situatie om te gaan. \n\n\n\nWe zijn elkaar tot steun en inspireren elkaar aan de hand van gezamenlijke thema’s. Dit in een sfeer van warmte en verbinding en onder het genot van een kopje koffie of thee. \n\n\n\nDe groep komt elke week bij elkaar behalve in de schoolvakanties.
URL:https://dehoofdzaak.org/agenda/herstelgroep-0-0-de-kop-2/2029-02-12/
LOCATION:Scagon de Luxe\, Torenstraat 1B\, Schagen\, 1741CB
CATEGORIES:Kop Noord Holland
END:VEVENT
END:VCALENDAR