BEGIN:VCALENDAR
VERSION:2.0
PRODID:-//De Hoofdzaak - ECPv6.15.20//NONSGML v1.0//EN
CALSCALE:GREGORIAN
METHOD:PUBLISH
X-WR-CALNAME:De Hoofdzaak
X-ORIGINAL-URL:https://dehoofdzaak.org
X-WR-CALDESC:Evenementen voor De Hoofdzaak
REFRESH-INTERVAL;VALUE=DURATION:PT1H
X-Robots-Tag:noindex
X-PUBLISHED-TTL:PT1H
BEGIN:VTIMEZONE
TZID:Europe/Amsterdam
BEGIN:DAYLIGHT
TZOFFSETFROM:+0100
TZOFFSETTO:+0200
TZNAME:CEST
DTSTART:20280326T010000
END:DAYLIGHT
BEGIN:STANDARD
TZOFFSETFROM:+0200
TZOFFSETTO:+0100
TZNAME:CET
DTSTART:20281029T010000
END:STANDARD
BEGIN:DAYLIGHT
TZOFFSETFROM:+0100
TZOFFSETTO:+0200
TZNAME:CEST
DTSTART:20290325T010000
END:DAYLIGHT
BEGIN:STANDARD
TZOFFSETFROM:+0200
TZOFFSETTO:+0100
TZNAME:CET
DTSTART:20291028T010000
END:STANDARD
BEGIN:DAYLIGHT
TZOFFSETFROM:+0100
TZOFFSETTO:+0200
TZNAME:CEST
DTSTART:20300331T010000
END:DAYLIGHT
BEGIN:STANDARD
TZOFFSETFROM:+0200
TZOFFSETTO:+0100
TZNAME:CET
DTSTART:20301027T010000
END:STANDARD
END:VTIMEZONE
BEGIN:VEVENT
DTSTART;TZID=Europe/Amsterdam:20290122T130000
DTEND;TZID=Europe/Amsterdam:20290122T150000
DTSTAMP:20260420T093743
CREATED:20251209T174222Z
LAST-MODIFIED:20251209T174824Z
UID:10039650-1863781200-1863788400@dehoofdzaak.org
SUMMARY:Herstelgroep 0.0 de Kop
DESCRIPTION:Bij Herstelgroep 0.0 delen we de ups en downs van ons leven in herstel. Na een worsteling met onze verslaving zijn we ondertussen een tijdje clean en is het probleem minder om uit gebruik te blijven dan om met de nieuwe situatie om te gaan. \n\n\n\nWe zijn elkaar tot steun en inspireren elkaar aan de hand van gezamenlijke thema’s. Dit in een sfeer van warmte en verbinding en onder het genot van een kopje koffie of thee. \n\n\n\nDe groep komt elke week bij elkaar behalve in de schoolvakanties.
URL:https://dehoofdzaak.org/agenda/herstelgroep-0-0-de-kop-2/2029-01-22/
LOCATION:Scagon de Luxe\, Torenstraat 1B\, Schagen\, 1741CB
CATEGORIES:Kop Noord Holland
END:VEVENT
BEGIN:VEVENT
DTSTART;TZID=Europe/Amsterdam:20290129T130000
DTEND;TZID=Europe/Amsterdam:20290129T150000
DTSTAMP:20260420T093743
CREATED:20251209T174222Z
LAST-MODIFIED:20251209T174824Z
UID:10039651-1864386000-1864393200@dehoofdzaak.org
SUMMARY:Herstelgroep 0.0 de Kop
DESCRIPTION:Bij Herstelgroep 0.0 delen we de ups en downs van ons leven in herstel. Na een worsteling met onze verslaving zijn we ondertussen een tijdje clean en is het probleem minder om uit gebruik te blijven dan om met de nieuwe situatie om te gaan. \n\n\n\nWe zijn elkaar tot steun en inspireren elkaar aan de hand van gezamenlijke thema’s. Dit in een sfeer van warmte en verbinding en onder het genot van een kopje koffie of thee. \n\n\n\nDe groep komt elke week bij elkaar behalve in de schoolvakanties.
URL:https://dehoofdzaak.org/agenda/herstelgroep-0-0-de-kop-2/2029-01-29/
LOCATION:Scagon de Luxe\, Torenstraat 1B\, Schagen\, 1741CB
CATEGORIES:Kop Noord Holland
END:VEVENT
BEGIN:VEVENT
DTSTART;TZID=Europe/Amsterdam:20290131T100000
DTEND;TZID=Europe/Amsterdam:20290131T130000
DTSTAMP:20260420T093743
CREATED:20260212T130213Z
LAST-MODIFIED:20260212T130219Z
UID:10042678-1864548000-1864558800@dehoofdzaak.org
SUMMARY:Ontmoetingspunt Schagen
DESCRIPTION:Op de woensdag in de even weken: Kom ook eens gezellig binnenlopen op onze locatie in Schagen. Je bent welkom!
URL:https://dehoofdzaak.org/agenda/ontmoetingspunt-schagen/2029-01-31/
LOCATION:Scagon de Luxe\, Torenstraat 1B\, Schagen\, 1741CB
CATEGORIES:Kop Noord Holland
END:VEVENT
BEGIN:VEVENT
DTSTART;TZID=Europe/Amsterdam:20290131T113000
DTEND;TZID=Europe/Amsterdam:20290131T130000
DTSTAMP:20260420T093743
CREATED:20260212T130120Z
LAST-MODIFIED:20260212T130124Z
UID:10042548-1864553400-1864558800@dehoofdzaak.org
SUMMARY:Schagen: creagroep 't luisterend oor'
DESCRIPTION:De groep is bedoeld voor iedereen die het leuk vindt om creatief bezig te zijn of voor als je een plek zoekt om met anderen in contact te komen. Wij zorgen ervoor dat er spullen aanwezig zijn\, zodat jij je kan concentreren op het aansluiten en meedoen. Als je er liever alleen bij wilt zitten en wilt socializen ben je zeker ook welkom. \n\n\n\nDe groep is voor alle leeftijden en wordt om de week gegeven. Ook is er natuurlijk altijd de gelegenheid om met een ervaringsdeskundige apart te zitten voor een gesprek.  \n\n\n\nLocatie: Scagon de Luxe in Schagen
URL:https://dehoofdzaak.org/agenda/schagen-creagroep-t-luisterend-oor/2029-01-31/
LOCATION:Scagon de Luxe\, Torenstraat 1B\, Schagen\, 1741CB
CATEGORIES:Kop Noord Holland
END:VEVENT
BEGIN:VEVENT
DTSTART;TZID=Europe/Amsterdam:20290205T130000
DTEND;TZID=Europe/Amsterdam:20290205T150000
DTSTAMP:20260420T093743
CREATED:20251209T174222Z
LAST-MODIFIED:20251209T174824Z
UID:10039652-1864990800-1864998000@dehoofdzaak.org
SUMMARY:Herstelgroep 0.0 de Kop
DESCRIPTION:Bij Herstelgroep 0.0 delen we de ups en downs van ons leven in herstel. Na een worsteling met onze verslaving zijn we ondertussen een tijdje clean en is het probleem minder om uit gebruik te blijven dan om met de nieuwe situatie om te gaan. \n\n\n\nWe zijn elkaar tot steun en inspireren elkaar aan de hand van gezamenlijke thema’s. Dit in een sfeer van warmte en verbinding en onder het genot van een kopje koffie of thee. \n\n\n\nDe groep komt elke week bij elkaar behalve in de schoolvakanties.
URL:https://dehoofdzaak.org/agenda/herstelgroep-0-0-de-kop-2/2029-02-05/
LOCATION:Scagon de Luxe\, Torenstraat 1B\, Schagen\, 1741CB
CATEGORIES:Kop Noord Holland
END:VEVENT
BEGIN:VEVENT
DTSTART;TZID=Europe/Amsterdam:20290212T130000
DTEND;TZID=Europe/Amsterdam:20290212T150000
DTSTAMP:20260420T093743
CREATED:20251209T174222Z
LAST-MODIFIED:20251209T174824Z
UID:10039653-1865595600-1865602800@dehoofdzaak.org
SUMMARY:Herstelgroep 0.0 de Kop
DESCRIPTION:Bij Herstelgroep 0.0 delen we de ups en downs van ons leven in herstel. Na een worsteling met onze verslaving zijn we ondertussen een tijdje clean en is het probleem minder om uit gebruik te blijven dan om met de nieuwe situatie om te gaan. \n\n\n\nWe zijn elkaar tot steun en inspireren elkaar aan de hand van gezamenlijke thema’s. Dit in een sfeer van warmte en verbinding en onder het genot van een kopje koffie of thee. \n\n\n\nDe groep komt elke week bij elkaar behalve in de schoolvakanties.
URL:https://dehoofdzaak.org/agenda/herstelgroep-0-0-de-kop-2/2029-02-12/
LOCATION:Scagon de Luxe\, Torenstraat 1B\, Schagen\, 1741CB
CATEGORIES:Kop Noord Holland
END:VEVENT
BEGIN:VEVENT
DTSTART;TZID=Europe/Amsterdam:20290214T100000
DTEND;TZID=Europe/Amsterdam:20290214T130000
DTSTAMP:20260420T093743
CREATED:20260212T130213Z
LAST-MODIFIED:20260212T130219Z
UID:10042679-1865757600-1865768400@dehoofdzaak.org
SUMMARY:Ontmoetingspunt Schagen
DESCRIPTION:Op de woensdag in de even weken: Kom ook eens gezellig binnenlopen op onze locatie in Schagen. Je bent welkom!
URL:https://dehoofdzaak.org/agenda/ontmoetingspunt-schagen/2029-02-14/
LOCATION:Scagon de Luxe\, Torenstraat 1B\, Schagen\, 1741CB
CATEGORIES:Kop Noord Holland
END:VEVENT
BEGIN:VEVENT
DTSTART;TZID=Europe/Amsterdam:20290214T113000
DTEND;TZID=Europe/Amsterdam:20290214T130000
DTSTAMP:20260420T093743
CREATED:20260212T130120Z
LAST-MODIFIED:20260212T130124Z
UID:10042549-1865763000-1865768400@dehoofdzaak.org
SUMMARY:Schagen: creagroep 't luisterend oor'
DESCRIPTION:De groep is bedoeld voor iedereen die het leuk vindt om creatief bezig te zijn of voor als je een plek zoekt om met anderen in contact te komen. Wij zorgen ervoor dat er spullen aanwezig zijn\, zodat jij je kan concentreren op het aansluiten en meedoen. Als je er liever alleen bij wilt zitten en wilt socializen ben je zeker ook welkom. \n\n\n\nDe groep is voor alle leeftijden en wordt om de week gegeven. Ook is er natuurlijk altijd de gelegenheid om met een ervaringsdeskundige apart te zitten voor een gesprek.  \n\n\n\nLocatie: Scagon de Luxe in Schagen
URL:https://dehoofdzaak.org/agenda/schagen-creagroep-t-luisterend-oor/2029-02-14/
LOCATION:Scagon de Luxe\, Torenstraat 1B\, Schagen\, 1741CB
CATEGORIES:Kop Noord Holland
END:VEVENT
BEGIN:VEVENT
DTSTART;TZID=Europe/Amsterdam:20290219T130000
DTEND;TZID=Europe/Amsterdam:20290219T150000
DTSTAMP:20260420T093743
CREATED:20251209T174222Z
LAST-MODIFIED:20251209T174824Z
UID:10039654-1866200400-1866207600@dehoofdzaak.org
SUMMARY:Herstelgroep 0.0 de Kop
DESCRIPTION:Bij Herstelgroep 0.0 delen we de ups en downs van ons leven in herstel. Na een worsteling met onze verslaving zijn we ondertussen een tijdje clean en is het probleem minder om uit gebruik te blijven dan om met de nieuwe situatie om te gaan. \n\n\n\nWe zijn elkaar tot steun en inspireren elkaar aan de hand van gezamenlijke thema’s. Dit in een sfeer van warmte en verbinding en onder het genot van een kopje koffie of thee. \n\n\n\nDe groep komt elke week bij elkaar behalve in de schoolvakanties.
URL:https://dehoofdzaak.org/agenda/herstelgroep-0-0-de-kop-2/2029-02-19/
LOCATION:Scagon de Luxe\, Torenstraat 1B\, Schagen\, 1741CB
CATEGORIES:Kop Noord Holland
END:VEVENT
BEGIN:VEVENT
DTSTART;TZID=Europe/Amsterdam:20290226T130000
DTEND;TZID=Europe/Amsterdam:20290226T150000
DTSTAMP:20260420T093743
CREATED:20251209T174222Z
LAST-MODIFIED:20251209T174824Z
UID:10039655-1866805200-1866812400@dehoofdzaak.org
SUMMARY:Herstelgroep 0.0 de Kop
DESCRIPTION:Bij Herstelgroep 0.0 delen we de ups en downs van ons leven in herstel. Na een worsteling met onze verslaving zijn we ondertussen een tijdje clean en is het probleem minder om uit gebruik te blijven dan om met de nieuwe situatie om te gaan. \n\n\n\nWe zijn elkaar tot steun en inspireren elkaar aan de hand van gezamenlijke thema’s. Dit in een sfeer van warmte en verbinding en onder het genot van een kopje koffie of thee. \n\n\n\nDe groep komt elke week bij elkaar behalve in de schoolvakanties.
URL:https://dehoofdzaak.org/agenda/herstelgroep-0-0-de-kop-2/2029-02-26/
LOCATION:Scagon de Luxe\, Torenstraat 1B\, Schagen\, 1741CB
CATEGORIES:Kop Noord Holland
END:VEVENT
BEGIN:VEVENT
DTSTART;TZID=Europe/Amsterdam:20290228T100000
DTEND;TZID=Europe/Amsterdam:20290228T130000
DTSTAMP:20260420T093743
CREATED:20260212T130213Z
LAST-MODIFIED:20260212T130219Z
UID:10042680-1866967200-1866978000@dehoofdzaak.org
SUMMARY:Ontmoetingspunt Schagen
DESCRIPTION:Op de woensdag in de even weken: Kom ook eens gezellig binnenlopen op onze locatie in Schagen. Je bent welkom!
URL:https://dehoofdzaak.org/agenda/ontmoetingspunt-schagen/2029-02-28/
LOCATION:Scagon de Luxe\, Torenstraat 1B\, Schagen\, 1741CB
CATEGORIES:Kop Noord Holland
END:VEVENT
BEGIN:VEVENT
DTSTART;TZID=Europe/Amsterdam:20290228T113000
DTEND;TZID=Europe/Amsterdam:20290228T130000
DTSTAMP:20260420T093743
CREATED:20260212T130120Z
LAST-MODIFIED:20260212T130124Z
UID:10042550-1866972600-1866978000@dehoofdzaak.org
SUMMARY:Schagen: creagroep 't luisterend oor'
DESCRIPTION:De groep is bedoeld voor iedereen die het leuk vindt om creatief bezig te zijn of voor als je een plek zoekt om met anderen in contact te komen. Wij zorgen ervoor dat er spullen aanwezig zijn\, zodat jij je kan concentreren op het aansluiten en meedoen. Als je er liever alleen bij wilt zitten en wilt socializen ben je zeker ook welkom. \n\n\n\nDe groep is voor alle leeftijden en wordt om de week gegeven. Ook is er natuurlijk altijd de gelegenheid om met een ervaringsdeskundige apart te zitten voor een gesprek.  \n\n\n\nLocatie: Scagon de Luxe in Schagen
URL:https://dehoofdzaak.org/agenda/schagen-creagroep-t-luisterend-oor/2029-02-28/
LOCATION:Scagon de Luxe\, Torenstraat 1B\, Schagen\, 1741CB
CATEGORIES:Kop Noord Holland
END:VEVENT
BEGIN:VEVENT
DTSTART;TZID=Europe/Amsterdam:20290305T130000
DTEND;TZID=Europe/Amsterdam:20290305T150000
DTSTAMP:20260420T093743
CREATED:20251209T174222Z
LAST-MODIFIED:20251209T174824Z
UID:10039656-1867410000-1867417200@dehoofdzaak.org
SUMMARY:Herstelgroep 0.0 de Kop
DESCRIPTION:Bij Herstelgroep 0.0 delen we de ups en downs van ons leven in herstel. Na een worsteling met onze verslaving zijn we ondertussen een tijdje clean en is het probleem minder om uit gebruik te blijven dan om met de nieuwe situatie om te gaan. \n\n\n\nWe zijn elkaar tot steun en inspireren elkaar aan de hand van gezamenlijke thema’s. Dit in een sfeer van warmte en verbinding en onder het genot van een kopje koffie of thee. \n\n\n\nDe groep komt elke week bij elkaar behalve in de schoolvakanties.
URL:https://dehoofdzaak.org/agenda/herstelgroep-0-0-de-kop-2/2029-03-05/
LOCATION:Scagon de Luxe\, Torenstraat 1B\, Schagen\, 1741CB
CATEGORIES:Kop Noord Holland
END:VEVENT
BEGIN:VEVENT
DTSTART;TZID=Europe/Amsterdam:20290312T130000
DTEND;TZID=Europe/Amsterdam:20290312T150000
DTSTAMP:20260420T093743
CREATED:20251209T174222Z
LAST-MODIFIED:20251209T174824Z
UID:10039657-1868014800-1868022000@dehoofdzaak.org
SUMMARY:Herstelgroep 0.0 de Kop
DESCRIPTION:Bij Herstelgroep 0.0 delen we de ups en downs van ons leven in herstel. Na een worsteling met onze verslaving zijn we ondertussen een tijdje clean en is het probleem minder om uit gebruik te blijven dan om met de nieuwe situatie om te gaan. \n\n\n\nWe zijn elkaar tot steun en inspireren elkaar aan de hand van gezamenlijke thema’s. Dit in een sfeer van warmte en verbinding en onder het genot van een kopje koffie of thee. \n\n\n\nDe groep komt elke week bij elkaar behalve in de schoolvakanties.
URL:https://dehoofdzaak.org/agenda/herstelgroep-0-0-de-kop-2/2029-03-12/
LOCATION:Scagon de Luxe\, Torenstraat 1B\, Schagen\, 1741CB
CATEGORIES:Kop Noord Holland
END:VEVENT
BEGIN:VEVENT
DTSTART;TZID=Europe/Amsterdam:20290314T100000
DTEND;TZID=Europe/Amsterdam:20290314T130000
DTSTAMP:20260420T093743
CREATED:20260212T130213Z
LAST-MODIFIED:20260212T130219Z
UID:10042681-1868176800-1868187600@dehoofdzaak.org
SUMMARY:Ontmoetingspunt Schagen
DESCRIPTION:Op de woensdag in de even weken: Kom ook eens gezellig binnenlopen op onze locatie in Schagen. Je bent welkom!
URL:https://dehoofdzaak.org/agenda/ontmoetingspunt-schagen/2029-03-14/
LOCATION:Scagon de Luxe\, Torenstraat 1B\, Schagen\, 1741CB
CATEGORIES:Kop Noord Holland
END:VEVENT
BEGIN:VEVENT
DTSTART;TZID=Europe/Amsterdam:20290314T113000
DTEND;TZID=Europe/Amsterdam:20290314T130000
DTSTAMP:20260420T093743
CREATED:20260212T130120Z
LAST-MODIFIED:20260212T130124Z
UID:10042551-1868182200-1868187600@dehoofdzaak.org
SUMMARY:Schagen: creagroep 't luisterend oor'
DESCRIPTION:De groep is bedoeld voor iedereen die het leuk vindt om creatief bezig te zijn of voor als je een plek zoekt om met anderen in contact te komen. Wij zorgen ervoor dat er spullen aanwezig zijn\, zodat jij je kan concentreren op het aansluiten en meedoen. Als je er liever alleen bij wilt zitten en wilt socializen ben je zeker ook welkom. \n\n\n\nDe groep is voor alle leeftijden en wordt om de week gegeven. Ook is er natuurlijk altijd de gelegenheid om met een ervaringsdeskundige apart te zitten voor een gesprek.  \n\n\n\nLocatie: Scagon de Luxe in Schagen
URL:https://dehoofdzaak.org/agenda/schagen-creagroep-t-luisterend-oor/2029-03-14/
LOCATION:Scagon de Luxe\, Torenstraat 1B\, Schagen\, 1741CB
CATEGORIES:Kop Noord Holland
END:VEVENT
BEGIN:VEVENT
DTSTART;TZID=Europe/Amsterdam:20290319T130000
DTEND;TZID=Europe/Amsterdam:20290319T150000
DTSTAMP:20260420T093743
CREATED:20251209T174222Z
LAST-MODIFIED:20251209T174824Z
UID:10039658-1868619600-1868626800@dehoofdzaak.org
SUMMARY:Herstelgroep 0.0 de Kop
DESCRIPTION:Bij Herstelgroep 0.0 delen we de ups en downs van ons leven in herstel. Na een worsteling met onze verslaving zijn we ondertussen een tijdje clean en is het probleem minder om uit gebruik te blijven dan om met de nieuwe situatie om te gaan. \n\n\n\nWe zijn elkaar tot steun en inspireren elkaar aan de hand van gezamenlijke thema’s. Dit in een sfeer van warmte en verbinding en onder het genot van een kopje koffie of thee. \n\n\n\nDe groep komt elke week bij elkaar behalve in de schoolvakanties.
URL:https://dehoofdzaak.org/agenda/herstelgroep-0-0-de-kop-2/2029-03-19/
LOCATION:Scagon de Luxe\, Torenstraat 1B\, Schagen\, 1741CB
CATEGORIES:Kop Noord Holland
END:VEVENT
BEGIN:VEVENT
DTSTART;TZID=Europe/Amsterdam:20290326T130000
DTEND;TZID=Europe/Amsterdam:20290326T150000
DTSTAMP:20260420T093743
CREATED:20251209T174222Z
LAST-MODIFIED:20251209T174824Z
UID:10039659-1869224400-1869231600@dehoofdzaak.org
SUMMARY:Herstelgroep 0.0 de Kop
DESCRIPTION:Bij Herstelgroep 0.0 delen we de ups en downs van ons leven in herstel. Na een worsteling met onze verslaving zijn we ondertussen een tijdje clean en is het probleem minder om uit gebruik te blijven dan om met de nieuwe situatie om te gaan. \n\n\n\nWe zijn elkaar tot steun en inspireren elkaar aan de hand van gezamenlijke thema’s. Dit in een sfeer van warmte en verbinding en onder het genot van een kopje koffie of thee. \n\n\n\nDe groep komt elke week bij elkaar behalve in de schoolvakanties.
URL:https://dehoofdzaak.org/agenda/herstelgroep-0-0-de-kop-2/2029-03-26/
LOCATION:Scagon de Luxe\, Torenstraat 1B\, Schagen\, 1741CB
CATEGORIES:Kop Noord Holland
END:VEVENT
BEGIN:VEVENT
DTSTART;TZID=Europe/Amsterdam:20290328T100000
DTEND;TZID=Europe/Amsterdam:20290328T130000
DTSTAMP:20260420T093743
CREATED:20260212T130213Z
LAST-MODIFIED:20260212T130219Z
UID:10042682-1869386400-1869397200@dehoofdzaak.org
SUMMARY:Ontmoetingspunt Schagen
DESCRIPTION:Op de woensdag in de even weken: Kom ook eens gezellig binnenlopen op onze locatie in Schagen. Je bent welkom!
URL:https://dehoofdzaak.org/agenda/ontmoetingspunt-schagen/2029-03-28/
LOCATION:Scagon de Luxe\, Torenstraat 1B\, Schagen\, 1741CB
CATEGORIES:Kop Noord Holland
END:VEVENT
BEGIN:VEVENT
DTSTART;TZID=Europe/Amsterdam:20290328T113000
DTEND;TZID=Europe/Amsterdam:20290328T130000
DTSTAMP:20260420T093743
CREATED:20260212T130120Z
LAST-MODIFIED:20260212T130124Z
UID:10042552-1869391800-1869397200@dehoofdzaak.org
SUMMARY:Schagen: creagroep 't luisterend oor'
DESCRIPTION:De groep is bedoeld voor iedereen die het leuk vindt om creatief bezig te zijn of voor als je een plek zoekt om met anderen in contact te komen. Wij zorgen ervoor dat er spullen aanwezig zijn\, zodat jij je kan concentreren op het aansluiten en meedoen. Als je er liever alleen bij wilt zitten en wilt socializen ben je zeker ook welkom. \n\n\n\nDe groep is voor alle leeftijden en wordt om de week gegeven. Ook is er natuurlijk altijd de gelegenheid om met een ervaringsdeskundige apart te zitten voor een gesprek.  \n\n\n\nLocatie: Scagon de Luxe in Schagen
URL:https://dehoofdzaak.org/agenda/schagen-creagroep-t-luisterend-oor/2029-03-28/
LOCATION:Scagon de Luxe\, Torenstraat 1B\, Schagen\, 1741CB
CATEGORIES:Kop Noord Holland
END:VEVENT
BEGIN:VEVENT
DTSTART;TZID=Europe/Amsterdam:20290402T130000
DTEND;TZID=Europe/Amsterdam:20290402T150000
DTSTAMP:20260420T093743
CREATED:20251209T174222Z
LAST-MODIFIED:20251209T174824Z
UID:10039660-1869829200-1869836400@dehoofdzaak.org
SUMMARY:Herstelgroep 0.0 de Kop
DESCRIPTION:Bij Herstelgroep 0.0 delen we de ups en downs van ons leven in herstel. Na een worsteling met onze verslaving zijn we ondertussen een tijdje clean en is het probleem minder om uit gebruik te blijven dan om met de nieuwe situatie om te gaan. \n\n\n\nWe zijn elkaar tot steun en inspireren elkaar aan de hand van gezamenlijke thema’s. Dit in een sfeer van warmte en verbinding en onder het genot van een kopje koffie of thee. \n\n\n\nDe groep komt elke week bij elkaar behalve in de schoolvakanties.
URL:https://dehoofdzaak.org/agenda/herstelgroep-0-0-de-kop-2/2029-04-02/
LOCATION:Scagon de Luxe\, Torenstraat 1B\, Schagen\, 1741CB
CATEGORIES:Kop Noord Holland
END:VEVENT
BEGIN:VEVENT
DTSTART;TZID=Europe/Amsterdam:20290409T130000
DTEND;TZID=Europe/Amsterdam:20290409T150000
DTSTAMP:20260420T093743
CREATED:20251209T174222Z
LAST-MODIFIED:20251209T174824Z
UID:10039661-1870434000-1870441200@dehoofdzaak.org
SUMMARY:Herstelgroep 0.0 de Kop
DESCRIPTION:Bij Herstelgroep 0.0 delen we de ups en downs van ons leven in herstel. Na een worsteling met onze verslaving zijn we ondertussen een tijdje clean en is het probleem minder om uit gebruik te blijven dan om met de nieuwe situatie om te gaan. \n\n\n\nWe zijn elkaar tot steun en inspireren elkaar aan de hand van gezamenlijke thema’s. Dit in een sfeer van warmte en verbinding en onder het genot van een kopje koffie of thee. \n\n\n\nDe groep komt elke week bij elkaar behalve in de schoolvakanties.
URL:https://dehoofdzaak.org/agenda/herstelgroep-0-0-de-kop-2/2029-04-09/
LOCATION:Scagon de Luxe\, Torenstraat 1B\, Schagen\, 1741CB
CATEGORIES:Kop Noord Holland
END:VEVENT
BEGIN:VEVENT
DTSTART;TZID=Europe/Amsterdam:20290411T100000
DTEND;TZID=Europe/Amsterdam:20290411T130000
DTSTAMP:20260420T093743
CREATED:20260212T130213Z
LAST-MODIFIED:20260212T130219Z
UID:10042683-1870596000-1870606800@dehoofdzaak.org
SUMMARY:Ontmoetingspunt Schagen
DESCRIPTION:Op de woensdag in de even weken: Kom ook eens gezellig binnenlopen op onze locatie in Schagen. Je bent welkom!
URL:https://dehoofdzaak.org/agenda/ontmoetingspunt-schagen/2029-04-11/
LOCATION:Scagon de Luxe\, Torenstraat 1B\, Schagen\, 1741CB
CATEGORIES:Kop Noord Holland
END:VEVENT
BEGIN:VEVENT
DTSTART;TZID=Europe/Amsterdam:20290411T113000
DTEND;TZID=Europe/Amsterdam:20290411T130000
DTSTAMP:20260420T093743
CREATED:20260212T130120Z
LAST-MODIFIED:20260212T130124Z
UID:10042553-1870601400-1870606800@dehoofdzaak.org
SUMMARY:Schagen: creagroep 't luisterend oor'
DESCRIPTION:De groep is bedoeld voor iedereen die het leuk vindt om creatief bezig te zijn of voor als je een plek zoekt om met anderen in contact te komen. Wij zorgen ervoor dat er spullen aanwezig zijn\, zodat jij je kan concentreren op het aansluiten en meedoen. Als je er liever alleen bij wilt zitten en wilt socializen ben je zeker ook welkom. \n\n\n\nDe groep is voor alle leeftijden en wordt om de week gegeven. Ook is er natuurlijk altijd de gelegenheid om met een ervaringsdeskundige apart te zitten voor een gesprek.  \n\n\n\nLocatie: Scagon de Luxe in Schagen
URL:https://dehoofdzaak.org/agenda/schagen-creagroep-t-luisterend-oor/2029-04-11/
LOCATION:Scagon de Luxe\, Torenstraat 1B\, Schagen\, 1741CB
CATEGORIES:Kop Noord Holland
END:VEVENT
BEGIN:VEVENT
DTSTART;TZID=Europe/Amsterdam:20290416T130000
DTEND;TZID=Europe/Amsterdam:20290416T150000
DTSTAMP:20260420T093743
CREATED:20251209T174222Z
LAST-MODIFIED:20251209T174824Z
UID:10039662-1871038800-1871046000@dehoofdzaak.org
SUMMARY:Herstelgroep 0.0 de Kop
DESCRIPTION:Bij Herstelgroep 0.0 delen we de ups en downs van ons leven in herstel. Na een worsteling met onze verslaving zijn we ondertussen een tijdje clean en is het probleem minder om uit gebruik te blijven dan om met de nieuwe situatie om te gaan. \n\n\n\nWe zijn elkaar tot steun en inspireren elkaar aan de hand van gezamenlijke thema’s. Dit in een sfeer van warmte en verbinding en onder het genot van een kopje koffie of thee. \n\n\n\nDe groep komt elke week bij elkaar behalve in de schoolvakanties.
URL:https://dehoofdzaak.org/agenda/herstelgroep-0-0-de-kop-2/2029-04-16/
LOCATION:Scagon de Luxe\, Torenstraat 1B\, Schagen\, 1741CB
CATEGORIES:Kop Noord Holland
END:VEVENT
BEGIN:VEVENT
DTSTART;TZID=Europe/Amsterdam:20290423T130000
DTEND;TZID=Europe/Amsterdam:20290423T150000
DTSTAMP:20260420T093743
CREATED:20251209T174222Z
LAST-MODIFIED:20251209T174824Z
UID:10039663-1871643600-1871650800@dehoofdzaak.org
SUMMARY:Herstelgroep 0.0 de Kop
DESCRIPTION:Bij Herstelgroep 0.0 delen we de ups en downs van ons leven in herstel. Na een worsteling met onze verslaving zijn we ondertussen een tijdje clean en is het probleem minder om uit gebruik te blijven dan om met de nieuwe situatie om te gaan. \n\n\n\nWe zijn elkaar tot steun en inspireren elkaar aan de hand van gezamenlijke thema’s. Dit in een sfeer van warmte en verbinding en onder het genot van een kopje koffie of thee. \n\n\n\nDe groep komt elke week bij elkaar behalve in de schoolvakanties.
URL:https://dehoofdzaak.org/agenda/herstelgroep-0-0-de-kop-2/2029-04-23/
LOCATION:Scagon de Luxe\, Torenstraat 1B\, Schagen\, 1741CB
CATEGORIES:Kop Noord Holland
END:VEVENT
BEGIN:VEVENT
DTSTART;TZID=Europe/Amsterdam:20290425T100000
DTEND;TZID=Europe/Amsterdam:20290425T130000
DTSTAMP:20260420T093743
CREATED:20260212T130213Z
LAST-MODIFIED:20260212T130219Z
UID:10042684-1871805600-1871816400@dehoofdzaak.org
SUMMARY:Ontmoetingspunt Schagen
DESCRIPTION:Op de woensdag in de even weken: Kom ook eens gezellig binnenlopen op onze locatie in Schagen. Je bent welkom!
URL:https://dehoofdzaak.org/agenda/ontmoetingspunt-schagen/2029-04-25/
LOCATION:Scagon de Luxe\, Torenstraat 1B\, Schagen\, 1741CB
CATEGORIES:Kop Noord Holland
END:VEVENT
BEGIN:VEVENT
DTSTART;TZID=Europe/Amsterdam:20290425T113000
DTEND;TZID=Europe/Amsterdam:20290425T130000
DTSTAMP:20260420T093743
CREATED:20260212T130120Z
LAST-MODIFIED:20260212T130124Z
UID:10042554-1871811000-1871816400@dehoofdzaak.org
SUMMARY:Schagen: creagroep 't luisterend oor'
DESCRIPTION:De groep is bedoeld voor iedereen die het leuk vindt om creatief bezig te zijn of voor als je een plek zoekt om met anderen in contact te komen. Wij zorgen ervoor dat er spullen aanwezig zijn\, zodat jij je kan concentreren op het aansluiten en meedoen. Als je er liever alleen bij wilt zitten en wilt socializen ben je zeker ook welkom. \n\n\n\nDe groep is voor alle leeftijden en wordt om de week gegeven. Ook is er natuurlijk altijd de gelegenheid om met een ervaringsdeskundige apart te zitten voor een gesprek.  \n\n\n\nLocatie: Scagon de Luxe in Schagen
URL:https://dehoofdzaak.org/agenda/schagen-creagroep-t-luisterend-oor/2029-04-25/
LOCATION:Scagon de Luxe\, Torenstraat 1B\, Schagen\, 1741CB
CATEGORIES:Kop Noord Holland
END:VEVENT
BEGIN:VEVENT
DTSTART;TZID=Europe/Amsterdam:20290430T130000
DTEND;TZID=Europe/Amsterdam:20290430T150000
DTSTAMP:20260420T093743
CREATED:20251209T174222Z
LAST-MODIFIED:20251209T174824Z
UID:10039664-1872248400-1872255600@dehoofdzaak.org
SUMMARY:Herstelgroep 0.0 de Kop
DESCRIPTION:Bij Herstelgroep 0.0 delen we de ups en downs van ons leven in herstel. Na een worsteling met onze verslaving zijn we ondertussen een tijdje clean en is het probleem minder om uit gebruik te blijven dan om met de nieuwe situatie om te gaan. \n\n\n\nWe zijn elkaar tot steun en inspireren elkaar aan de hand van gezamenlijke thema’s. Dit in een sfeer van warmte en verbinding en onder het genot van een kopje koffie of thee. \n\n\n\nDe groep komt elke week bij elkaar behalve in de schoolvakanties.
URL:https://dehoofdzaak.org/agenda/herstelgroep-0-0-de-kop-2/2029-04-30/
LOCATION:Scagon de Luxe\, Torenstraat 1B\, Schagen\, 1741CB
CATEGORIES:Kop Noord Holland
END:VEVENT
BEGIN:VEVENT
DTSTART;TZID=Europe/Amsterdam:20290507T130000
DTEND;TZID=Europe/Amsterdam:20290507T150000
DTSTAMP:20260420T093743
CREATED:20251209T174222Z
LAST-MODIFIED:20251209T174824Z
UID:10039665-1872853200-1872860400@dehoofdzaak.org
SUMMARY:Herstelgroep 0.0 de Kop
DESCRIPTION:Bij Herstelgroep 0.0 delen we de ups en downs van ons leven in herstel. Na een worsteling met onze verslaving zijn we ondertussen een tijdje clean en is het probleem minder om uit gebruik te blijven dan om met de nieuwe situatie om te gaan. \n\n\n\nWe zijn elkaar tot steun en inspireren elkaar aan de hand van gezamenlijke thema’s. Dit in een sfeer van warmte en verbinding en onder het genot van een kopje koffie of thee. \n\n\n\nDe groep komt elke week bij elkaar behalve in de schoolvakanties.
URL:https://dehoofdzaak.org/agenda/herstelgroep-0-0-de-kop-2/2029-05-07/
LOCATION:Scagon de Luxe\, Torenstraat 1B\, Schagen\, 1741CB
CATEGORIES:Kop Noord Holland
END:VEVENT
END:VCALENDAR