BEGIN:VCALENDAR
VERSION:2.0
PRODID:-//De Hoofdzaak - ECPv6.15.20//NONSGML v1.0//EN
CALSCALE:GREGORIAN
METHOD:PUBLISH
X-WR-CALNAME:De Hoofdzaak
X-ORIGINAL-URL:https://dehoofdzaak.org
X-WR-CALDESC:Evenementen voor De Hoofdzaak
REFRESH-INTERVAL;VALUE=DURATION:PT1H
X-Robots-Tag:noindex
X-PUBLISHED-TTL:PT1H
BEGIN:VTIMEZONE
TZID:Europe/Amsterdam
BEGIN:DAYLIGHT
TZOFFSETFROM:+0100
TZOFFSETTO:+0200
TZNAME:CEST
DTSTART:20280326T010000
END:DAYLIGHT
BEGIN:STANDARD
TZOFFSETFROM:+0200
TZOFFSETTO:+0100
TZNAME:CET
DTSTART:20281029T010000
END:STANDARD
BEGIN:DAYLIGHT
TZOFFSETFROM:+0100
TZOFFSETTO:+0200
TZNAME:CEST
DTSTART:20290325T010000
END:DAYLIGHT
BEGIN:STANDARD
TZOFFSETFROM:+0200
TZOFFSETTO:+0100
TZNAME:CET
DTSTART:20291028T010000
END:STANDARD
BEGIN:DAYLIGHT
TZOFFSETFROM:+0100
TZOFFSETTO:+0200
TZNAME:CEST
DTSTART:20300331T010000
END:DAYLIGHT
BEGIN:STANDARD
TZOFFSETFROM:+0200
TZOFFSETTO:+0100
TZNAME:CET
DTSTART:20301027T010000
END:STANDARD
END:VTIMEZONE
BEGIN:VEVENT
DTSTART;TZID=Europe/Amsterdam:20290716T130000
DTEND;TZID=Europe/Amsterdam:20290716T150000
DTSTAMP:20260420T164402
CREATED:20251209T174222Z
LAST-MODIFIED:20251209T174824Z
UID:10039675-1878901200-1878908400@dehoofdzaak.org
SUMMARY:Herstelgroep 0.0 de Kop
DESCRIPTION:Bij Herstelgroep 0.0 delen we de ups en downs van ons leven in herstel. Na een worsteling met onze verslaving zijn we ondertussen een tijdje clean en is het probleem minder om uit gebruik te blijven dan om met de nieuwe situatie om te gaan. \n\n\n\nWe zijn elkaar tot steun en inspireren elkaar aan de hand van gezamenlijke thema’s. Dit in een sfeer van warmte en verbinding en onder het genot van een kopje koffie of thee. \n\n\n\nDe groep komt elke week bij elkaar behalve in de schoolvakanties.
URL:https://dehoofdzaak.org/agenda/herstelgroep-0-0-de-kop-2/2029-07-16/
LOCATION:Scagon de Luxe\, Torenstraat 1B\, Schagen\, 1741CB
CATEGORIES:Kop Noord Holland
END:VEVENT
BEGIN:VEVENT
DTSTART;TZID=Europe/Amsterdam:20290718T100000
DTEND;TZID=Europe/Amsterdam:20290718T130000
DTSTAMP:20260420T164402
CREATED:20260212T130213Z
LAST-MODIFIED:20260212T130219Z
UID:10042690-1879063200-1879074000@dehoofdzaak.org
SUMMARY:Ontmoetingspunt Schagen
DESCRIPTION:Op de woensdag in de even weken: Kom ook eens gezellig binnenlopen op onze locatie in Schagen. Je bent welkom!
URL:https://dehoofdzaak.org/agenda/ontmoetingspunt-schagen/2029-07-18/
LOCATION:Scagon de Luxe\, Torenstraat 1B\, Schagen\, 1741CB
CATEGORIES:Kop Noord Holland
END:VEVENT
BEGIN:VEVENT
DTSTART;TZID=Europe/Amsterdam:20290718T113000
DTEND;TZID=Europe/Amsterdam:20290718T130000
DTSTAMP:20260420T164402
CREATED:20260212T130120Z
LAST-MODIFIED:20260212T130124Z
UID:10042560-1879068600-1879074000@dehoofdzaak.org
SUMMARY:Schagen: creagroep 't luisterend oor'
DESCRIPTION:De groep is bedoeld voor iedereen die het leuk vindt om creatief bezig te zijn of voor als je een plek zoekt om met anderen in contact te komen. Wij zorgen ervoor dat er spullen aanwezig zijn\, zodat jij je kan concentreren op het aansluiten en meedoen. Als je er liever alleen bij wilt zitten en wilt socializen ben je zeker ook welkom. \n\n\n\nDe groep is voor alle leeftijden en wordt om de week gegeven. Ook is er natuurlijk altijd de gelegenheid om met een ervaringsdeskundige apart te zitten voor een gesprek.  \n\n\n\nLocatie: Scagon de Luxe in Schagen
URL:https://dehoofdzaak.org/agenda/schagen-creagroep-t-luisterend-oor/2029-07-18/
LOCATION:Scagon de Luxe\, Torenstraat 1B\, Schagen\, 1741CB
CATEGORIES:Kop Noord Holland
END:VEVENT
BEGIN:VEVENT
DTSTART;TZID=Europe/Amsterdam:20290723T130000
DTEND;TZID=Europe/Amsterdam:20290723T150000
DTSTAMP:20260420T164402
CREATED:20251209T174222Z
LAST-MODIFIED:20251209T174824Z
UID:10039676-1879506000-1879513200@dehoofdzaak.org
SUMMARY:Herstelgroep 0.0 de Kop
DESCRIPTION:Bij Herstelgroep 0.0 delen we de ups en downs van ons leven in herstel. Na een worsteling met onze verslaving zijn we ondertussen een tijdje clean en is het probleem minder om uit gebruik te blijven dan om met de nieuwe situatie om te gaan. \n\n\n\nWe zijn elkaar tot steun en inspireren elkaar aan de hand van gezamenlijke thema’s. Dit in een sfeer van warmte en verbinding en onder het genot van een kopje koffie of thee. \n\n\n\nDe groep komt elke week bij elkaar behalve in de schoolvakanties.
URL:https://dehoofdzaak.org/agenda/herstelgroep-0-0-de-kop-2/2029-07-23/
LOCATION:Scagon de Luxe\, Torenstraat 1B\, Schagen\, 1741CB
CATEGORIES:Kop Noord Holland
END:VEVENT
BEGIN:VEVENT
DTSTART;TZID=Europe/Amsterdam:20290730T130000
DTEND;TZID=Europe/Amsterdam:20290730T150000
DTSTAMP:20260420T164402
CREATED:20251209T174222Z
LAST-MODIFIED:20251209T174824Z
UID:10039677-1880110800-1880118000@dehoofdzaak.org
SUMMARY:Herstelgroep 0.0 de Kop
DESCRIPTION:Bij Herstelgroep 0.0 delen we de ups en downs van ons leven in herstel. Na een worsteling met onze verslaving zijn we ondertussen een tijdje clean en is het probleem minder om uit gebruik te blijven dan om met de nieuwe situatie om te gaan. \n\n\n\nWe zijn elkaar tot steun en inspireren elkaar aan de hand van gezamenlijke thema’s. Dit in een sfeer van warmte en verbinding en onder het genot van een kopje koffie of thee. \n\n\n\nDe groep komt elke week bij elkaar behalve in de schoolvakanties.
URL:https://dehoofdzaak.org/agenda/herstelgroep-0-0-de-kop-2/2029-07-30/
LOCATION:Scagon de Luxe\, Torenstraat 1B\, Schagen\, 1741CB
CATEGORIES:Kop Noord Holland
END:VEVENT
BEGIN:VEVENT
DTSTART;TZID=Europe/Amsterdam:20290801T100000
DTEND;TZID=Europe/Amsterdam:20290801T130000
DTSTAMP:20260420T164402
CREATED:20260212T130213Z
LAST-MODIFIED:20260212T130219Z
UID:10042691-1880272800-1880283600@dehoofdzaak.org
SUMMARY:Ontmoetingspunt Schagen
DESCRIPTION:Op de woensdag in de even weken: Kom ook eens gezellig binnenlopen op onze locatie in Schagen. Je bent welkom!
URL:https://dehoofdzaak.org/agenda/ontmoetingspunt-schagen/2029-08-01/
LOCATION:Scagon de Luxe\, Torenstraat 1B\, Schagen\, 1741CB
CATEGORIES:Kop Noord Holland
END:VEVENT
BEGIN:VEVENT
DTSTART;TZID=Europe/Amsterdam:20290801T113000
DTEND;TZID=Europe/Amsterdam:20290801T130000
DTSTAMP:20260420T164402
CREATED:20260212T130120Z
LAST-MODIFIED:20260212T130124Z
UID:10042561-1880278200-1880283600@dehoofdzaak.org
SUMMARY:Schagen: creagroep 't luisterend oor'
DESCRIPTION:De groep is bedoeld voor iedereen die het leuk vindt om creatief bezig te zijn of voor als je een plek zoekt om met anderen in contact te komen. Wij zorgen ervoor dat er spullen aanwezig zijn\, zodat jij je kan concentreren op het aansluiten en meedoen. Als je er liever alleen bij wilt zitten en wilt socializen ben je zeker ook welkom. \n\n\n\nDe groep is voor alle leeftijden en wordt om de week gegeven. Ook is er natuurlijk altijd de gelegenheid om met een ervaringsdeskundige apart te zitten voor een gesprek.  \n\n\n\nLocatie: Scagon de Luxe in Schagen
URL:https://dehoofdzaak.org/agenda/schagen-creagroep-t-luisterend-oor/2029-08-01/
LOCATION:Scagon de Luxe\, Torenstraat 1B\, Schagen\, 1741CB
CATEGORIES:Kop Noord Holland
END:VEVENT
BEGIN:VEVENT
DTSTART;TZID=Europe/Amsterdam:20290806T130000
DTEND;TZID=Europe/Amsterdam:20290806T150000
DTSTAMP:20260420T164402
CREATED:20251209T174222Z
LAST-MODIFIED:20251209T174824Z
UID:10039678-1880715600-1880722800@dehoofdzaak.org
SUMMARY:Herstelgroep 0.0 de Kop
DESCRIPTION:Bij Herstelgroep 0.0 delen we de ups en downs van ons leven in herstel. Na een worsteling met onze verslaving zijn we ondertussen een tijdje clean en is het probleem minder om uit gebruik te blijven dan om met de nieuwe situatie om te gaan. \n\n\n\nWe zijn elkaar tot steun en inspireren elkaar aan de hand van gezamenlijke thema’s. Dit in een sfeer van warmte en verbinding en onder het genot van een kopje koffie of thee. \n\n\n\nDe groep komt elke week bij elkaar behalve in de schoolvakanties.
URL:https://dehoofdzaak.org/agenda/herstelgroep-0-0-de-kop-2/2029-08-06/
LOCATION:Scagon de Luxe\, Torenstraat 1B\, Schagen\, 1741CB
CATEGORIES:Kop Noord Holland
END:VEVENT
BEGIN:VEVENT
DTSTART;TZID=Europe/Amsterdam:20290813T130000
DTEND;TZID=Europe/Amsterdam:20290813T150000
DTSTAMP:20260420T164402
CREATED:20251209T174222Z
LAST-MODIFIED:20251209T174824Z
UID:10039679-1881320400-1881327600@dehoofdzaak.org
SUMMARY:Herstelgroep 0.0 de Kop
DESCRIPTION:Bij Herstelgroep 0.0 delen we de ups en downs van ons leven in herstel. Na een worsteling met onze verslaving zijn we ondertussen een tijdje clean en is het probleem minder om uit gebruik te blijven dan om met de nieuwe situatie om te gaan. \n\n\n\nWe zijn elkaar tot steun en inspireren elkaar aan de hand van gezamenlijke thema’s. Dit in een sfeer van warmte en verbinding en onder het genot van een kopje koffie of thee. \n\n\n\nDe groep komt elke week bij elkaar behalve in de schoolvakanties.
URL:https://dehoofdzaak.org/agenda/herstelgroep-0-0-de-kop-2/2029-08-13/
LOCATION:Scagon de Luxe\, Torenstraat 1B\, Schagen\, 1741CB
CATEGORIES:Kop Noord Holland
END:VEVENT
BEGIN:VEVENT
DTSTART;TZID=Europe/Amsterdam:20290815T100000
DTEND;TZID=Europe/Amsterdam:20290815T130000
DTSTAMP:20260420T164402
CREATED:20260212T130213Z
LAST-MODIFIED:20260212T130219Z
UID:10042692-1881482400-1881493200@dehoofdzaak.org
SUMMARY:Ontmoetingspunt Schagen
DESCRIPTION:Op de woensdag in de even weken: Kom ook eens gezellig binnenlopen op onze locatie in Schagen. Je bent welkom!
URL:https://dehoofdzaak.org/agenda/ontmoetingspunt-schagen/2029-08-15/
LOCATION:Scagon de Luxe\, Torenstraat 1B\, Schagen\, 1741CB
CATEGORIES:Kop Noord Holland
END:VEVENT
BEGIN:VEVENT
DTSTART;TZID=Europe/Amsterdam:20290815T113000
DTEND;TZID=Europe/Amsterdam:20290815T130000
DTSTAMP:20260420T164402
CREATED:20260212T130120Z
LAST-MODIFIED:20260212T130124Z
UID:10042562-1881487800-1881493200@dehoofdzaak.org
SUMMARY:Schagen: creagroep 't luisterend oor'
DESCRIPTION:De groep is bedoeld voor iedereen die het leuk vindt om creatief bezig te zijn of voor als je een plek zoekt om met anderen in contact te komen. Wij zorgen ervoor dat er spullen aanwezig zijn\, zodat jij je kan concentreren op het aansluiten en meedoen. Als je er liever alleen bij wilt zitten en wilt socializen ben je zeker ook welkom. \n\n\n\nDe groep is voor alle leeftijden en wordt om de week gegeven. Ook is er natuurlijk altijd de gelegenheid om met een ervaringsdeskundige apart te zitten voor een gesprek.  \n\n\n\nLocatie: Scagon de Luxe in Schagen
URL:https://dehoofdzaak.org/agenda/schagen-creagroep-t-luisterend-oor/2029-08-15/
LOCATION:Scagon de Luxe\, Torenstraat 1B\, Schagen\, 1741CB
CATEGORIES:Kop Noord Holland
END:VEVENT
BEGIN:VEVENT
DTSTART;TZID=Europe/Amsterdam:20290820T130000
DTEND;TZID=Europe/Amsterdam:20290820T150000
DTSTAMP:20260420T164402
CREATED:20251209T174222Z
LAST-MODIFIED:20251209T174824Z
UID:10039680-1881925200-1881932400@dehoofdzaak.org
SUMMARY:Herstelgroep 0.0 de Kop
DESCRIPTION:Bij Herstelgroep 0.0 delen we de ups en downs van ons leven in herstel. Na een worsteling met onze verslaving zijn we ondertussen een tijdje clean en is het probleem minder om uit gebruik te blijven dan om met de nieuwe situatie om te gaan. \n\n\n\nWe zijn elkaar tot steun en inspireren elkaar aan de hand van gezamenlijke thema’s. Dit in een sfeer van warmte en verbinding en onder het genot van een kopje koffie of thee. \n\n\n\nDe groep komt elke week bij elkaar behalve in de schoolvakanties.
URL:https://dehoofdzaak.org/agenda/herstelgroep-0-0-de-kop-2/2029-08-20/
LOCATION:Scagon de Luxe\, Torenstraat 1B\, Schagen\, 1741CB
CATEGORIES:Kop Noord Holland
END:VEVENT
BEGIN:VEVENT
DTSTART;TZID=Europe/Amsterdam:20290827T130000
DTEND;TZID=Europe/Amsterdam:20290827T150000
DTSTAMP:20260420T164402
CREATED:20251209T174222Z
LAST-MODIFIED:20251209T174824Z
UID:10039681-1882530000-1882537200@dehoofdzaak.org
SUMMARY:Herstelgroep 0.0 de Kop
DESCRIPTION:Bij Herstelgroep 0.0 delen we de ups en downs van ons leven in herstel. Na een worsteling met onze verslaving zijn we ondertussen een tijdje clean en is het probleem minder om uit gebruik te blijven dan om met de nieuwe situatie om te gaan. \n\n\n\nWe zijn elkaar tot steun en inspireren elkaar aan de hand van gezamenlijke thema’s. Dit in een sfeer van warmte en verbinding en onder het genot van een kopje koffie of thee. \n\n\n\nDe groep komt elke week bij elkaar behalve in de schoolvakanties.
URL:https://dehoofdzaak.org/agenda/herstelgroep-0-0-de-kop-2/2029-08-27/
LOCATION:Scagon de Luxe\, Torenstraat 1B\, Schagen\, 1741CB
CATEGORIES:Kop Noord Holland
END:VEVENT
BEGIN:VEVENT
DTSTART;TZID=Europe/Amsterdam:20290829T100000
DTEND;TZID=Europe/Amsterdam:20290829T130000
DTSTAMP:20260420T164402
CREATED:20260212T130213Z
LAST-MODIFIED:20260212T130219Z
UID:10042693-1882692000-1882702800@dehoofdzaak.org
SUMMARY:Ontmoetingspunt Schagen
DESCRIPTION:Op de woensdag in de even weken: Kom ook eens gezellig binnenlopen op onze locatie in Schagen. Je bent welkom!
URL:https://dehoofdzaak.org/agenda/ontmoetingspunt-schagen/2029-08-29/
LOCATION:Scagon de Luxe\, Torenstraat 1B\, Schagen\, 1741CB
CATEGORIES:Kop Noord Holland
END:VEVENT
BEGIN:VEVENT
DTSTART;TZID=Europe/Amsterdam:20290829T113000
DTEND;TZID=Europe/Amsterdam:20290829T130000
DTSTAMP:20260420T164402
CREATED:20260212T130120Z
LAST-MODIFIED:20260212T130124Z
UID:10042563-1882697400-1882702800@dehoofdzaak.org
SUMMARY:Schagen: creagroep 't luisterend oor'
DESCRIPTION:De groep is bedoeld voor iedereen die het leuk vindt om creatief bezig te zijn of voor als je een plek zoekt om met anderen in contact te komen. Wij zorgen ervoor dat er spullen aanwezig zijn\, zodat jij je kan concentreren op het aansluiten en meedoen. Als je er liever alleen bij wilt zitten en wilt socializen ben je zeker ook welkom. \n\n\n\nDe groep is voor alle leeftijden en wordt om de week gegeven. Ook is er natuurlijk altijd de gelegenheid om met een ervaringsdeskundige apart te zitten voor een gesprek.  \n\n\n\nLocatie: Scagon de Luxe in Schagen
URL:https://dehoofdzaak.org/agenda/schagen-creagroep-t-luisterend-oor/2029-08-29/
LOCATION:Scagon de Luxe\, Torenstraat 1B\, Schagen\, 1741CB
CATEGORIES:Kop Noord Holland
END:VEVENT
BEGIN:VEVENT
DTSTART;TZID=Europe/Amsterdam:20290903T130000
DTEND;TZID=Europe/Amsterdam:20290903T150000
DTSTAMP:20260420T164402
CREATED:20251209T174222Z
LAST-MODIFIED:20251209T174824Z
UID:10039682-1883134800-1883142000@dehoofdzaak.org
SUMMARY:Herstelgroep 0.0 de Kop
DESCRIPTION:Bij Herstelgroep 0.0 delen we de ups en downs van ons leven in herstel. Na een worsteling met onze verslaving zijn we ondertussen een tijdje clean en is het probleem minder om uit gebruik te blijven dan om met de nieuwe situatie om te gaan. \n\n\n\nWe zijn elkaar tot steun en inspireren elkaar aan de hand van gezamenlijke thema’s. Dit in een sfeer van warmte en verbinding en onder het genot van een kopje koffie of thee. \n\n\n\nDe groep komt elke week bij elkaar behalve in de schoolvakanties.
URL:https://dehoofdzaak.org/agenda/herstelgroep-0-0-de-kop-2/2029-09-03/
LOCATION:Scagon de Luxe\, Torenstraat 1B\, Schagen\, 1741CB
CATEGORIES:Kop Noord Holland
END:VEVENT
BEGIN:VEVENT
DTSTART;TZID=Europe/Amsterdam:20290910T130000
DTEND;TZID=Europe/Amsterdam:20290910T150000
DTSTAMP:20260420T164402
CREATED:20251209T174222Z
LAST-MODIFIED:20251209T174824Z
UID:10039683-1883739600-1883746800@dehoofdzaak.org
SUMMARY:Herstelgroep 0.0 de Kop
DESCRIPTION:Bij Herstelgroep 0.0 delen we de ups en downs van ons leven in herstel. Na een worsteling met onze verslaving zijn we ondertussen een tijdje clean en is het probleem minder om uit gebruik te blijven dan om met de nieuwe situatie om te gaan. \n\n\n\nWe zijn elkaar tot steun en inspireren elkaar aan de hand van gezamenlijke thema’s. Dit in een sfeer van warmte en verbinding en onder het genot van een kopje koffie of thee. \n\n\n\nDe groep komt elke week bij elkaar behalve in de schoolvakanties.
URL:https://dehoofdzaak.org/agenda/herstelgroep-0-0-de-kop-2/2029-09-10/
LOCATION:Scagon de Luxe\, Torenstraat 1B\, Schagen\, 1741CB
CATEGORIES:Kop Noord Holland
END:VEVENT
BEGIN:VEVENT
DTSTART;TZID=Europe/Amsterdam:20290912T100000
DTEND;TZID=Europe/Amsterdam:20290912T130000
DTSTAMP:20260420T164402
CREATED:20260212T130213Z
LAST-MODIFIED:20260212T130219Z
UID:10042694-1883901600-1883912400@dehoofdzaak.org
SUMMARY:Ontmoetingspunt Schagen
DESCRIPTION:Op de woensdag in de even weken: Kom ook eens gezellig binnenlopen op onze locatie in Schagen. Je bent welkom!
URL:https://dehoofdzaak.org/agenda/ontmoetingspunt-schagen/2029-09-12/
LOCATION:Scagon de Luxe\, Torenstraat 1B\, Schagen\, 1741CB
CATEGORIES:Kop Noord Holland
END:VEVENT
BEGIN:VEVENT
DTSTART;TZID=Europe/Amsterdam:20290912T113000
DTEND;TZID=Europe/Amsterdam:20290912T130000
DTSTAMP:20260420T164402
CREATED:20260212T130120Z
LAST-MODIFIED:20260212T130124Z
UID:10042564-1883907000-1883912400@dehoofdzaak.org
SUMMARY:Schagen: creagroep 't luisterend oor'
DESCRIPTION:De groep is bedoeld voor iedereen die het leuk vindt om creatief bezig te zijn of voor als je een plek zoekt om met anderen in contact te komen. Wij zorgen ervoor dat er spullen aanwezig zijn\, zodat jij je kan concentreren op het aansluiten en meedoen. Als je er liever alleen bij wilt zitten en wilt socializen ben je zeker ook welkom. \n\n\n\nDe groep is voor alle leeftijden en wordt om de week gegeven. Ook is er natuurlijk altijd de gelegenheid om met een ervaringsdeskundige apart te zitten voor een gesprek.  \n\n\n\nLocatie: Scagon de Luxe in Schagen
URL:https://dehoofdzaak.org/agenda/schagen-creagroep-t-luisterend-oor/2029-09-12/
LOCATION:Scagon de Luxe\, Torenstraat 1B\, Schagen\, 1741CB
CATEGORIES:Kop Noord Holland
END:VEVENT
BEGIN:VEVENT
DTSTART;TZID=Europe/Amsterdam:20290917T130000
DTEND;TZID=Europe/Amsterdam:20290917T150000
DTSTAMP:20260420T164402
CREATED:20251209T174222Z
LAST-MODIFIED:20251209T174824Z
UID:10039684-1884344400-1884351600@dehoofdzaak.org
SUMMARY:Herstelgroep 0.0 de Kop
DESCRIPTION:Bij Herstelgroep 0.0 delen we de ups en downs van ons leven in herstel. Na een worsteling met onze verslaving zijn we ondertussen een tijdje clean en is het probleem minder om uit gebruik te blijven dan om met de nieuwe situatie om te gaan. \n\n\n\nWe zijn elkaar tot steun en inspireren elkaar aan de hand van gezamenlijke thema’s. Dit in een sfeer van warmte en verbinding en onder het genot van een kopje koffie of thee. \n\n\n\nDe groep komt elke week bij elkaar behalve in de schoolvakanties.
URL:https://dehoofdzaak.org/agenda/herstelgroep-0-0-de-kop-2/2029-09-17/
LOCATION:Scagon de Luxe\, Torenstraat 1B\, Schagen\, 1741CB
CATEGORIES:Kop Noord Holland
END:VEVENT
BEGIN:VEVENT
DTSTART;TZID=Europe/Amsterdam:20290924T130000
DTEND;TZID=Europe/Amsterdam:20290924T150000
DTSTAMP:20260420T164402
CREATED:20251209T174222Z
LAST-MODIFIED:20251209T174824Z
UID:10039685-1884949200-1884956400@dehoofdzaak.org
SUMMARY:Herstelgroep 0.0 de Kop
DESCRIPTION:Bij Herstelgroep 0.0 delen we de ups en downs van ons leven in herstel. Na een worsteling met onze verslaving zijn we ondertussen een tijdje clean en is het probleem minder om uit gebruik te blijven dan om met de nieuwe situatie om te gaan. \n\n\n\nWe zijn elkaar tot steun en inspireren elkaar aan de hand van gezamenlijke thema’s. Dit in een sfeer van warmte en verbinding en onder het genot van een kopje koffie of thee. \n\n\n\nDe groep komt elke week bij elkaar behalve in de schoolvakanties.
URL:https://dehoofdzaak.org/agenda/herstelgroep-0-0-de-kop-2/2029-09-24/
LOCATION:Scagon de Luxe\, Torenstraat 1B\, Schagen\, 1741CB
CATEGORIES:Kop Noord Holland
END:VEVENT
BEGIN:VEVENT
DTSTART;TZID=Europe/Amsterdam:20290926T100000
DTEND;TZID=Europe/Amsterdam:20290926T130000
DTSTAMP:20260420T164402
CREATED:20260212T130213Z
LAST-MODIFIED:20260212T130219Z
UID:10042695-1885111200-1885122000@dehoofdzaak.org
SUMMARY:Ontmoetingspunt Schagen
DESCRIPTION:Op de woensdag in de even weken: Kom ook eens gezellig binnenlopen op onze locatie in Schagen. Je bent welkom!
URL:https://dehoofdzaak.org/agenda/ontmoetingspunt-schagen/2029-09-26/
LOCATION:Scagon de Luxe\, Torenstraat 1B\, Schagen\, 1741CB
CATEGORIES:Kop Noord Holland
END:VEVENT
BEGIN:VEVENT
DTSTART;TZID=Europe/Amsterdam:20290926T113000
DTEND;TZID=Europe/Amsterdam:20290926T130000
DTSTAMP:20260420T164402
CREATED:20260212T130120Z
LAST-MODIFIED:20260212T130124Z
UID:10042565-1885116600-1885122000@dehoofdzaak.org
SUMMARY:Schagen: creagroep 't luisterend oor'
DESCRIPTION:De groep is bedoeld voor iedereen die het leuk vindt om creatief bezig te zijn of voor als je een plek zoekt om met anderen in contact te komen. Wij zorgen ervoor dat er spullen aanwezig zijn\, zodat jij je kan concentreren op het aansluiten en meedoen. Als je er liever alleen bij wilt zitten en wilt socializen ben je zeker ook welkom. \n\n\n\nDe groep is voor alle leeftijden en wordt om de week gegeven. Ook is er natuurlijk altijd de gelegenheid om met een ervaringsdeskundige apart te zitten voor een gesprek.  \n\n\n\nLocatie: Scagon de Luxe in Schagen
URL:https://dehoofdzaak.org/agenda/schagen-creagroep-t-luisterend-oor/2029-09-26/
LOCATION:Scagon de Luxe\, Torenstraat 1B\, Schagen\, 1741CB
CATEGORIES:Kop Noord Holland
END:VEVENT
BEGIN:VEVENT
DTSTART;TZID=Europe/Amsterdam:20291001T130000
DTEND;TZID=Europe/Amsterdam:20291001T150000
DTSTAMP:20260420T164402
CREATED:20251209T174222Z
LAST-MODIFIED:20251209T174824Z
UID:10039686-1885554000-1885561200@dehoofdzaak.org
SUMMARY:Herstelgroep 0.0 de Kop
DESCRIPTION:Bij Herstelgroep 0.0 delen we de ups en downs van ons leven in herstel. Na een worsteling met onze verslaving zijn we ondertussen een tijdje clean en is het probleem minder om uit gebruik te blijven dan om met de nieuwe situatie om te gaan. \n\n\n\nWe zijn elkaar tot steun en inspireren elkaar aan de hand van gezamenlijke thema’s. Dit in een sfeer van warmte en verbinding en onder het genot van een kopje koffie of thee. \n\n\n\nDe groep komt elke week bij elkaar behalve in de schoolvakanties.
URL:https://dehoofdzaak.org/agenda/herstelgroep-0-0-de-kop-2/2029-10-01/
LOCATION:Scagon de Luxe\, Torenstraat 1B\, Schagen\, 1741CB
CATEGORIES:Kop Noord Holland
END:VEVENT
BEGIN:VEVENT
DTSTART;TZID=Europe/Amsterdam:20291008T130000
DTEND;TZID=Europe/Amsterdam:20291008T150000
DTSTAMP:20260420T164402
CREATED:20251209T174222Z
LAST-MODIFIED:20251209T174824Z
UID:10039687-1886158800-1886166000@dehoofdzaak.org
SUMMARY:Herstelgroep 0.0 de Kop
DESCRIPTION:Bij Herstelgroep 0.0 delen we de ups en downs van ons leven in herstel. Na een worsteling met onze verslaving zijn we ondertussen een tijdje clean en is het probleem minder om uit gebruik te blijven dan om met de nieuwe situatie om te gaan. \n\n\n\nWe zijn elkaar tot steun en inspireren elkaar aan de hand van gezamenlijke thema’s. Dit in een sfeer van warmte en verbinding en onder het genot van een kopje koffie of thee. \n\n\n\nDe groep komt elke week bij elkaar behalve in de schoolvakanties.
URL:https://dehoofdzaak.org/agenda/herstelgroep-0-0-de-kop-2/2029-10-08/
LOCATION:Scagon de Luxe\, Torenstraat 1B\, Schagen\, 1741CB
CATEGORIES:Kop Noord Holland
END:VEVENT
BEGIN:VEVENT
DTSTART;TZID=Europe/Amsterdam:20291010T100000
DTEND;TZID=Europe/Amsterdam:20291010T130000
DTSTAMP:20260420T164402
CREATED:20260212T130213Z
LAST-MODIFIED:20260212T130219Z
UID:10042696-1886320800-1886331600@dehoofdzaak.org
SUMMARY:Ontmoetingspunt Schagen
DESCRIPTION:Op de woensdag in de even weken: Kom ook eens gezellig binnenlopen op onze locatie in Schagen. Je bent welkom!
URL:https://dehoofdzaak.org/agenda/ontmoetingspunt-schagen/2029-10-10/
LOCATION:Scagon de Luxe\, Torenstraat 1B\, Schagen\, 1741CB
CATEGORIES:Kop Noord Holland
END:VEVENT
BEGIN:VEVENT
DTSTART;TZID=Europe/Amsterdam:20291010T113000
DTEND;TZID=Europe/Amsterdam:20291010T130000
DTSTAMP:20260420T164402
CREATED:20260212T130120Z
LAST-MODIFIED:20260212T130124Z
UID:10042566-1886326200-1886331600@dehoofdzaak.org
SUMMARY:Schagen: creagroep 't luisterend oor'
DESCRIPTION:De groep is bedoeld voor iedereen die het leuk vindt om creatief bezig te zijn of voor als je een plek zoekt om met anderen in contact te komen. Wij zorgen ervoor dat er spullen aanwezig zijn\, zodat jij je kan concentreren op het aansluiten en meedoen. Als je er liever alleen bij wilt zitten en wilt socializen ben je zeker ook welkom. \n\n\n\nDe groep is voor alle leeftijden en wordt om de week gegeven. Ook is er natuurlijk altijd de gelegenheid om met een ervaringsdeskundige apart te zitten voor een gesprek.  \n\n\n\nLocatie: Scagon de Luxe in Schagen
URL:https://dehoofdzaak.org/agenda/schagen-creagroep-t-luisterend-oor/2029-10-10/
LOCATION:Scagon de Luxe\, Torenstraat 1B\, Schagen\, 1741CB
CATEGORIES:Kop Noord Holland
END:VEVENT
BEGIN:VEVENT
DTSTART;TZID=Europe/Amsterdam:20291015T130000
DTEND;TZID=Europe/Amsterdam:20291015T150000
DTSTAMP:20260420T164402
CREATED:20251209T174222Z
LAST-MODIFIED:20251209T174824Z
UID:10039688-1886763600-1886770800@dehoofdzaak.org
SUMMARY:Herstelgroep 0.0 de Kop
DESCRIPTION:Bij Herstelgroep 0.0 delen we de ups en downs van ons leven in herstel. Na een worsteling met onze verslaving zijn we ondertussen een tijdje clean en is het probleem minder om uit gebruik te blijven dan om met de nieuwe situatie om te gaan. \n\n\n\nWe zijn elkaar tot steun en inspireren elkaar aan de hand van gezamenlijke thema’s. Dit in een sfeer van warmte en verbinding en onder het genot van een kopje koffie of thee. \n\n\n\nDe groep komt elke week bij elkaar behalve in de schoolvakanties.
URL:https://dehoofdzaak.org/agenda/herstelgroep-0-0-de-kop-2/2029-10-15/
LOCATION:Scagon de Luxe\, Torenstraat 1B\, Schagen\, 1741CB
CATEGORIES:Kop Noord Holland
END:VEVENT
BEGIN:VEVENT
DTSTART;TZID=Europe/Amsterdam:20291022T130000
DTEND;TZID=Europe/Amsterdam:20291022T150000
DTSTAMP:20260420T164402
CREATED:20251209T174222Z
LAST-MODIFIED:20251209T174824Z
UID:10039689-1887368400-1887375600@dehoofdzaak.org
SUMMARY:Herstelgroep 0.0 de Kop
DESCRIPTION:Bij Herstelgroep 0.0 delen we de ups en downs van ons leven in herstel. Na een worsteling met onze verslaving zijn we ondertussen een tijdje clean en is het probleem minder om uit gebruik te blijven dan om met de nieuwe situatie om te gaan. \n\n\n\nWe zijn elkaar tot steun en inspireren elkaar aan de hand van gezamenlijke thema’s. Dit in een sfeer van warmte en verbinding en onder het genot van een kopje koffie of thee. \n\n\n\nDe groep komt elke week bij elkaar behalve in de schoolvakanties.
URL:https://dehoofdzaak.org/agenda/herstelgroep-0-0-de-kop-2/2029-10-22/
LOCATION:Scagon de Luxe\, Torenstraat 1B\, Schagen\, 1741CB
CATEGORIES:Kop Noord Holland
END:VEVENT
BEGIN:VEVENT
DTSTART;TZID=Europe/Amsterdam:20291024T100000
DTEND;TZID=Europe/Amsterdam:20291024T130000
DTSTAMP:20260420T164402
CREATED:20260212T130213Z
LAST-MODIFIED:20260212T130219Z
UID:10042697-1887530400-1887541200@dehoofdzaak.org
SUMMARY:Ontmoetingspunt Schagen
DESCRIPTION:Op de woensdag in de even weken: Kom ook eens gezellig binnenlopen op onze locatie in Schagen. Je bent welkom!
URL:https://dehoofdzaak.org/agenda/ontmoetingspunt-schagen/2029-10-24/
LOCATION:Scagon de Luxe\, Torenstraat 1B\, Schagen\, 1741CB
CATEGORIES:Kop Noord Holland
END:VEVENT
END:VCALENDAR