BEGIN:VCALENDAR
VERSION:2.0
PRODID:-//De Hoofdzaak - ECPv6.15.20//NONSGML v1.0//EN
CALSCALE:GREGORIAN
METHOD:PUBLISH
X-ORIGINAL-URL:https://dehoofdzaak.org
X-WR-CALDESC:Evenementen voor De Hoofdzaak
REFRESH-INTERVAL;VALUE=DURATION:PT1H
X-Robots-Tag:noindex
X-PUBLISHED-TTL:PT1H
BEGIN:VTIMEZONE
TZID:Europe/Amsterdam
BEGIN:DAYLIGHT
TZOFFSETFROM:+0100
TZOFFSETTO:+0200
TZNAME:CEST
DTSTART:20290325T010000
END:DAYLIGHT
BEGIN:STANDARD
TZOFFSETFROM:+0200
TZOFFSETTO:+0100
TZNAME:CET
DTSTART:20291028T010000
END:STANDARD
BEGIN:DAYLIGHT
TZOFFSETFROM:+0100
TZOFFSETTO:+0200
TZNAME:CEST
DTSTART:20300331T010000
END:DAYLIGHT
BEGIN:STANDARD
TZOFFSETFROM:+0200
TZOFFSETTO:+0100
TZNAME:CET
DTSTART:20301027T010000
END:STANDARD
BEGIN:DAYLIGHT
TZOFFSETFROM:+0100
TZOFFSETTO:+0200
TZNAME:CEST
DTSTART:20310330T010000
END:DAYLIGHT
BEGIN:STANDARD
TZOFFSETFROM:+0200
TZOFFSETTO:+0100
TZNAME:CET
DTSTART:20311026T010000
END:STANDARD
END:VTIMEZONE
BEGIN:VEVENT
DTSTART;TZID=Europe/Amsterdam:20300506T130000
DTEND;TZID=Europe/Amsterdam:20300506T150000
DTSTAMP:20260421T053556
CREATED:20251209T174222Z
LAST-MODIFIED:20251209T174824Z
UID:10039717-1904302800-1904310000@dehoofdzaak.org
SUMMARY:Herstelgroep 0.0 de Kop
DESCRIPTION:Bij Herstelgroep 0.0 delen we de ups en downs van ons leven in herstel. Na een worsteling met onze verslaving zijn we ondertussen een tijdje clean en is het probleem minder om uit gebruik te blijven dan om met de nieuwe situatie om te gaan. \n\n\n\nWe zijn elkaar tot steun en inspireren elkaar aan de hand van gezamenlijke thema’s. Dit in een sfeer van warmte en verbinding en onder het genot van een kopje koffie of thee. \n\n\n\nDe groep komt elke week bij elkaar behalve in de schoolvakanties.
URL:https://dehoofdzaak.org/agenda/herstelgroep-0-0-de-kop-2/2030-05-06/
LOCATION:Scagon de Luxe\, Torenstraat 1B\, Schagen\, 1741CB
CATEGORIES:Kop Noord Holland
END:VEVENT
BEGIN:VEVENT
DTSTART;TZID=Europe/Amsterdam:20300508T100000
DTEND;TZID=Europe/Amsterdam:20300508T130000
DTSTAMP:20260421T053556
CREATED:20260212T130213Z
LAST-MODIFIED:20260212T130219Z
UID:10042711-1904464800-1904475600@dehoofdzaak.org
SUMMARY:Ontmoetingspunt Schagen
DESCRIPTION:Op de woensdag in de even weken: Kom ook eens gezellig binnenlopen op onze locatie in Schagen. Je bent welkom!
URL:https://dehoofdzaak.org/agenda/ontmoetingspunt-schagen/2030-05-08/
LOCATION:Scagon de Luxe\, Torenstraat 1B\, Schagen\, 1741CB
CATEGORIES:Kop Noord Holland
END:VEVENT
BEGIN:VEVENT
DTSTART;TZID=Europe/Amsterdam:20300508T113000
DTEND;TZID=Europe/Amsterdam:20300508T130000
DTSTAMP:20260421T053556
CREATED:20260212T130120Z
LAST-MODIFIED:20260212T130124Z
UID:10042581-1904470200-1904475600@dehoofdzaak.org
SUMMARY:Schagen: creagroep 't luisterend oor'
DESCRIPTION:De groep is bedoeld voor iedereen die het leuk vindt om creatief bezig te zijn of voor als je een plek zoekt om met anderen in contact te komen. Wij zorgen ervoor dat er spullen aanwezig zijn\, zodat jij je kan concentreren op het aansluiten en meedoen. Als je er liever alleen bij wilt zitten en wilt socializen ben je zeker ook welkom. \n\n\n\nDe groep is voor alle leeftijden en wordt om de week gegeven. Ook is er natuurlijk altijd de gelegenheid om met een ervaringsdeskundige apart te zitten voor een gesprek.  \n\n\n\nLocatie: Scagon de Luxe in Schagen
URL:https://dehoofdzaak.org/agenda/schagen-creagroep-t-luisterend-oor/2030-05-08/
LOCATION:Scagon de Luxe\, Torenstraat 1B\, Schagen\, 1741CB
CATEGORIES:Kop Noord Holland
END:VEVENT
BEGIN:VEVENT
DTSTART;TZID=Europe/Amsterdam:20300513T130000
DTEND;TZID=Europe/Amsterdam:20300513T150000
DTSTAMP:20260421T053556
CREATED:20251209T174222Z
LAST-MODIFIED:20251209T174824Z
UID:10039718-1904907600-1904914800@dehoofdzaak.org
SUMMARY:Herstelgroep 0.0 de Kop
DESCRIPTION:Bij Herstelgroep 0.0 delen we de ups en downs van ons leven in herstel. Na een worsteling met onze verslaving zijn we ondertussen een tijdje clean en is het probleem minder om uit gebruik te blijven dan om met de nieuwe situatie om te gaan. \n\n\n\nWe zijn elkaar tot steun en inspireren elkaar aan de hand van gezamenlijke thema’s. Dit in een sfeer van warmte en verbinding en onder het genot van een kopje koffie of thee. \n\n\n\nDe groep komt elke week bij elkaar behalve in de schoolvakanties.
URL:https://dehoofdzaak.org/agenda/herstelgroep-0-0-de-kop-2/2030-05-13/
LOCATION:Scagon de Luxe\, Torenstraat 1B\, Schagen\, 1741CB
CATEGORIES:Kop Noord Holland
END:VEVENT
BEGIN:VEVENT
DTSTART;TZID=Europe/Amsterdam:20300520T130000
DTEND;TZID=Europe/Amsterdam:20300520T150000
DTSTAMP:20260421T053556
CREATED:20251209T174222Z
LAST-MODIFIED:20251209T174824Z
UID:10039719-1905512400-1905519600@dehoofdzaak.org
SUMMARY:Herstelgroep 0.0 de Kop
DESCRIPTION:Bij Herstelgroep 0.0 delen we de ups en downs van ons leven in herstel. Na een worsteling met onze verslaving zijn we ondertussen een tijdje clean en is het probleem minder om uit gebruik te blijven dan om met de nieuwe situatie om te gaan. \n\n\n\nWe zijn elkaar tot steun en inspireren elkaar aan de hand van gezamenlijke thema’s. Dit in een sfeer van warmte en verbinding en onder het genot van een kopje koffie of thee. \n\n\n\nDe groep komt elke week bij elkaar behalve in de schoolvakanties.
URL:https://dehoofdzaak.org/agenda/herstelgroep-0-0-de-kop-2/2030-05-20/
LOCATION:Scagon de Luxe\, Torenstraat 1B\, Schagen\, 1741CB
CATEGORIES:Kop Noord Holland
END:VEVENT
BEGIN:VEVENT
DTSTART;TZID=Europe/Amsterdam:20300522T100000
DTEND;TZID=Europe/Amsterdam:20300522T130000
DTSTAMP:20260421T053556
CREATED:20260212T130213Z
LAST-MODIFIED:20260212T130219Z
UID:10042712-1905674400-1905685200@dehoofdzaak.org
SUMMARY:Ontmoetingspunt Schagen
DESCRIPTION:Op de woensdag in de even weken: Kom ook eens gezellig binnenlopen op onze locatie in Schagen. Je bent welkom!
URL:https://dehoofdzaak.org/agenda/ontmoetingspunt-schagen/2030-05-22/
LOCATION:Scagon de Luxe\, Torenstraat 1B\, Schagen\, 1741CB
CATEGORIES:Kop Noord Holland
END:VEVENT
BEGIN:VEVENT
DTSTART;TZID=Europe/Amsterdam:20300522T113000
DTEND;TZID=Europe/Amsterdam:20300522T130000
DTSTAMP:20260421T053556
CREATED:20260212T130120Z
LAST-MODIFIED:20260212T130124Z
UID:10042582-1905679800-1905685200@dehoofdzaak.org
SUMMARY:Schagen: creagroep 't luisterend oor'
DESCRIPTION:De groep is bedoeld voor iedereen die het leuk vindt om creatief bezig te zijn of voor als je een plek zoekt om met anderen in contact te komen. Wij zorgen ervoor dat er spullen aanwezig zijn\, zodat jij je kan concentreren op het aansluiten en meedoen. Als je er liever alleen bij wilt zitten en wilt socializen ben je zeker ook welkom. \n\n\n\nDe groep is voor alle leeftijden en wordt om de week gegeven. Ook is er natuurlijk altijd de gelegenheid om met een ervaringsdeskundige apart te zitten voor een gesprek.  \n\n\n\nLocatie: Scagon de Luxe in Schagen
URL:https://dehoofdzaak.org/agenda/schagen-creagroep-t-luisterend-oor/2030-05-22/
LOCATION:Scagon de Luxe\, Torenstraat 1B\, Schagen\, 1741CB
CATEGORIES:Kop Noord Holland
END:VEVENT
BEGIN:VEVENT
DTSTART;TZID=Europe/Amsterdam:20300527T130000
DTEND;TZID=Europe/Amsterdam:20300527T150000
DTSTAMP:20260421T053556
CREATED:20251209T174222Z
LAST-MODIFIED:20251209T174824Z
UID:10039720-1906117200-1906124400@dehoofdzaak.org
SUMMARY:Herstelgroep 0.0 de Kop
DESCRIPTION:Bij Herstelgroep 0.0 delen we de ups en downs van ons leven in herstel. Na een worsteling met onze verslaving zijn we ondertussen een tijdje clean en is het probleem minder om uit gebruik te blijven dan om met de nieuwe situatie om te gaan. \n\n\n\nWe zijn elkaar tot steun en inspireren elkaar aan de hand van gezamenlijke thema’s. Dit in een sfeer van warmte en verbinding en onder het genot van een kopje koffie of thee. \n\n\n\nDe groep komt elke week bij elkaar behalve in de schoolvakanties.
URL:https://dehoofdzaak.org/agenda/herstelgroep-0-0-de-kop-2/2030-05-27/
LOCATION:Scagon de Luxe\, Torenstraat 1B\, Schagen\, 1741CB
CATEGORIES:Kop Noord Holland
END:VEVENT
BEGIN:VEVENT
DTSTART;TZID=Europe/Amsterdam:20300603T130000
DTEND;TZID=Europe/Amsterdam:20300603T150000
DTSTAMP:20260421T053556
CREATED:20251209T174222Z
LAST-MODIFIED:20251209T174824Z
UID:10039721-1906722000-1906729200@dehoofdzaak.org
SUMMARY:Herstelgroep 0.0 de Kop
DESCRIPTION:Bij Herstelgroep 0.0 delen we de ups en downs van ons leven in herstel. Na een worsteling met onze verslaving zijn we ondertussen een tijdje clean en is het probleem minder om uit gebruik te blijven dan om met de nieuwe situatie om te gaan. \n\n\n\nWe zijn elkaar tot steun en inspireren elkaar aan de hand van gezamenlijke thema’s. Dit in een sfeer van warmte en verbinding en onder het genot van een kopje koffie of thee. \n\n\n\nDe groep komt elke week bij elkaar behalve in de schoolvakanties.
URL:https://dehoofdzaak.org/agenda/herstelgroep-0-0-de-kop-2/2030-06-03/
LOCATION:Scagon de Luxe\, Torenstraat 1B\, Schagen\, 1741CB
CATEGORIES:Kop Noord Holland
END:VEVENT
BEGIN:VEVENT
DTSTART;TZID=Europe/Amsterdam:20300605T100000
DTEND;TZID=Europe/Amsterdam:20300605T130000
DTSTAMP:20260421T053556
CREATED:20260212T130213Z
LAST-MODIFIED:20260212T130219Z
UID:10042713-1906884000-1906894800@dehoofdzaak.org
SUMMARY:Ontmoetingspunt Schagen
DESCRIPTION:Op de woensdag in de even weken: Kom ook eens gezellig binnenlopen op onze locatie in Schagen. Je bent welkom!
URL:https://dehoofdzaak.org/agenda/ontmoetingspunt-schagen/2030-06-05/
LOCATION:Scagon de Luxe\, Torenstraat 1B\, Schagen\, 1741CB
CATEGORIES:Kop Noord Holland
END:VEVENT
BEGIN:VEVENT
DTSTART;TZID=Europe/Amsterdam:20300605T113000
DTEND;TZID=Europe/Amsterdam:20300605T130000
DTSTAMP:20260421T053556
CREATED:20260212T130120Z
LAST-MODIFIED:20260212T130124Z
UID:10042583-1906889400-1906894800@dehoofdzaak.org
SUMMARY:Schagen: creagroep 't luisterend oor'
DESCRIPTION:De groep is bedoeld voor iedereen die het leuk vindt om creatief bezig te zijn of voor als je een plek zoekt om met anderen in contact te komen. Wij zorgen ervoor dat er spullen aanwezig zijn\, zodat jij je kan concentreren op het aansluiten en meedoen. Als je er liever alleen bij wilt zitten en wilt socializen ben je zeker ook welkom. \n\n\n\nDe groep is voor alle leeftijden en wordt om de week gegeven. Ook is er natuurlijk altijd de gelegenheid om met een ervaringsdeskundige apart te zitten voor een gesprek.  \n\n\n\nLocatie: Scagon de Luxe in Schagen
URL:https://dehoofdzaak.org/agenda/schagen-creagroep-t-luisterend-oor/2030-06-05/
LOCATION:Scagon de Luxe\, Torenstraat 1B\, Schagen\, 1741CB
CATEGORIES:Kop Noord Holland
END:VEVENT
BEGIN:VEVENT
DTSTART;TZID=Europe/Amsterdam:20300610T130000
DTEND;TZID=Europe/Amsterdam:20300610T150000
DTSTAMP:20260421T053556
CREATED:20251209T174222Z
LAST-MODIFIED:20251209T174824Z
UID:10039722-1907326800-1907334000@dehoofdzaak.org
SUMMARY:Herstelgroep 0.0 de Kop
DESCRIPTION:Bij Herstelgroep 0.0 delen we de ups en downs van ons leven in herstel. Na een worsteling met onze verslaving zijn we ondertussen een tijdje clean en is het probleem minder om uit gebruik te blijven dan om met de nieuwe situatie om te gaan. \n\n\n\nWe zijn elkaar tot steun en inspireren elkaar aan de hand van gezamenlijke thema’s. Dit in een sfeer van warmte en verbinding en onder het genot van een kopje koffie of thee. \n\n\n\nDe groep komt elke week bij elkaar behalve in de schoolvakanties.
URL:https://dehoofdzaak.org/agenda/herstelgroep-0-0-de-kop-2/2030-06-10/
LOCATION:Scagon de Luxe\, Torenstraat 1B\, Schagen\, 1741CB
CATEGORIES:Kop Noord Holland
END:VEVENT
BEGIN:VEVENT
DTSTART;TZID=Europe/Amsterdam:20300617T130000
DTEND;TZID=Europe/Amsterdam:20300617T150000
DTSTAMP:20260421T053556
CREATED:20251209T174222Z
LAST-MODIFIED:20251209T174824Z
UID:10039723-1907931600-1907938800@dehoofdzaak.org
SUMMARY:Herstelgroep 0.0 de Kop
DESCRIPTION:Bij Herstelgroep 0.0 delen we de ups en downs van ons leven in herstel. Na een worsteling met onze verslaving zijn we ondertussen een tijdje clean en is het probleem minder om uit gebruik te blijven dan om met de nieuwe situatie om te gaan. \n\n\n\nWe zijn elkaar tot steun en inspireren elkaar aan de hand van gezamenlijke thema’s. Dit in een sfeer van warmte en verbinding en onder het genot van een kopje koffie of thee. \n\n\n\nDe groep komt elke week bij elkaar behalve in de schoolvakanties.
URL:https://dehoofdzaak.org/agenda/herstelgroep-0-0-de-kop-2/2030-06-17/
LOCATION:Scagon de Luxe\, Torenstraat 1B\, Schagen\, 1741CB
CATEGORIES:Kop Noord Holland
END:VEVENT
BEGIN:VEVENT
DTSTART;TZID=Europe/Amsterdam:20300619T100000
DTEND;TZID=Europe/Amsterdam:20300619T130000
DTSTAMP:20260421T053556
CREATED:20260212T130213Z
LAST-MODIFIED:20260212T130219Z
UID:10042714-1908093600-1908104400@dehoofdzaak.org
SUMMARY:Ontmoetingspunt Schagen
DESCRIPTION:Op de woensdag in de even weken: Kom ook eens gezellig binnenlopen op onze locatie in Schagen. Je bent welkom!
URL:https://dehoofdzaak.org/agenda/ontmoetingspunt-schagen/2030-06-19/
LOCATION:Scagon de Luxe\, Torenstraat 1B\, Schagen\, 1741CB
CATEGORIES:Kop Noord Holland
END:VEVENT
BEGIN:VEVENT
DTSTART;TZID=Europe/Amsterdam:20300619T113000
DTEND;TZID=Europe/Amsterdam:20300619T130000
DTSTAMP:20260421T053556
CREATED:20260212T130120Z
LAST-MODIFIED:20260212T130124Z
UID:10042584-1908099000-1908104400@dehoofdzaak.org
SUMMARY:Schagen: creagroep 't luisterend oor'
DESCRIPTION:De groep is bedoeld voor iedereen die het leuk vindt om creatief bezig te zijn of voor als je een plek zoekt om met anderen in contact te komen. Wij zorgen ervoor dat er spullen aanwezig zijn\, zodat jij je kan concentreren op het aansluiten en meedoen. Als je er liever alleen bij wilt zitten en wilt socializen ben je zeker ook welkom. \n\n\n\nDe groep is voor alle leeftijden en wordt om de week gegeven. Ook is er natuurlijk altijd de gelegenheid om met een ervaringsdeskundige apart te zitten voor een gesprek.  \n\n\n\nLocatie: Scagon de Luxe in Schagen
URL:https://dehoofdzaak.org/agenda/schagen-creagroep-t-luisterend-oor/2030-06-19/
LOCATION:Scagon de Luxe\, Torenstraat 1B\, Schagen\, 1741CB
CATEGORIES:Kop Noord Holland
END:VEVENT
BEGIN:VEVENT
DTSTART;TZID=Europe/Amsterdam:20300624T130000
DTEND;TZID=Europe/Amsterdam:20300624T150000
DTSTAMP:20260421T053556
CREATED:20251209T174222Z
LAST-MODIFIED:20251209T174824Z
UID:10039724-1908536400-1908543600@dehoofdzaak.org
SUMMARY:Herstelgroep 0.0 de Kop
DESCRIPTION:Bij Herstelgroep 0.0 delen we de ups en downs van ons leven in herstel. Na een worsteling met onze verslaving zijn we ondertussen een tijdje clean en is het probleem minder om uit gebruik te blijven dan om met de nieuwe situatie om te gaan. \n\n\n\nWe zijn elkaar tot steun en inspireren elkaar aan de hand van gezamenlijke thema’s. Dit in een sfeer van warmte en verbinding en onder het genot van een kopje koffie of thee. \n\n\n\nDe groep komt elke week bij elkaar behalve in de schoolvakanties.
URL:https://dehoofdzaak.org/agenda/herstelgroep-0-0-de-kop-2/2030-06-24/
LOCATION:Scagon de Luxe\, Torenstraat 1B\, Schagen\, 1741CB
CATEGORIES:Kop Noord Holland
END:VEVENT
BEGIN:VEVENT
DTSTART;TZID=Europe/Amsterdam:20300701T130000
DTEND;TZID=Europe/Amsterdam:20300701T150000
DTSTAMP:20260421T053556
CREATED:20251209T174222Z
LAST-MODIFIED:20251209T174824Z
UID:10039725-1909141200-1909148400@dehoofdzaak.org
SUMMARY:Herstelgroep 0.0 de Kop
DESCRIPTION:Bij Herstelgroep 0.0 delen we de ups en downs van ons leven in herstel. Na een worsteling met onze verslaving zijn we ondertussen een tijdje clean en is het probleem minder om uit gebruik te blijven dan om met de nieuwe situatie om te gaan. \n\n\n\nWe zijn elkaar tot steun en inspireren elkaar aan de hand van gezamenlijke thema’s. Dit in een sfeer van warmte en verbinding en onder het genot van een kopje koffie of thee. \n\n\n\nDe groep komt elke week bij elkaar behalve in de schoolvakanties.
URL:https://dehoofdzaak.org/agenda/herstelgroep-0-0-de-kop-2/2030-07-01/
LOCATION:Scagon de Luxe\, Torenstraat 1B\, Schagen\, 1741CB
CATEGORIES:Kop Noord Holland
END:VEVENT
BEGIN:VEVENT
DTSTART;TZID=Europe/Amsterdam:20300703T100000
DTEND;TZID=Europe/Amsterdam:20300703T130000
DTSTAMP:20260421T053556
CREATED:20260212T130213Z
LAST-MODIFIED:20260212T130219Z
UID:10042715-1909303200-1909314000@dehoofdzaak.org
SUMMARY:Ontmoetingspunt Schagen
DESCRIPTION:Op de woensdag in de even weken: Kom ook eens gezellig binnenlopen op onze locatie in Schagen. Je bent welkom!
URL:https://dehoofdzaak.org/agenda/ontmoetingspunt-schagen/2030-07-03/
LOCATION:Scagon de Luxe\, Torenstraat 1B\, Schagen\, 1741CB
CATEGORIES:Kop Noord Holland
END:VEVENT
BEGIN:VEVENT
DTSTART;TZID=Europe/Amsterdam:20300703T113000
DTEND;TZID=Europe/Amsterdam:20300703T130000
DTSTAMP:20260421T053556
CREATED:20260212T130120Z
LAST-MODIFIED:20260212T130124Z
UID:10042585-1909308600-1909314000@dehoofdzaak.org
SUMMARY:Schagen: creagroep 't luisterend oor'
DESCRIPTION:De groep is bedoeld voor iedereen die het leuk vindt om creatief bezig te zijn of voor als je een plek zoekt om met anderen in contact te komen. Wij zorgen ervoor dat er spullen aanwezig zijn\, zodat jij je kan concentreren op het aansluiten en meedoen. Als je er liever alleen bij wilt zitten en wilt socializen ben je zeker ook welkom. \n\n\n\nDe groep is voor alle leeftijden en wordt om de week gegeven. Ook is er natuurlijk altijd de gelegenheid om met een ervaringsdeskundige apart te zitten voor een gesprek.  \n\n\n\nLocatie: Scagon de Luxe in Schagen
URL:https://dehoofdzaak.org/agenda/schagen-creagroep-t-luisterend-oor/2030-07-03/
LOCATION:Scagon de Luxe\, Torenstraat 1B\, Schagen\, 1741CB
CATEGORIES:Kop Noord Holland
END:VEVENT
BEGIN:VEVENT
DTSTART;TZID=Europe/Amsterdam:20300708T130000
DTEND;TZID=Europe/Amsterdam:20300708T150000
DTSTAMP:20260421T053556
CREATED:20251209T174222Z
LAST-MODIFIED:20251209T174824Z
UID:10039726-1909746000-1909753200@dehoofdzaak.org
SUMMARY:Herstelgroep 0.0 de Kop
DESCRIPTION:Bij Herstelgroep 0.0 delen we de ups en downs van ons leven in herstel. Na een worsteling met onze verslaving zijn we ondertussen een tijdje clean en is het probleem minder om uit gebruik te blijven dan om met de nieuwe situatie om te gaan. \n\n\n\nWe zijn elkaar tot steun en inspireren elkaar aan de hand van gezamenlijke thema’s. Dit in een sfeer van warmte en verbinding en onder het genot van een kopje koffie of thee. \n\n\n\nDe groep komt elke week bij elkaar behalve in de schoolvakanties.
URL:https://dehoofdzaak.org/agenda/herstelgroep-0-0-de-kop-2/2030-07-08/
LOCATION:Scagon de Luxe\, Torenstraat 1B\, Schagen\, 1741CB
CATEGORIES:Kop Noord Holland
END:VEVENT
BEGIN:VEVENT
DTSTART;TZID=Europe/Amsterdam:20300715T130000
DTEND;TZID=Europe/Amsterdam:20300715T150000
DTSTAMP:20260421T053556
CREATED:20251209T174222Z
LAST-MODIFIED:20251209T174824Z
UID:10039727-1910350800-1910358000@dehoofdzaak.org
SUMMARY:Herstelgroep 0.0 de Kop
DESCRIPTION:Bij Herstelgroep 0.0 delen we de ups en downs van ons leven in herstel. Na een worsteling met onze verslaving zijn we ondertussen een tijdje clean en is het probleem minder om uit gebruik te blijven dan om met de nieuwe situatie om te gaan. \n\n\n\nWe zijn elkaar tot steun en inspireren elkaar aan de hand van gezamenlijke thema’s. Dit in een sfeer van warmte en verbinding en onder het genot van een kopje koffie of thee. \n\n\n\nDe groep komt elke week bij elkaar behalve in de schoolvakanties.
URL:https://dehoofdzaak.org/agenda/herstelgroep-0-0-de-kop-2/2030-07-15/
LOCATION:Scagon de Luxe\, Torenstraat 1B\, Schagen\, 1741CB
CATEGORIES:Kop Noord Holland
END:VEVENT
BEGIN:VEVENT
DTSTART;TZID=Europe/Amsterdam:20300717T100000
DTEND;TZID=Europe/Amsterdam:20300717T130000
DTSTAMP:20260421T053556
CREATED:20260212T130213Z
LAST-MODIFIED:20260212T130219Z
UID:10042716-1910512800-1910523600@dehoofdzaak.org
SUMMARY:Ontmoetingspunt Schagen
DESCRIPTION:Op de woensdag in de even weken: Kom ook eens gezellig binnenlopen op onze locatie in Schagen. Je bent welkom!
URL:https://dehoofdzaak.org/agenda/ontmoetingspunt-schagen/2030-07-17/
LOCATION:Scagon de Luxe\, Torenstraat 1B\, Schagen\, 1741CB
CATEGORIES:Kop Noord Holland
END:VEVENT
BEGIN:VEVENT
DTSTART;TZID=Europe/Amsterdam:20300717T113000
DTEND;TZID=Europe/Amsterdam:20300717T130000
DTSTAMP:20260421T053556
CREATED:20260212T130120Z
LAST-MODIFIED:20260212T130124Z
UID:10042586-1910518200-1910523600@dehoofdzaak.org
SUMMARY:Schagen: creagroep 't luisterend oor'
DESCRIPTION:De groep is bedoeld voor iedereen die het leuk vindt om creatief bezig te zijn of voor als je een plek zoekt om met anderen in contact te komen. Wij zorgen ervoor dat er spullen aanwezig zijn\, zodat jij je kan concentreren op het aansluiten en meedoen. Als je er liever alleen bij wilt zitten en wilt socializen ben je zeker ook welkom. \n\n\n\nDe groep is voor alle leeftijden en wordt om de week gegeven. Ook is er natuurlijk altijd de gelegenheid om met een ervaringsdeskundige apart te zitten voor een gesprek.  \n\n\n\nLocatie: Scagon de Luxe in Schagen
URL:https://dehoofdzaak.org/agenda/schagen-creagroep-t-luisterend-oor/2030-07-17/
LOCATION:Scagon de Luxe\, Torenstraat 1B\, Schagen\, 1741CB
CATEGORIES:Kop Noord Holland
END:VEVENT
BEGIN:VEVENT
DTSTART;TZID=Europe/Amsterdam:20300722T130000
DTEND;TZID=Europe/Amsterdam:20300722T150000
DTSTAMP:20260421T053556
CREATED:20251209T174222Z
LAST-MODIFIED:20251209T174824Z
UID:10039728-1910955600-1910962800@dehoofdzaak.org
SUMMARY:Herstelgroep 0.0 de Kop
DESCRIPTION:Bij Herstelgroep 0.0 delen we de ups en downs van ons leven in herstel. Na een worsteling met onze verslaving zijn we ondertussen een tijdje clean en is het probleem minder om uit gebruik te blijven dan om met de nieuwe situatie om te gaan. \n\n\n\nWe zijn elkaar tot steun en inspireren elkaar aan de hand van gezamenlijke thema’s. Dit in een sfeer van warmte en verbinding en onder het genot van een kopje koffie of thee. \n\n\n\nDe groep komt elke week bij elkaar behalve in de schoolvakanties.
URL:https://dehoofdzaak.org/agenda/herstelgroep-0-0-de-kop-2/2030-07-22/
LOCATION:Scagon de Luxe\, Torenstraat 1B\, Schagen\, 1741CB
CATEGORIES:Kop Noord Holland
END:VEVENT
BEGIN:VEVENT
DTSTART;TZID=Europe/Amsterdam:20300729T130000
DTEND;TZID=Europe/Amsterdam:20300729T150000
DTSTAMP:20260421T053556
CREATED:20251209T174222Z
LAST-MODIFIED:20251209T174824Z
UID:10039729-1911560400-1911567600@dehoofdzaak.org
SUMMARY:Herstelgroep 0.0 de Kop
DESCRIPTION:Bij Herstelgroep 0.0 delen we de ups en downs van ons leven in herstel. Na een worsteling met onze verslaving zijn we ondertussen een tijdje clean en is het probleem minder om uit gebruik te blijven dan om met de nieuwe situatie om te gaan. \n\n\n\nWe zijn elkaar tot steun en inspireren elkaar aan de hand van gezamenlijke thema’s. Dit in een sfeer van warmte en verbinding en onder het genot van een kopje koffie of thee. \n\n\n\nDe groep komt elke week bij elkaar behalve in de schoolvakanties.
URL:https://dehoofdzaak.org/agenda/herstelgroep-0-0-de-kop-2/2030-07-29/
LOCATION:Scagon de Luxe\, Torenstraat 1B\, Schagen\, 1741CB
CATEGORIES:Kop Noord Holland
END:VEVENT
BEGIN:VEVENT
DTSTART;TZID=Europe/Amsterdam:20300731T100000
DTEND;TZID=Europe/Amsterdam:20300731T130000
DTSTAMP:20260421T053556
CREATED:20260212T130213Z
LAST-MODIFIED:20260212T130219Z
UID:10042717-1911722400-1911733200@dehoofdzaak.org
SUMMARY:Ontmoetingspunt Schagen
DESCRIPTION:Op de woensdag in de even weken: Kom ook eens gezellig binnenlopen op onze locatie in Schagen. Je bent welkom!
URL:https://dehoofdzaak.org/agenda/ontmoetingspunt-schagen/2030-07-31/
LOCATION:Scagon de Luxe\, Torenstraat 1B\, Schagen\, 1741CB
CATEGORIES:Kop Noord Holland
END:VEVENT
BEGIN:VEVENT
DTSTART;TZID=Europe/Amsterdam:20300731T113000
DTEND;TZID=Europe/Amsterdam:20300731T130000
DTSTAMP:20260421T053556
CREATED:20260212T130120Z
LAST-MODIFIED:20260212T130124Z
UID:10042587-1911727800-1911733200@dehoofdzaak.org
SUMMARY:Schagen: creagroep 't luisterend oor'
DESCRIPTION:De groep is bedoeld voor iedereen die het leuk vindt om creatief bezig te zijn of voor als je een plek zoekt om met anderen in contact te komen. Wij zorgen ervoor dat er spullen aanwezig zijn\, zodat jij je kan concentreren op het aansluiten en meedoen. Als je er liever alleen bij wilt zitten en wilt socializen ben je zeker ook welkom. \n\n\n\nDe groep is voor alle leeftijden en wordt om de week gegeven. Ook is er natuurlijk altijd de gelegenheid om met een ervaringsdeskundige apart te zitten voor een gesprek.  \n\n\n\nLocatie: Scagon de Luxe in Schagen
URL:https://dehoofdzaak.org/agenda/schagen-creagroep-t-luisterend-oor/2030-07-31/
LOCATION:Scagon de Luxe\, Torenstraat 1B\, Schagen\, 1741CB
CATEGORIES:Kop Noord Holland
END:VEVENT
BEGIN:VEVENT
DTSTART;TZID=Europe/Amsterdam:20300805T130000
DTEND;TZID=Europe/Amsterdam:20300805T150000
DTSTAMP:20260421T053556
CREATED:20251209T174222Z
LAST-MODIFIED:20251209T174824Z
UID:10039730-1912165200-1912172400@dehoofdzaak.org
SUMMARY:Herstelgroep 0.0 de Kop
DESCRIPTION:Bij Herstelgroep 0.0 delen we de ups en downs van ons leven in herstel. Na een worsteling met onze verslaving zijn we ondertussen een tijdje clean en is het probleem minder om uit gebruik te blijven dan om met de nieuwe situatie om te gaan. \n\n\n\nWe zijn elkaar tot steun en inspireren elkaar aan de hand van gezamenlijke thema’s. Dit in een sfeer van warmte en verbinding en onder het genot van een kopje koffie of thee. \n\n\n\nDe groep komt elke week bij elkaar behalve in de schoolvakanties.
URL:https://dehoofdzaak.org/agenda/herstelgroep-0-0-de-kop-2/2030-08-05/
LOCATION:Scagon de Luxe\, Torenstraat 1B\, Schagen\, 1741CB
CATEGORIES:Kop Noord Holland
END:VEVENT
BEGIN:VEVENT
DTSTART;TZID=Europe/Amsterdam:20300812T130000
DTEND;TZID=Europe/Amsterdam:20300812T150000
DTSTAMP:20260421T053556
CREATED:20251209T174222Z
LAST-MODIFIED:20251209T174824Z
UID:10039731-1912770000-1912777200@dehoofdzaak.org
SUMMARY:Herstelgroep 0.0 de Kop
DESCRIPTION:Bij Herstelgroep 0.0 delen we de ups en downs van ons leven in herstel. Na een worsteling met onze verslaving zijn we ondertussen een tijdje clean en is het probleem minder om uit gebruik te blijven dan om met de nieuwe situatie om te gaan. \n\n\n\nWe zijn elkaar tot steun en inspireren elkaar aan de hand van gezamenlijke thema’s. Dit in een sfeer van warmte en verbinding en onder het genot van een kopje koffie of thee. \n\n\n\nDe groep komt elke week bij elkaar behalve in de schoolvakanties.
URL:https://dehoofdzaak.org/agenda/herstelgroep-0-0-de-kop-2/2030-08-12/
LOCATION:Scagon de Luxe\, Torenstraat 1B\, Schagen\, 1741CB
CATEGORIES:Kop Noord Holland
END:VEVENT
BEGIN:VEVENT
DTSTART;TZID=Europe/Amsterdam:20300814T100000
DTEND;TZID=Europe/Amsterdam:20300814T130000
DTSTAMP:20260421T053556
CREATED:20260212T130213Z
LAST-MODIFIED:20260212T130219Z
UID:10042718-1912932000-1912942800@dehoofdzaak.org
SUMMARY:Ontmoetingspunt Schagen
DESCRIPTION:Op de woensdag in de even weken: Kom ook eens gezellig binnenlopen op onze locatie in Schagen. Je bent welkom!
URL:https://dehoofdzaak.org/agenda/ontmoetingspunt-schagen/2030-08-14/
LOCATION:Scagon de Luxe\, Torenstraat 1B\, Schagen\, 1741CB
CATEGORIES:Kop Noord Holland
END:VEVENT
END:VCALENDAR