BEGIN:VCALENDAR
VERSION:2.0
PRODID:-//De Hoofdzaak - ECPv6.15.20//NONSGML v1.0//EN
CALSCALE:GREGORIAN
METHOD:PUBLISH
X-ORIGINAL-URL:https://dehoofdzaak.org
X-WR-CALDESC:Evenementen voor De Hoofdzaak
REFRESH-INTERVAL;VALUE=DURATION:PT1H
X-Robots-Tag:noindex
X-PUBLISHED-TTL:PT1H
BEGIN:VTIMEZONE
TZID:Europe/Amsterdam
BEGIN:DAYLIGHT
TZOFFSETFROM:+0100
TZOFFSETTO:+0200
TZNAME:CEST
DTSTART:20240331T010000
END:DAYLIGHT
BEGIN:STANDARD
TZOFFSETFROM:+0200
TZOFFSETTO:+0100
TZNAME:CET
DTSTART:20241027T010000
END:STANDARD
BEGIN:DAYLIGHT
TZOFFSETFROM:+0100
TZOFFSETTO:+0200
TZNAME:CEST
DTSTART:20250330T010000
END:DAYLIGHT
BEGIN:STANDARD
TZOFFSETFROM:+0200
TZOFFSETTO:+0100
TZNAME:CET
DTSTART:20251026T010000
END:STANDARD
BEGIN:DAYLIGHT
TZOFFSETFROM:+0100
TZOFFSETTO:+0200
TZNAME:CEST
DTSTART:20260329T010000
END:DAYLIGHT
BEGIN:STANDARD
TZOFFSETFROM:+0200
TZOFFSETTO:+0100
TZNAME:CET
DTSTART:20261025T010000
END:STANDARD
END:VTIMEZONE
BEGIN:VEVENT
DTSTART;TZID=Europe/Amsterdam:20251114T100000
DTEND;TZID=Europe/Amsterdam:20251114T120000
DTSTAMP:20260420T004531
CREATED:20251017T060647Z
LAST-MODIFIED:20251017T060649Z
UID:10037519-1763114400-1763121600@dehoofdzaak.org
SUMMARY:Creatieve workshop de Jutter
DESCRIPTION:Tijdens deze workshop ga je aan de slag met klei om een beeldje te maken dat symbool staat voor iets in jou dat meer aandacht\, liefde of kracht mag krijgen. Dat kan je innerlijk kind zijn\, een beschermfiguur\, een krachtbron of iets wat spontaan onder je handen ontstaat. \n\n\n\nJe hebt geen ervaring nodig en het hoeft niet perfect te zijn. Het gaat niet om techniek of resultaat\, maar om het proces – even uit je hoofd en in contact met wat er vanbinnen leeft. \n\n\n\nIn een rustige sfeer\, met zachte muziek en aandacht\, creëren we samen een veilige ruimte waar je helemaal jezelf mag zijn. Aan het eind neem je jouw beeldje mee naar huis als een tastbare herinnering aan iets waardevols in jezelf.
URL:https://dehoofdzaak.org/agenda/creatieve-workshop-de-jutter/
LOCATION:Verenigingsgebouw de Jutter\, Spoorgracht 5A\, Den Helder\, 1781 CC\, Netherlands
CATEGORIES:Kop Noord Holland
END:VEVENT
END:VCALENDAR