BEGIN:VCALENDAR
VERSION:2.0
PRODID:-//De Hoofdzaak - ECPv6.15.20//NONSGML v1.0//EN
CALSCALE:GREGORIAN
METHOD:PUBLISH
X-ORIGINAL-URL:https://dehoofdzaak.org
X-WR-CALDESC:Evenementen voor De Hoofdzaak
REFRESH-INTERVAL;VALUE=DURATION:PT1H
X-Robots-Tag:noindex
X-PUBLISHED-TTL:PT1H
BEGIN:VTIMEZONE
TZID:Europe/Amsterdam
BEGIN:DAYLIGHT
TZOFFSETFROM:+0100
TZOFFSETTO:+0200
TZNAME:CEST
DTSTART:20270328T010000
END:DAYLIGHT
BEGIN:STANDARD
TZOFFSETFROM:+0200
TZOFFSETTO:+0100
TZNAME:CET
DTSTART:20271031T010000
END:STANDARD
BEGIN:DAYLIGHT
TZOFFSETFROM:+0100
TZOFFSETTO:+0200
TZNAME:CEST
DTSTART:20280326T010000
END:DAYLIGHT
BEGIN:STANDARD
TZOFFSETFROM:+0200
TZOFFSETTO:+0100
TZNAME:CET
DTSTART:20281029T010000
END:STANDARD
BEGIN:DAYLIGHT
TZOFFSETFROM:+0100
TZOFFSETTO:+0200
TZNAME:CEST
DTSTART:20290325T010000
END:DAYLIGHT
BEGIN:STANDARD
TZOFFSETFROM:+0200
TZOFFSETTO:+0100
TZNAME:CET
DTSTART:20291028T010000
END:STANDARD
END:VTIMEZONE
BEGIN:VEVENT
DTSTART;TZID=Europe/Amsterdam:20280809T100000
DTEND;TZID=Europe/Amsterdam:20280809T123000
DTSTAMP:20260420T233258
CREATED:20260324T100643Z
LAST-MODIFIED:20260324T100646Z
UID:10044950-1849428000-1849437000@dehoofdzaak.org
SUMMARY:Creatief Verbinden
DESCRIPTION:Door middel van creatief bezig zijn kun je hoofd en handen verbinden met elkaar. Ook kun je jezelf verbinden met het materiaal waarmee je werkt. We gaan aan de slag met verschillende materialen in acht verschillende bijeenkomsten. Door gezamenlijk creatief bezig te zijn kunnen we elkaar versterken en verbinden. Je kan je voor de nieuwe reeks aanmelden via: creatief-verbinden-alkmaar@dehoofdzaak.org. \n\n\n\n\n\n\n\n\n\n\n\nCreatief verbinden | De Hoofdzaak
URL:https://dehoofdzaak.org/agenda/creatief-verbinden-4/2028-08-09/
LOCATION:Wijkcentrum Overdie\, Van Maerlantstraat 8-10\, Alkmaar\, 1813 BH
CATEGORIES:Noord-Kennemerland
END:VEVENT
BEGIN:VEVENT
DTSTART;TZID=Europe/Amsterdam:20280809T133000
DTEND;TZID=Europe/Amsterdam:20280809T143000
DTSTAMP:20260420T233258
CREATED:20260317T100025Z
LAST-MODIFIED:20260317T100027Z
UID:10043827-1849440600-1849444200@dehoofdzaak.org
SUMMARY:Gitaar Cursus
DESCRIPTION:Leer akoestische gitaar spelen! In deze cursus leer je liedjes begeleiden met akkoorden en melodieën spelen. De cursus is voor beginners\, ideaal voor mensen die een moeilijke periode doormaken en op zoek zijn naar een nieuwe passie. \n\n\n\n\n\n\n\n\n\n\nGitaarcursus voor beginners | De Hoofdzaak
URL:https://dehoofdzaak.org/agenda/gitaar-cursus/2028-08-09/
LOCATION:Wijkcentrum Overdie\, Van Maerlantstraat 8-10\, Alkmaar\, 1813 BH
CATEGORIES:Noord-Kennemerland
END:VEVENT
BEGIN:VEVENT
DTSTART;TZID=Europe/Amsterdam:20280811T100000
DTEND;TZID=Europe/Amsterdam:20280811T123000
DTSTAMP:20260420T233258
CREATED:20260324T100643Z
LAST-MODIFIED:20260324T100646Z
UID:10044214-1849600800-1849609800@dehoofdzaak.org
SUMMARY:Creatief Verbinden
DESCRIPTION:Door middel van creatief bezig zijn kun je hoofd en handen verbinden met elkaar. Ook kun je jezelf verbinden met het materiaal waarmee je werkt. We gaan aan de slag met verschillende materialen in acht verschillende bijeenkomsten. Door gezamenlijk creatief bezig te zijn kunnen we elkaar versterken en verbinden. Je kan je voor de nieuwe reeks aanmelden via: creatief-verbinden-alkmaar@dehoofdzaak.org. \n\n\n\n\n\n\n\n\n\n\n\nCreatief verbinden | De Hoofdzaak
URL:https://dehoofdzaak.org/agenda/creatief-verbinden-4/2028-08-11/
LOCATION:Wijkcentrum Overdie\, Van Maerlantstraat 8-10\, Alkmaar\, 1813 BH
CATEGORIES:Noord-Kennemerland
END:VEVENT
BEGIN:VEVENT
DTSTART;TZID=Europe/Amsterdam:20280816T100000
DTEND;TZID=Europe/Amsterdam:20280816T123000
DTSTAMP:20260420T233258
CREATED:20260324T100643Z
LAST-MODIFIED:20260324T100646Z
UID:10044951-1850032800-1850041800@dehoofdzaak.org
SUMMARY:Creatief Verbinden
DESCRIPTION:Door middel van creatief bezig zijn kun je hoofd en handen verbinden met elkaar. Ook kun je jezelf verbinden met het materiaal waarmee je werkt. We gaan aan de slag met verschillende materialen in acht verschillende bijeenkomsten. Door gezamenlijk creatief bezig te zijn kunnen we elkaar versterken en verbinden. Je kan je voor de nieuwe reeks aanmelden via: creatief-verbinden-alkmaar@dehoofdzaak.org. \n\n\n\n\n\n\n\n\n\n\n\nCreatief verbinden | De Hoofdzaak
URL:https://dehoofdzaak.org/agenda/creatief-verbinden-4/2028-08-16/
LOCATION:Wijkcentrum Overdie\, Van Maerlantstraat 8-10\, Alkmaar\, 1813 BH
CATEGORIES:Noord-Kennemerland
END:VEVENT
BEGIN:VEVENT
DTSTART;TZID=Europe/Amsterdam:20280816T133000
DTEND;TZID=Europe/Amsterdam:20280816T143000
DTSTAMP:20260420T233258
CREATED:20260317T100025Z
LAST-MODIFIED:20260317T100027Z
UID:10043828-1850045400-1850049000@dehoofdzaak.org
SUMMARY:Gitaar Cursus
DESCRIPTION:Leer akoestische gitaar spelen! In deze cursus leer je liedjes begeleiden met akkoorden en melodieën spelen. De cursus is voor beginners\, ideaal voor mensen die een moeilijke periode doormaken en op zoek zijn naar een nieuwe passie. \n\n\n\n\n\n\n\n\n\n\nGitaarcursus voor beginners | De Hoofdzaak
URL:https://dehoofdzaak.org/agenda/gitaar-cursus/2028-08-16/
LOCATION:Wijkcentrum Overdie\, Van Maerlantstraat 8-10\, Alkmaar\, 1813 BH
CATEGORIES:Noord-Kennemerland
END:VEVENT
BEGIN:VEVENT
DTSTART;TZID=Europe/Amsterdam:20280818T100000
DTEND;TZID=Europe/Amsterdam:20280818T123000
DTSTAMP:20260420T233258
CREATED:20260324T100643Z
LAST-MODIFIED:20260324T100646Z
UID:10044216-1850205600-1850214600@dehoofdzaak.org
SUMMARY:Creatief Verbinden
DESCRIPTION:Door middel van creatief bezig zijn kun je hoofd en handen verbinden met elkaar. Ook kun je jezelf verbinden met het materiaal waarmee je werkt. We gaan aan de slag met verschillende materialen in acht verschillende bijeenkomsten. Door gezamenlijk creatief bezig te zijn kunnen we elkaar versterken en verbinden. Je kan je voor de nieuwe reeks aanmelden via: creatief-verbinden-alkmaar@dehoofdzaak.org. \n\n\n\n\n\n\n\n\n\n\n\nCreatief verbinden | De Hoofdzaak
URL:https://dehoofdzaak.org/agenda/creatief-verbinden-4/2028-08-18/
LOCATION:Wijkcentrum Overdie\, Van Maerlantstraat 8-10\, Alkmaar\, 1813 BH
CATEGORIES:Noord-Kennemerland
END:VEVENT
BEGIN:VEVENT
DTSTART;TZID=Europe/Amsterdam:20280823T100000
DTEND;TZID=Europe/Amsterdam:20280823T123000
DTSTAMP:20260420T233258
CREATED:20260324T100643Z
LAST-MODIFIED:20260324T100646Z
UID:10044952-1850637600-1850646600@dehoofdzaak.org
SUMMARY:Creatief Verbinden
DESCRIPTION:Door middel van creatief bezig zijn kun je hoofd en handen verbinden met elkaar. Ook kun je jezelf verbinden met het materiaal waarmee je werkt. We gaan aan de slag met verschillende materialen in acht verschillende bijeenkomsten. Door gezamenlijk creatief bezig te zijn kunnen we elkaar versterken en verbinden. Je kan je voor de nieuwe reeks aanmelden via: creatief-verbinden-alkmaar@dehoofdzaak.org. \n\n\n\n\n\n\n\n\n\n\n\nCreatief verbinden | De Hoofdzaak
URL:https://dehoofdzaak.org/agenda/creatief-verbinden-4/2028-08-23/
LOCATION:Wijkcentrum Overdie\, Van Maerlantstraat 8-10\, Alkmaar\, 1813 BH
CATEGORIES:Noord-Kennemerland
END:VEVENT
BEGIN:VEVENT
DTSTART;TZID=Europe/Amsterdam:20280823T133000
DTEND;TZID=Europe/Amsterdam:20280823T143000
DTSTAMP:20260420T233258
CREATED:20260317T100025Z
LAST-MODIFIED:20260317T100027Z
UID:10043829-1850650200-1850653800@dehoofdzaak.org
SUMMARY:Gitaar Cursus
DESCRIPTION:Leer akoestische gitaar spelen! In deze cursus leer je liedjes begeleiden met akkoorden en melodieën spelen. De cursus is voor beginners\, ideaal voor mensen die een moeilijke periode doormaken en op zoek zijn naar een nieuwe passie. \n\n\n\n\n\n\n\n\n\n\nGitaarcursus voor beginners | De Hoofdzaak
URL:https://dehoofdzaak.org/agenda/gitaar-cursus/2028-08-23/
LOCATION:Wijkcentrum Overdie\, Van Maerlantstraat 8-10\, Alkmaar\, 1813 BH
CATEGORIES:Noord-Kennemerland
END:VEVENT
BEGIN:VEVENT
DTSTART;TZID=Europe/Amsterdam:20280825T100000
DTEND;TZID=Europe/Amsterdam:20280825T123000
DTSTAMP:20260420T233258
CREATED:20260324T100643Z
LAST-MODIFIED:20260324T100646Z
UID:10044218-1850810400-1850819400@dehoofdzaak.org
SUMMARY:Creatief Verbinden
DESCRIPTION:Door middel van creatief bezig zijn kun je hoofd en handen verbinden met elkaar. Ook kun je jezelf verbinden met het materiaal waarmee je werkt. We gaan aan de slag met verschillende materialen in acht verschillende bijeenkomsten. Door gezamenlijk creatief bezig te zijn kunnen we elkaar versterken en verbinden. Je kan je voor de nieuwe reeks aanmelden via: creatief-verbinden-alkmaar@dehoofdzaak.org. \n\n\n\n\n\n\n\n\n\n\n\nCreatief verbinden | De Hoofdzaak
URL:https://dehoofdzaak.org/agenda/creatief-verbinden-4/2028-08-25/
LOCATION:Wijkcentrum Overdie\, Van Maerlantstraat 8-10\, Alkmaar\, 1813 BH
CATEGORIES:Noord-Kennemerland
END:VEVENT
BEGIN:VEVENT
DTSTART;TZID=Europe/Amsterdam:20280830T100000
DTEND;TZID=Europe/Amsterdam:20280830T123000
DTSTAMP:20260420T233258
CREATED:20260324T100643Z
LAST-MODIFIED:20260324T100646Z
UID:10044953-1851242400-1851251400@dehoofdzaak.org
SUMMARY:Creatief Verbinden
DESCRIPTION:Door middel van creatief bezig zijn kun je hoofd en handen verbinden met elkaar. Ook kun je jezelf verbinden met het materiaal waarmee je werkt. We gaan aan de slag met verschillende materialen in acht verschillende bijeenkomsten. Door gezamenlijk creatief bezig te zijn kunnen we elkaar versterken en verbinden. Je kan je voor de nieuwe reeks aanmelden via: creatief-verbinden-alkmaar@dehoofdzaak.org. \n\n\n\n\n\n\n\n\n\n\n\nCreatief verbinden | De Hoofdzaak
URL:https://dehoofdzaak.org/agenda/creatief-verbinden-4/2028-08-30/
LOCATION:Wijkcentrum Overdie\, Van Maerlantstraat 8-10\, Alkmaar\, 1813 BH
CATEGORIES:Noord-Kennemerland
END:VEVENT
BEGIN:VEVENT
DTSTART;TZID=Europe/Amsterdam:20280830T133000
DTEND;TZID=Europe/Amsterdam:20280830T143000
DTSTAMP:20260420T233258
CREATED:20260317T100025Z
LAST-MODIFIED:20260317T100027Z
UID:10043830-1851255000-1851258600@dehoofdzaak.org
SUMMARY:Gitaar Cursus
DESCRIPTION:Leer akoestische gitaar spelen! In deze cursus leer je liedjes begeleiden met akkoorden en melodieën spelen. De cursus is voor beginners\, ideaal voor mensen die een moeilijke periode doormaken en op zoek zijn naar een nieuwe passie. \n\n\n\n\n\n\n\n\n\n\nGitaarcursus voor beginners | De Hoofdzaak
URL:https://dehoofdzaak.org/agenda/gitaar-cursus/2028-08-30/
LOCATION:Wijkcentrum Overdie\, Van Maerlantstraat 8-10\, Alkmaar\, 1813 BH
CATEGORIES:Noord-Kennemerland
END:VEVENT
BEGIN:VEVENT
DTSTART;TZID=Europe/Amsterdam:20280901T100000
DTEND;TZID=Europe/Amsterdam:20280901T123000
DTSTAMP:20260420T233258
CREATED:20260324T100643Z
LAST-MODIFIED:20260324T100646Z
UID:10044220-1851415200-1851424200@dehoofdzaak.org
SUMMARY:Creatief Verbinden
DESCRIPTION:Door middel van creatief bezig zijn kun je hoofd en handen verbinden met elkaar. Ook kun je jezelf verbinden met het materiaal waarmee je werkt. We gaan aan de slag met verschillende materialen in acht verschillende bijeenkomsten. Door gezamenlijk creatief bezig te zijn kunnen we elkaar versterken en verbinden. Je kan je voor de nieuwe reeks aanmelden via: creatief-verbinden-alkmaar@dehoofdzaak.org. \n\n\n\n\n\n\n\n\n\n\n\nCreatief verbinden | De Hoofdzaak
URL:https://dehoofdzaak.org/agenda/creatief-verbinden-4/2028-09-01/
LOCATION:Wijkcentrum Overdie\, Van Maerlantstraat 8-10\, Alkmaar\, 1813 BH
CATEGORIES:Noord-Kennemerland
END:VEVENT
BEGIN:VEVENT
DTSTART;TZID=Europe/Amsterdam:20280906T100000
DTEND;TZID=Europe/Amsterdam:20280906T123000
DTSTAMP:20260420T233258
CREATED:20260324T100643Z
LAST-MODIFIED:20260324T100646Z
UID:10044954-1851847200-1851856200@dehoofdzaak.org
SUMMARY:Creatief Verbinden
DESCRIPTION:Door middel van creatief bezig zijn kun je hoofd en handen verbinden met elkaar. Ook kun je jezelf verbinden met het materiaal waarmee je werkt. We gaan aan de slag met verschillende materialen in acht verschillende bijeenkomsten. Door gezamenlijk creatief bezig te zijn kunnen we elkaar versterken en verbinden. Je kan je voor de nieuwe reeks aanmelden via: creatief-verbinden-alkmaar@dehoofdzaak.org. \n\n\n\n\n\n\n\n\n\n\n\nCreatief verbinden | De Hoofdzaak
URL:https://dehoofdzaak.org/agenda/creatief-verbinden-4/2028-09-06/
LOCATION:Wijkcentrum Overdie\, Van Maerlantstraat 8-10\, Alkmaar\, 1813 BH
CATEGORIES:Noord-Kennemerland
END:VEVENT
BEGIN:VEVENT
DTSTART;TZID=Europe/Amsterdam:20280906T133000
DTEND;TZID=Europe/Amsterdam:20280906T143000
DTSTAMP:20260420T233258
CREATED:20260317T100025Z
LAST-MODIFIED:20260317T100027Z
UID:10043831-1851859800-1851863400@dehoofdzaak.org
SUMMARY:Gitaar Cursus
DESCRIPTION:Leer akoestische gitaar spelen! In deze cursus leer je liedjes begeleiden met akkoorden en melodieën spelen. De cursus is voor beginners\, ideaal voor mensen die een moeilijke periode doormaken en op zoek zijn naar een nieuwe passie. \n\n\n\n\n\n\n\n\n\n\nGitaarcursus voor beginners | De Hoofdzaak
URL:https://dehoofdzaak.org/agenda/gitaar-cursus/2028-09-06/
LOCATION:Wijkcentrum Overdie\, Van Maerlantstraat 8-10\, Alkmaar\, 1813 BH
CATEGORIES:Noord-Kennemerland
END:VEVENT
BEGIN:VEVENT
DTSTART;TZID=Europe/Amsterdam:20280908T100000
DTEND;TZID=Europe/Amsterdam:20280908T123000
DTSTAMP:20260420T233258
CREATED:20260324T100643Z
LAST-MODIFIED:20260324T100646Z
UID:10044222-1852020000-1852029000@dehoofdzaak.org
SUMMARY:Creatief Verbinden
DESCRIPTION:Door middel van creatief bezig zijn kun je hoofd en handen verbinden met elkaar. Ook kun je jezelf verbinden met het materiaal waarmee je werkt. We gaan aan de slag met verschillende materialen in acht verschillende bijeenkomsten. Door gezamenlijk creatief bezig te zijn kunnen we elkaar versterken en verbinden. Je kan je voor de nieuwe reeks aanmelden via: creatief-verbinden-alkmaar@dehoofdzaak.org. \n\n\n\n\n\n\n\n\n\n\n\nCreatief verbinden | De Hoofdzaak
URL:https://dehoofdzaak.org/agenda/creatief-verbinden-4/2028-09-08/
LOCATION:Wijkcentrum Overdie\, Van Maerlantstraat 8-10\, Alkmaar\, 1813 BH
CATEGORIES:Noord-Kennemerland
END:VEVENT
BEGIN:VEVENT
DTSTART;TZID=Europe/Amsterdam:20280913T100000
DTEND;TZID=Europe/Amsterdam:20280913T123000
DTSTAMP:20260420T233258
CREATED:20260324T100643Z
LAST-MODIFIED:20260324T100646Z
UID:10044955-1852452000-1852461000@dehoofdzaak.org
SUMMARY:Creatief Verbinden
DESCRIPTION:Door middel van creatief bezig zijn kun je hoofd en handen verbinden met elkaar. Ook kun je jezelf verbinden met het materiaal waarmee je werkt. We gaan aan de slag met verschillende materialen in acht verschillende bijeenkomsten. Door gezamenlijk creatief bezig te zijn kunnen we elkaar versterken en verbinden. Je kan je voor de nieuwe reeks aanmelden via: creatief-verbinden-alkmaar@dehoofdzaak.org. \n\n\n\n\n\n\n\n\n\n\n\nCreatief verbinden | De Hoofdzaak
URL:https://dehoofdzaak.org/agenda/creatief-verbinden-4/2028-09-13/
LOCATION:Wijkcentrum Overdie\, Van Maerlantstraat 8-10\, Alkmaar\, 1813 BH
CATEGORIES:Noord-Kennemerland
END:VEVENT
BEGIN:VEVENT
DTSTART;TZID=Europe/Amsterdam:20280913T133000
DTEND;TZID=Europe/Amsterdam:20280913T143000
DTSTAMP:20260420T233258
CREATED:20260317T100025Z
LAST-MODIFIED:20260317T100027Z
UID:10043832-1852464600-1852468200@dehoofdzaak.org
SUMMARY:Gitaar Cursus
DESCRIPTION:Leer akoestische gitaar spelen! In deze cursus leer je liedjes begeleiden met akkoorden en melodieën spelen. De cursus is voor beginners\, ideaal voor mensen die een moeilijke periode doormaken en op zoek zijn naar een nieuwe passie. \n\n\n\n\n\n\n\n\n\n\nGitaarcursus voor beginners | De Hoofdzaak
URL:https://dehoofdzaak.org/agenda/gitaar-cursus/2028-09-13/
LOCATION:Wijkcentrum Overdie\, Van Maerlantstraat 8-10\, Alkmaar\, 1813 BH
CATEGORIES:Noord-Kennemerland
END:VEVENT
BEGIN:VEVENT
DTSTART;TZID=Europe/Amsterdam:20280915T100000
DTEND;TZID=Europe/Amsterdam:20280915T123000
DTSTAMP:20260420T233258
CREATED:20260324T100643Z
LAST-MODIFIED:20260324T100646Z
UID:10044224-1852624800-1852633800@dehoofdzaak.org
SUMMARY:Creatief Verbinden
DESCRIPTION:Door middel van creatief bezig zijn kun je hoofd en handen verbinden met elkaar. Ook kun je jezelf verbinden met het materiaal waarmee je werkt. We gaan aan de slag met verschillende materialen in acht verschillende bijeenkomsten. Door gezamenlijk creatief bezig te zijn kunnen we elkaar versterken en verbinden. Je kan je voor de nieuwe reeks aanmelden via: creatief-verbinden-alkmaar@dehoofdzaak.org. \n\n\n\n\n\n\n\n\n\n\n\nCreatief verbinden | De Hoofdzaak
URL:https://dehoofdzaak.org/agenda/creatief-verbinden-4/2028-09-15/
LOCATION:Wijkcentrum Overdie\, Van Maerlantstraat 8-10\, Alkmaar\, 1813 BH
CATEGORIES:Noord-Kennemerland
END:VEVENT
BEGIN:VEVENT
DTSTART;TZID=Europe/Amsterdam:20280920T100000
DTEND;TZID=Europe/Amsterdam:20280920T123000
DTSTAMP:20260420T233258
CREATED:20260324T100643Z
LAST-MODIFIED:20260324T100646Z
UID:10044956-1853056800-1853065800@dehoofdzaak.org
SUMMARY:Creatief Verbinden
DESCRIPTION:Door middel van creatief bezig zijn kun je hoofd en handen verbinden met elkaar. Ook kun je jezelf verbinden met het materiaal waarmee je werkt. We gaan aan de slag met verschillende materialen in acht verschillende bijeenkomsten. Door gezamenlijk creatief bezig te zijn kunnen we elkaar versterken en verbinden. Je kan je voor de nieuwe reeks aanmelden via: creatief-verbinden-alkmaar@dehoofdzaak.org. \n\n\n\n\n\n\n\n\n\n\n\nCreatief verbinden | De Hoofdzaak
URL:https://dehoofdzaak.org/agenda/creatief-verbinden-4/2028-09-20/
LOCATION:Wijkcentrum Overdie\, Van Maerlantstraat 8-10\, Alkmaar\, 1813 BH
CATEGORIES:Noord-Kennemerland
END:VEVENT
BEGIN:VEVENT
DTSTART;TZID=Europe/Amsterdam:20280920T133000
DTEND;TZID=Europe/Amsterdam:20280920T143000
DTSTAMP:20260420T233258
CREATED:20260317T100025Z
LAST-MODIFIED:20260317T100027Z
UID:10043833-1853069400-1853073000@dehoofdzaak.org
SUMMARY:Gitaar Cursus
DESCRIPTION:Leer akoestische gitaar spelen! In deze cursus leer je liedjes begeleiden met akkoorden en melodieën spelen. De cursus is voor beginners\, ideaal voor mensen die een moeilijke periode doormaken en op zoek zijn naar een nieuwe passie. \n\n\n\n\n\n\n\n\n\n\nGitaarcursus voor beginners | De Hoofdzaak
URL:https://dehoofdzaak.org/agenda/gitaar-cursus/2028-09-20/
LOCATION:Wijkcentrum Overdie\, Van Maerlantstraat 8-10\, Alkmaar\, 1813 BH
CATEGORIES:Noord-Kennemerland
END:VEVENT
BEGIN:VEVENT
DTSTART;TZID=Europe/Amsterdam:20280922T100000
DTEND;TZID=Europe/Amsterdam:20280922T123000
DTSTAMP:20260420T233258
CREATED:20260324T100643Z
LAST-MODIFIED:20260324T100646Z
UID:10044226-1853229600-1853238600@dehoofdzaak.org
SUMMARY:Creatief Verbinden
DESCRIPTION:Door middel van creatief bezig zijn kun je hoofd en handen verbinden met elkaar. Ook kun je jezelf verbinden met het materiaal waarmee je werkt. We gaan aan de slag met verschillende materialen in acht verschillende bijeenkomsten. Door gezamenlijk creatief bezig te zijn kunnen we elkaar versterken en verbinden. Je kan je voor de nieuwe reeks aanmelden via: creatief-verbinden-alkmaar@dehoofdzaak.org. \n\n\n\n\n\n\n\n\n\n\n\nCreatief verbinden | De Hoofdzaak
URL:https://dehoofdzaak.org/agenda/creatief-verbinden-4/2028-09-22/
LOCATION:Wijkcentrum Overdie\, Van Maerlantstraat 8-10\, Alkmaar\, 1813 BH
CATEGORIES:Noord-Kennemerland
END:VEVENT
BEGIN:VEVENT
DTSTART;TZID=Europe/Amsterdam:20280927T100000
DTEND;TZID=Europe/Amsterdam:20280927T123000
DTSTAMP:20260420T233258
CREATED:20260324T100643Z
LAST-MODIFIED:20260324T100646Z
UID:10044957-1853661600-1853670600@dehoofdzaak.org
SUMMARY:Creatief Verbinden
DESCRIPTION:Door middel van creatief bezig zijn kun je hoofd en handen verbinden met elkaar. Ook kun je jezelf verbinden met het materiaal waarmee je werkt. We gaan aan de slag met verschillende materialen in acht verschillende bijeenkomsten. Door gezamenlijk creatief bezig te zijn kunnen we elkaar versterken en verbinden. Je kan je voor de nieuwe reeks aanmelden via: creatief-verbinden-alkmaar@dehoofdzaak.org. \n\n\n\n\n\n\n\n\n\n\n\nCreatief verbinden | De Hoofdzaak
URL:https://dehoofdzaak.org/agenda/creatief-verbinden-4/2028-09-27/
LOCATION:Wijkcentrum Overdie\, Van Maerlantstraat 8-10\, Alkmaar\, 1813 BH
CATEGORIES:Noord-Kennemerland
END:VEVENT
BEGIN:VEVENT
DTSTART;TZID=Europe/Amsterdam:20280927T133000
DTEND;TZID=Europe/Amsterdam:20280927T143000
DTSTAMP:20260420T233258
CREATED:20260317T100025Z
LAST-MODIFIED:20260317T100027Z
UID:10043834-1853674200-1853677800@dehoofdzaak.org
SUMMARY:Gitaar Cursus
DESCRIPTION:Leer akoestische gitaar spelen! In deze cursus leer je liedjes begeleiden met akkoorden en melodieën spelen. De cursus is voor beginners\, ideaal voor mensen die een moeilijke periode doormaken en op zoek zijn naar een nieuwe passie. \n\n\n\n\n\n\n\n\n\n\nGitaarcursus voor beginners | De Hoofdzaak
URL:https://dehoofdzaak.org/agenda/gitaar-cursus/2028-09-27/
LOCATION:Wijkcentrum Overdie\, Van Maerlantstraat 8-10\, Alkmaar\, 1813 BH
CATEGORIES:Noord-Kennemerland
END:VEVENT
BEGIN:VEVENT
DTSTART;TZID=Europe/Amsterdam:20280929T100000
DTEND;TZID=Europe/Amsterdam:20280929T123000
DTSTAMP:20260420T233258
CREATED:20260324T100643Z
LAST-MODIFIED:20260324T100646Z
UID:10044228-1853834400-1853843400@dehoofdzaak.org
SUMMARY:Creatief Verbinden
DESCRIPTION:Door middel van creatief bezig zijn kun je hoofd en handen verbinden met elkaar. Ook kun je jezelf verbinden met het materiaal waarmee je werkt. We gaan aan de slag met verschillende materialen in acht verschillende bijeenkomsten. Door gezamenlijk creatief bezig te zijn kunnen we elkaar versterken en verbinden. Je kan je voor de nieuwe reeks aanmelden via: creatief-verbinden-alkmaar@dehoofdzaak.org. \n\n\n\n\n\n\n\n\n\n\n\nCreatief verbinden | De Hoofdzaak
URL:https://dehoofdzaak.org/agenda/creatief-verbinden-4/2028-09-29/
LOCATION:Wijkcentrum Overdie\, Van Maerlantstraat 8-10\, Alkmaar\, 1813 BH
CATEGORIES:Noord-Kennemerland
END:VEVENT
BEGIN:VEVENT
DTSTART;TZID=Europe/Amsterdam:20281004T100000
DTEND;TZID=Europe/Amsterdam:20281004T123000
DTSTAMP:20260420T233258
CREATED:20260324T100643Z
LAST-MODIFIED:20260324T100646Z
UID:10044958-1854266400-1854275400@dehoofdzaak.org
SUMMARY:Creatief Verbinden
DESCRIPTION:Door middel van creatief bezig zijn kun je hoofd en handen verbinden met elkaar. Ook kun je jezelf verbinden met het materiaal waarmee je werkt. We gaan aan de slag met verschillende materialen in acht verschillende bijeenkomsten. Door gezamenlijk creatief bezig te zijn kunnen we elkaar versterken en verbinden. Je kan je voor de nieuwe reeks aanmelden via: creatief-verbinden-alkmaar@dehoofdzaak.org. \n\n\n\n\n\n\n\n\n\n\n\nCreatief verbinden | De Hoofdzaak
URL:https://dehoofdzaak.org/agenda/creatief-verbinden-4/2028-10-04/
LOCATION:Wijkcentrum Overdie\, Van Maerlantstraat 8-10\, Alkmaar\, 1813 BH
CATEGORIES:Noord-Kennemerland
END:VEVENT
BEGIN:VEVENT
DTSTART;TZID=Europe/Amsterdam:20281004T133000
DTEND;TZID=Europe/Amsterdam:20281004T143000
DTSTAMP:20260420T233258
CREATED:20260317T100025Z
LAST-MODIFIED:20260317T100027Z
UID:10043835-1854279000-1854282600@dehoofdzaak.org
SUMMARY:Gitaar Cursus
DESCRIPTION:Leer akoestische gitaar spelen! In deze cursus leer je liedjes begeleiden met akkoorden en melodieën spelen. De cursus is voor beginners\, ideaal voor mensen die een moeilijke periode doormaken en op zoek zijn naar een nieuwe passie. \n\n\n\n\n\n\n\n\n\n\nGitaarcursus voor beginners | De Hoofdzaak
URL:https://dehoofdzaak.org/agenda/gitaar-cursus/2028-10-04/
LOCATION:Wijkcentrum Overdie\, Van Maerlantstraat 8-10\, Alkmaar\, 1813 BH
CATEGORIES:Noord-Kennemerland
END:VEVENT
BEGIN:VEVENT
DTSTART;TZID=Europe/Amsterdam:20281006T100000
DTEND;TZID=Europe/Amsterdam:20281006T123000
DTSTAMP:20260420T233258
CREATED:20260324T100643Z
LAST-MODIFIED:20260324T100646Z
UID:10044230-1854439200-1854448200@dehoofdzaak.org
SUMMARY:Creatief Verbinden
DESCRIPTION:Door middel van creatief bezig zijn kun je hoofd en handen verbinden met elkaar. Ook kun je jezelf verbinden met het materiaal waarmee je werkt. We gaan aan de slag met verschillende materialen in acht verschillende bijeenkomsten. Door gezamenlijk creatief bezig te zijn kunnen we elkaar versterken en verbinden. Je kan je voor de nieuwe reeks aanmelden via: creatief-verbinden-alkmaar@dehoofdzaak.org. \n\n\n\n\n\n\n\n\n\n\n\nCreatief verbinden | De Hoofdzaak
URL:https://dehoofdzaak.org/agenda/creatief-verbinden-4/2028-10-06/
LOCATION:Wijkcentrum Overdie\, Van Maerlantstraat 8-10\, Alkmaar\, 1813 BH
CATEGORIES:Noord-Kennemerland
END:VEVENT
BEGIN:VEVENT
DTSTART;TZID=Europe/Amsterdam:20281011T100000
DTEND;TZID=Europe/Amsterdam:20281011T123000
DTSTAMP:20260420T233258
CREATED:20260324T100643Z
LAST-MODIFIED:20260324T100646Z
UID:10044959-1854871200-1854880200@dehoofdzaak.org
SUMMARY:Creatief Verbinden
DESCRIPTION:Door middel van creatief bezig zijn kun je hoofd en handen verbinden met elkaar. Ook kun je jezelf verbinden met het materiaal waarmee je werkt. We gaan aan de slag met verschillende materialen in acht verschillende bijeenkomsten. Door gezamenlijk creatief bezig te zijn kunnen we elkaar versterken en verbinden. Je kan je voor de nieuwe reeks aanmelden via: creatief-verbinden-alkmaar@dehoofdzaak.org. \n\n\n\n\n\n\n\n\n\n\n\nCreatief verbinden | De Hoofdzaak
URL:https://dehoofdzaak.org/agenda/creatief-verbinden-4/2028-10-11/
LOCATION:Wijkcentrum Overdie\, Van Maerlantstraat 8-10\, Alkmaar\, 1813 BH
CATEGORIES:Noord-Kennemerland
END:VEVENT
BEGIN:VEVENT
DTSTART;TZID=Europe/Amsterdam:20281011T133000
DTEND;TZID=Europe/Amsterdam:20281011T143000
DTSTAMP:20260420T233258
CREATED:20260317T100025Z
LAST-MODIFIED:20260317T100027Z
UID:10043836-1854883800-1854887400@dehoofdzaak.org
SUMMARY:Gitaar Cursus
DESCRIPTION:Leer akoestische gitaar spelen! In deze cursus leer je liedjes begeleiden met akkoorden en melodieën spelen. De cursus is voor beginners\, ideaal voor mensen die een moeilijke periode doormaken en op zoek zijn naar een nieuwe passie. \n\n\n\n\n\n\n\n\n\n\nGitaarcursus voor beginners | De Hoofdzaak
URL:https://dehoofdzaak.org/agenda/gitaar-cursus/2028-10-11/
LOCATION:Wijkcentrum Overdie\, Van Maerlantstraat 8-10\, Alkmaar\, 1813 BH
CATEGORIES:Noord-Kennemerland
END:VEVENT
BEGIN:VEVENT
DTSTART;TZID=Europe/Amsterdam:20281013T100000
DTEND;TZID=Europe/Amsterdam:20281013T123000
DTSTAMP:20260420T233258
CREATED:20260324T100643Z
LAST-MODIFIED:20260324T100646Z
UID:10044232-1855044000-1855053000@dehoofdzaak.org
SUMMARY:Creatief Verbinden
DESCRIPTION:Door middel van creatief bezig zijn kun je hoofd en handen verbinden met elkaar. Ook kun je jezelf verbinden met het materiaal waarmee je werkt. We gaan aan de slag met verschillende materialen in acht verschillende bijeenkomsten. Door gezamenlijk creatief bezig te zijn kunnen we elkaar versterken en verbinden. Je kan je voor de nieuwe reeks aanmelden via: creatief-verbinden-alkmaar@dehoofdzaak.org. \n\n\n\n\n\n\n\n\n\n\n\nCreatief verbinden | De Hoofdzaak
URL:https://dehoofdzaak.org/agenda/creatief-verbinden-4/2028-10-13/
LOCATION:Wijkcentrum Overdie\, Van Maerlantstraat 8-10\, Alkmaar\, 1813 BH
CATEGORIES:Noord-Kennemerland
END:VEVENT
END:VCALENDAR