BEGIN:VCALENDAR
VERSION:2.0
PRODID:-//De Hoofdzaak - ECPv6.15.20//NONSGML v1.0//EN
CALSCALE:GREGORIAN
METHOD:PUBLISH
X-WR-CALNAME:De Hoofdzaak
X-ORIGINAL-URL:https://dehoofdzaak.org
X-WR-CALDESC:Evenementen voor De Hoofdzaak
REFRESH-INTERVAL;VALUE=DURATION:PT1H
X-Robots-Tag:noindex
X-PUBLISHED-TTL:PT1H
BEGIN:VTIMEZONE
TZID:Europe/Amsterdam
BEGIN:DAYLIGHT
TZOFFSETFROM:+0100
TZOFFSETTO:+0200
TZNAME:CEST
DTSTART:20270328T010000
END:DAYLIGHT
BEGIN:STANDARD
TZOFFSETFROM:+0200
TZOFFSETTO:+0100
TZNAME:CET
DTSTART:20271031T010000
END:STANDARD
BEGIN:DAYLIGHT
TZOFFSETFROM:+0100
TZOFFSETTO:+0200
TZNAME:CEST
DTSTART:20280326T010000
END:DAYLIGHT
BEGIN:STANDARD
TZOFFSETFROM:+0200
TZOFFSETTO:+0100
TZNAME:CET
DTSTART:20281029T010000
END:STANDARD
BEGIN:DAYLIGHT
TZOFFSETFROM:+0100
TZOFFSETTO:+0200
TZNAME:CEST
DTSTART:20290325T010000
END:DAYLIGHT
BEGIN:STANDARD
TZOFFSETFROM:+0200
TZOFFSETTO:+0100
TZNAME:CET
DTSTART:20291028T010000
END:STANDARD
BEGIN:DAYLIGHT
TZOFFSETFROM:+0100
TZOFFSETTO:+0200
TZNAME:CEST
DTSTART:20300331T010000
END:DAYLIGHT
BEGIN:STANDARD
TZOFFSETFROM:+0200
TZOFFSETTO:+0100
TZNAME:CET
DTSTART:20301027T010000
END:STANDARD
END:VTIMEZONE
BEGIN:VEVENT
DTSTART;TZID=Europe/Amsterdam:20281129T100000
DTEND;TZID=Europe/Amsterdam:20281129T123000
DTSTAMP:20260421T064728
CREATED:20260324T100643Z
LAST-MODIFIED:20260324T100646Z
UID:10044966-1859104800-1859113800@dehoofdzaak.org
SUMMARY:Creatief Verbinden
DESCRIPTION:Door middel van creatief bezig zijn kun je hoofd en handen verbinden met elkaar. Ook kun je jezelf verbinden met het materiaal waarmee je werkt. We gaan aan de slag met verschillende materialen in acht verschillende bijeenkomsten. Door gezamenlijk creatief bezig te zijn kunnen we elkaar versterken en verbinden. Je kan je voor de nieuwe reeks aanmelden via: creatief-verbinden-alkmaar@dehoofdzaak.org. \n\n\n\n\n\n\n\n\n\n\n\nCreatief verbinden | De Hoofdzaak
URL:https://dehoofdzaak.org/agenda/creatief-verbinden-4/2028-11-29/
LOCATION:Wijkcentrum Overdie\, Van Maerlantstraat 8-10\, Alkmaar\, 1813 BH
CATEGORIES:Noord-Kennemerland
END:VEVENT
BEGIN:VEVENT
DTSTART;TZID=Europe/Amsterdam:20281129T133000
DTEND;TZID=Europe/Amsterdam:20281129T143000
DTSTAMP:20260421T064728
CREATED:20260317T100025Z
LAST-MODIFIED:20260317T100027Z
UID:10043843-1859117400-1859121000@dehoofdzaak.org
SUMMARY:Gitaar Cursus
DESCRIPTION:Leer akoestische gitaar spelen! In deze cursus leer je liedjes begeleiden met akkoorden en melodieën spelen. De cursus is voor beginners\, ideaal voor mensen die een moeilijke periode doormaken en op zoek zijn naar een nieuwe passie. \n\n\n\n\n\n\n\n\n\n\nGitaarcursus voor beginners | De Hoofdzaak
URL:https://dehoofdzaak.org/agenda/gitaar-cursus/2028-11-29/
LOCATION:Wijkcentrum Overdie\, Van Maerlantstraat 8-10\, Alkmaar\, 1813 BH
CATEGORIES:Noord-Kennemerland
END:VEVENT
BEGIN:VEVENT
DTSTART;TZID=Europe/Amsterdam:20281201T100000
DTEND;TZID=Europe/Amsterdam:20281201T123000
DTSTAMP:20260421T064728
CREATED:20260324T100643Z
LAST-MODIFIED:20260324T100646Z
UID:10044246-1859277600-1859286600@dehoofdzaak.org
SUMMARY:Creatief Verbinden
DESCRIPTION:Door middel van creatief bezig zijn kun je hoofd en handen verbinden met elkaar. Ook kun je jezelf verbinden met het materiaal waarmee je werkt. We gaan aan de slag met verschillende materialen in acht verschillende bijeenkomsten. Door gezamenlijk creatief bezig te zijn kunnen we elkaar versterken en verbinden. Je kan je voor de nieuwe reeks aanmelden via: creatief-verbinden-alkmaar@dehoofdzaak.org. \n\n\n\n\n\n\n\n\n\n\n\nCreatief verbinden | De Hoofdzaak
URL:https://dehoofdzaak.org/agenda/creatief-verbinden-4/2028-12-01/
LOCATION:Wijkcentrum Overdie\, Van Maerlantstraat 8-10\, Alkmaar\, 1813 BH
CATEGORIES:Noord-Kennemerland
END:VEVENT
BEGIN:VEVENT
DTSTART;TZID=Europe/Amsterdam:20281206T100000
DTEND;TZID=Europe/Amsterdam:20281206T123000
DTSTAMP:20260421T064728
CREATED:20260324T100643Z
LAST-MODIFIED:20260324T100646Z
UID:10044967-1859709600-1859718600@dehoofdzaak.org
SUMMARY:Creatief Verbinden
DESCRIPTION:Door middel van creatief bezig zijn kun je hoofd en handen verbinden met elkaar. Ook kun je jezelf verbinden met het materiaal waarmee je werkt. We gaan aan de slag met verschillende materialen in acht verschillende bijeenkomsten. Door gezamenlijk creatief bezig te zijn kunnen we elkaar versterken en verbinden. Je kan je voor de nieuwe reeks aanmelden via: creatief-verbinden-alkmaar@dehoofdzaak.org. \n\n\n\n\n\n\n\n\n\n\n\nCreatief verbinden | De Hoofdzaak
URL:https://dehoofdzaak.org/agenda/creatief-verbinden-4/2028-12-06/
LOCATION:Wijkcentrum Overdie\, Van Maerlantstraat 8-10\, Alkmaar\, 1813 BH
CATEGORIES:Noord-Kennemerland
END:VEVENT
BEGIN:VEVENT
DTSTART;TZID=Europe/Amsterdam:20281206T133000
DTEND;TZID=Europe/Amsterdam:20281206T143000
DTSTAMP:20260421T064728
CREATED:20260317T100025Z
LAST-MODIFIED:20260317T100027Z
UID:10043844-1859722200-1859725800@dehoofdzaak.org
SUMMARY:Gitaar Cursus
DESCRIPTION:Leer akoestische gitaar spelen! In deze cursus leer je liedjes begeleiden met akkoorden en melodieën spelen. De cursus is voor beginners\, ideaal voor mensen die een moeilijke periode doormaken en op zoek zijn naar een nieuwe passie. \n\n\n\n\n\n\n\n\n\n\nGitaarcursus voor beginners | De Hoofdzaak
URL:https://dehoofdzaak.org/agenda/gitaar-cursus/2028-12-06/
LOCATION:Wijkcentrum Overdie\, Van Maerlantstraat 8-10\, Alkmaar\, 1813 BH
CATEGORIES:Noord-Kennemerland
END:VEVENT
BEGIN:VEVENT
DTSTART;TZID=Europe/Amsterdam:20281208T100000
DTEND;TZID=Europe/Amsterdam:20281208T123000
DTSTAMP:20260421T064728
CREATED:20260324T100643Z
LAST-MODIFIED:20260324T100646Z
UID:10044248-1859882400-1859891400@dehoofdzaak.org
SUMMARY:Creatief Verbinden
DESCRIPTION:Door middel van creatief bezig zijn kun je hoofd en handen verbinden met elkaar. Ook kun je jezelf verbinden met het materiaal waarmee je werkt. We gaan aan de slag met verschillende materialen in acht verschillende bijeenkomsten. Door gezamenlijk creatief bezig te zijn kunnen we elkaar versterken en verbinden. Je kan je voor de nieuwe reeks aanmelden via: creatief-verbinden-alkmaar@dehoofdzaak.org. \n\n\n\n\n\n\n\n\n\n\n\nCreatief verbinden | De Hoofdzaak
URL:https://dehoofdzaak.org/agenda/creatief-verbinden-4/2028-12-08/
LOCATION:Wijkcentrum Overdie\, Van Maerlantstraat 8-10\, Alkmaar\, 1813 BH
CATEGORIES:Noord-Kennemerland
END:VEVENT
BEGIN:VEVENT
DTSTART;TZID=Europe/Amsterdam:20281213T100000
DTEND;TZID=Europe/Amsterdam:20281213T123000
DTSTAMP:20260421T064728
CREATED:20260324T100643Z
LAST-MODIFIED:20260324T100646Z
UID:10044968-1860314400-1860323400@dehoofdzaak.org
SUMMARY:Creatief Verbinden
DESCRIPTION:Door middel van creatief bezig zijn kun je hoofd en handen verbinden met elkaar. Ook kun je jezelf verbinden met het materiaal waarmee je werkt. We gaan aan de slag met verschillende materialen in acht verschillende bijeenkomsten. Door gezamenlijk creatief bezig te zijn kunnen we elkaar versterken en verbinden. Je kan je voor de nieuwe reeks aanmelden via: creatief-verbinden-alkmaar@dehoofdzaak.org. \n\n\n\n\n\n\n\n\n\n\n\nCreatief verbinden | De Hoofdzaak
URL:https://dehoofdzaak.org/agenda/creatief-verbinden-4/2028-12-13/
LOCATION:Wijkcentrum Overdie\, Van Maerlantstraat 8-10\, Alkmaar\, 1813 BH
CATEGORIES:Noord-Kennemerland
END:VEVENT
BEGIN:VEVENT
DTSTART;TZID=Europe/Amsterdam:20281213T133000
DTEND;TZID=Europe/Amsterdam:20281213T143000
DTSTAMP:20260421T064728
CREATED:20260317T100025Z
LAST-MODIFIED:20260317T100027Z
UID:10043845-1860327000-1860330600@dehoofdzaak.org
SUMMARY:Gitaar Cursus
DESCRIPTION:Leer akoestische gitaar spelen! In deze cursus leer je liedjes begeleiden met akkoorden en melodieën spelen. De cursus is voor beginners\, ideaal voor mensen die een moeilijke periode doormaken en op zoek zijn naar een nieuwe passie. \n\n\n\n\n\n\n\n\n\n\nGitaarcursus voor beginners | De Hoofdzaak
URL:https://dehoofdzaak.org/agenda/gitaar-cursus/2028-12-13/
LOCATION:Wijkcentrum Overdie\, Van Maerlantstraat 8-10\, Alkmaar\, 1813 BH
CATEGORIES:Noord-Kennemerland
END:VEVENT
BEGIN:VEVENT
DTSTART;TZID=Europe/Amsterdam:20281215T100000
DTEND;TZID=Europe/Amsterdam:20281215T123000
DTSTAMP:20260421T064728
CREATED:20260324T100643Z
LAST-MODIFIED:20260324T100646Z
UID:10044250-1860487200-1860496200@dehoofdzaak.org
SUMMARY:Creatief Verbinden
DESCRIPTION:Door middel van creatief bezig zijn kun je hoofd en handen verbinden met elkaar. Ook kun je jezelf verbinden met het materiaal waarmee je werkt. We gaan aan de slag met verschillende materialen in acht verschillende bijeenkomsten. Door gezamenlijk creatief bezig te zijn kunnen we elkaar versterken en verbinden. Je kan je voor de nieuwe reeks aanmelden via: creatief-verbinden-alkmaar@dehoofdzaak.org. \n\n\n\n\n\n\n\n\n\n\n\nCreatief verbinden | De Hoofdzaak
URL:https://dehoofdzaak.org/agenda/creatief-verbinden-4/2028-12-15/
LOCATION:Wijkcentrum Overdie\, Van Maerlantstraat 8-10\, Alkmaar\, 1813 BH
CATEGORIES:Noord-Kennemerland
END:VEVENT
BEGIN:VEVENT
DTSTART;TZID=Europe/Amsterdam:20281220T100000
DTEND;TZID=Europe/Amsterdam:20281220T123000
DTSTAMP:20260421T064728
CREATED:20260324T100643Z
LAST-MODIFIED:20260324T100646Z
UID:10044969-1860919200-1860928200@dehoofdzaak.org
SUMMARY:Creatief Verbinden
DESCRIPTION:Door middel van creatief bezig zijn kun je hoofd en handen verbinden met elkaar. Ook kun je jezelf verbinden met het materiaal waarmee je werkt. We gaan aan de slag met verschillende materialen in acht verschillende bijeenkomsten. Door gezamenlijk creatief bezig te zijn kunnen we elkaar versterken en verbinden. Je kan je voor de nieuwe reeks aanmelden via: creatief-verbinden-alkmaar@dehoofdzaak.org. \n\n\n\n\n\n\n\n\n\n\n\nCreatief verbinden | De Hoofdzaak
URL:https://dehoofdzaak.org/agenda/creatief-verbinden-4/2028-12-20/
LOCATION:Wijkcentrum Overdie\, Van Maerlantstraat 8-10\, Alkmaar\, 1813 BH
CATEGORIES:Noord-Kennemerland
END:VEVENT
BEGIN:VEVENT
DTSTART;TZID=Europe/Amsterdam:20281220T133000
DTEND;TZID=Europe/Amsterdam:20281220T143000
DTSTAMP:20260421T064728
CREATED:20260317T100025Z
LAST-MODIFIED:20260317T100027Z
UID:10043846-1860931800-1860935400@dehoofdzaak.org
SUMMARY:Gitaar Cursus
DESCRIPTION:Leer akoestische gitaar spelen! In deze cursus leer je liedjes begeleiden met akkoorden en melodieën spelen. De cursus is voor beginners\, ideaal voor mensen die een moeilijke periode doormaken en op zoek zijn naar een nieuwe passie. \n\n\n\n\n\n\n\n\n\n\nGitaarcursus voor beginners | De Hoofdzaak
URL:https://dehoofdzaak.org/agenda/gitaar-cursus/2028-12-20/
LOCATION:Wijkcentrum Overdie\, Van Maerlantstraat 8-10\, Alkmaar\, 1813 BH
CATEGORIES:Noord-Kennemerland
END:VEVENT
BEGIN:VEVENT
DTSTART;TZID=Europe/Amsterdam:20281222T100000
DTEND;TZID=Europe/Amsterdam:20281222T123000
DTSTAMP:20260421T064728
CREATED:20260324T100643Z
LAST-MODIFIED:20260324T100646Z
UID:10044252-1861092000-1861101000@dehoofdzaak.org
SUMMARY:Creatief Verbinden
DESCRIPTION:Door middel van creatief bezig zijn kun je hoofd en handen verbinden met elkaar. Ook kun je jezelf verbinden met het materiaal waarmee je werkt. We gaan aan de slag met verschillende materialen in acht verschillende bijeenkomsten. Door gezamenlijk creatief bezig te zijn kunnen we elkaar versterken en verbinden. Je kan je voor de nieuwe reeks aanmelden via: creatief-verbinden-alkmaar@dehoofdzaak.org. \n\n\n\n\n\n\n\n\n\n\n\nCreatief verbinden | De Hoofdzaak
URL:https://dehoofdzaak.org/agenda/creatief-verbinden-4/2028-12-22/
LOCATION:Wijkcentrum Overdie\, Van Maerlantstraat 8-10\, Alkmaar\, 1813 BH
CATEGORIES:Noord-Kennemerland
END:VEVENT
BEGIN:VEVENT
DTSTART;TZID=Europe/Amsterdam:20281227T100000
DTEND;TZID=Europe/Amsterdam:20281227T123000
DTSTAMP:20260421T064728
CREATED:20260324T100643Z
LAST-MODIFIED:20260324T100646Z
UID:10044970-1861524000-1861533000@dehoofdzaak.org
SUMMARY:Creatief Verbinden
DESCRIPTION:Door middel van creatief bezig zijn kun je hoofd en handen verbinden met elkaar. Ook kun je jezelf verbinden met het materiaal waarmee je werkt. We gaan aan de slag met verschillende materialen in acht verschillende bijeenkomsten. Door gezamenlijk creatief bezig te zijn kunnen we elkaar versterken en verbinden. Je kan je voor de nieuwe reeks aanmelden via: creatief-verbinden-alkmaar@dehoofdzaak.org. \n\n\n\n\n\n\n\n\n\n\n\nCreatief verbinden | De Hoofdzaak
URL:https://dehoofdzaak.org/agenda/creatief-verbinden-4/2028-12-27/
LOCATION:Wijkcentrum Overdie\, Van Maerlantstraat 8-10\, Alkmaar\, 1813 BH
CATEGORIES:Noord-Kennemerland
END:VEVENT
BEGIN:VEVENT
DTSTART;TZID=Europe/Amsterdam:20281227T133000
DTEND;TZID=Europe/Amsterdam:20281227T143000
DTSTAMP:20260421T064728
CREATED:20260317T100025Z
LAST-MODIFIED:20260317T100027Z
UID:10043847-1861536600-1861540200@dehoofdzaak.org
SUMMARY:Gitaar Cursus
DESCRIPTION:Leer akoestische gitaar spelen! In deze cursus leer je liedjes begeleiden met akkoorden en melodieën spelen. De cursus is voor beginners\, ideaal voor mensen die een moeilijke periode doormaken en op zoek zijn naar een nieuwe passie. \n\n\n\n\n\n\n\n\n\n\nGitaarcursus voor beginners | De Hoofdzaak
URL:https://dehoofdzaak.org/agenda/gitaar-cursus/2028-12-27/
LOCATION:Wijkcentrum Overdie\, Van Maerlantstraat 8-10\, Alkmaar\, 1813 BH
CATEGORIES:Noord-Kennemerland
END:VEVENT
BEGIN:VEVENT
DTSTART;TZID=Europe/Amsterdam:20281229T100000
DTEND;TZID=Europe/Amsterdam:20281229T123000
DTSTAMP:20260421T064728
CREATED:20260324T100643Z
LAST-MODIFIED:20260324T100646Z
UID:10044254-1861696800-1861705800@dehoofdzaak.org
SUMMARY:Creatief Verbinden
DESCRIPTION:Door middel van creatief bezig zijn kun je hoofd en handen verbinden met elkaar. Ook kun je jezelf verbinden met het materiaal waarmee je werkt. We gaan aan de slag met verschillende materialen in acht verschillende bijeenkomsten. Door gezamenlijk creatief bezig te zijn kunnen we elkaar versterken en verbinden. Je kan je voor de nieuwe reeks aanmelden via: creatief-verbinden-alkmaar@dehoofdzaak.org. \n\n\n\n\n\n\n\n\n\n\n\nCreatief verbinden | De Hoofdzaak
URL:https://dehoofdzaak.org/agenda/creatief-verbinden-4/2028-12-29/
LOCATION:Wijkcentrum Overdie\, Van Maerlantstraat 8-10\, Alkmaar\, 1813 BH
CATEGORIES:Noord-Kennemerland
END:VEVENT
BEGIN:VEVENT
DTSTART;TZID=Europe/Amsterdam:20290103T100000
DTEND;TZID=Europe/Amsterdam:20290103T123000
DTSTAMP:20260421T064728
CREATED:20260324T100643Z
LAST-MODIFIED:20260324T100646Z
UID:10044971-1862128800-1862137800@dehoofdzaak.org
SUMMARY:Creatief Verbinden
DESCRIPTION:Door middel van creatief bezig zijn kun je hoofd en handen verbinden met elkaar. Ook kun je jezelf verbinden met het materiaal waarmee je werkt. We gaan aan de slag met verschillende materialen in acht verschillende bijeenkomsten. Door gezamenlijk creatief bezig te zijn kunnen we elkaar versterken en verbinden. Je kan je voor de nieuwe reeks aanmelden via: creatief-verbinden-alkmaar@dehoofdzaak.org. \n\n\n\n\n\n\n\n\n\n\n\nCreatief verbinden | De Hoofdzaak
URL:https://dehoofdzaak.org/agenda/creatief-verbinden-4/2029-01-03/
LOCATION:Wijkcentrum Overdie\, Van Maerlantstraat 8-10\, Alkmaar\, 1813 BH
CATEGORIES:Noord-Kennemerland
END:VEVENT
BEGIN:VEVENT
DTSTART;TZID=Europe/Amsterdam:20290103T133000
DTEND;TZID=Europe/Amsterdam:20290103T143000
DTSTAMP:20260421T064728
CREATED:20260317T100025Z
LAST-MODIFIED:20260317T100027Z
UID:10043848-1862141400-1862145000@dehoofdzaak.org
SUMMARY:Gitaar Cursus
DESCRIPTION:Leer akoestische gitaar spelen! In deze cursus leer je liedjes begeleiden met akkoorden en melodieën spelen. De cursus is voor beginners\, ideaal voor mensen die een moeilijke periode doormaken en op zoek zijn naar een nieuwe passie. \n\n\n\n\n\n\n\n\n\n\nGitaarcursus voor beginners | De Hoofdzaak
URL:https://dehoofdzaak.org/agenda/gitaar-cursus/2029-01-03/
LOCATION:Wijkcentrum Overdie\, Van Maerlantstraat 8-10\, Alkmaar\, 1813 BH
CATEGORIES:Noord-Kennemerland
END:VEVENT
BEGIN:VEVENT
DTSTART;TZID=Europe/Amsterdam:20290105T100000
DTEND;TZID=Europe/Amsterdam:20290105T123000
DTSTAMP:20260421T064728
CREATED:20260324T100643Z
LAST-MODIFIED:20260324T100646Z
UID:10044256-1862301600-1862310600@dehoofdzaak.org
SUMMARY:Creatief Verbinden
DESCRIPTION:Door middel van creatief bezig zijn kun je hoofd en handen verbinden met elkaar. Ook kun je jezelf verbinden met het materiaal waarmee je werkt. We gaan aan de slag met verschillende materialen in acht verschillende bijeenkomsten. Door gezamenlijk creatief bezig te zijn kunnen we elkaar versterken en verbinden. Je kan je voor de nieuwe reeks aanmelden via: creatief-verbinden-alkmaar@dehoofdzaak.org. \n\n\n\n\n\n\n\n\n\n\n\nCreatief verbinden | De Hoofdzaak
URL:https://dehoofdzaak.org/agenda/creatief-verbinden-4/2029-01-05/
LOCATION:Wijkcentrum Overdie\, Van Maerlantstraat 8-10\, Alkmaar\, 1813 BH
CATEGORIES:Noord-Kennemerland
END:VEVENT
BEGIN:VEVENT
DTSTART;TZID=Europe/Amsterdam:20290110T100000
DTEND;TZID=Europe/Amsterdam:20290110T123000
DTSTAMP:20260421T064728
CREATED:20260324T100643Z
LAST-MODIFIED:20260324T100646Z
UID:10044972-1862733600-1862742600@dehoofdzaak.org
SUMMARY:Creatief Verbinden
DESCRIPTION:Door middel van creatief bezig zijn kun je hoofd en handen verbinden met elkaar. Ook kun je jezelf verbinden met het materiaal waarmee je werkt. We gaan aan de slag met verschillende materialen in acht verschillende bijeenkomsten. Door gezamenlijk creatief bezig te zijn kunnen we elkaar versterken en verbinden. Je kan je voor de nieuwe reeks aanmelden via: creatief-verbinden-alkmaar@dehoofdzaak.org. \n\n\n\n\n\n\n\n\n\n\n\nCreatief verbinden | De Hoofdzaak
URL:https://dehoofdzaak.org/agenda/creatief-verbinden-4/2029-01-10/
LOCATION:Wijkcentrum Overdie\, Van Maerlantstraat 8-10\, Alkmaar\, 1813 BH
CATEGORIES:Noord-Kennemerland
END:VEVENT
BEGIN:VEVENT
DTSTART;TZID=Europe/Amsterdam:20290110T133000
DTEND;TZID=Europe/Amsterdam:20290110T143000
DTSTAMP:20260421T064728
CREATED:20260317T100025Z
LAST-MODIFIED:20260317T100027Z
UID:10043849-1862746200-1862749800@dehoofdzaak.org
SUMMARY:Gitaar Cursus
DESCRIPTION:Leer akoestische gitaar spelen! In deze cursus leer je liedjes begeleiden met akkoorden en melodieën spelen. De cursus is voor beginners\, ideaal voor mensen die een moeilijke periode doormaken en op zoek zijn naar een nieuwe passie. \n\n\n\n\n\n\n\n\n\n\nGitaarcursus voor beginners | De Hoofdzaak
URL:https://dehoofdzaak.org/agenda/gitaar-cursus/2029-01-10/
LOCATION:Wijkcentrum Overdie\, Van Maerlantstraat 8-10\, Alkmaar\, 1813 BH
CATEGORIES:Noord-Kennemerland
END:VEVENT
BEGIN:VEVENT
DTSTART;TZID=Europe/Amsterdam:20290112T100000
DTEND;TZID=Europe/Amsterdam:20290112T123000
DTSTAMP:20260421T064728
CREATED:20260324T100643Z
LAST-MODIFIED:20260324T100646Z
UID:10044258-1862906400-1862915400@dehoofdzaak.org
SUMMARY:Creatief Verbinden
DESCRIPTION:Door middel van creatief bezig zijn kun je hoofd en handen verbinden met elkaar. Ook kun je jezelf verbinden met het materiaal waarmee je werkt. We gaan aan de slag met verschillende materialen in acht verschillende bijeenkomsten. Door gezamenlijk creatief bezig te zijn kunnen we elkaar versterken en verbinden. Je kan je voor de nieuwe reeks aanmelden via: creatief-verbinden-alkmaar@dehoofdzaak.org. \n\n\n\n\n\n\n\n\n\n\n\nCreatief verbinden | De Hoofdzaak
URL:https://dehoofdzaak.org/agenda/creatief-verbinden-4/2029-01-12/
LOCATION:Wijkcentrum Overdie\, Van Maerlantstraat 8-10\, Alkmaar\, 1813 BH
CATEGORIES:Noord-Kennemerland
END:VEVENT
BEGIN:VEVENT
DTSTART;TZID=Europe/Amsterdam:20290117T100000
DTEND;TZID=Europe/Amsterdam:20290117T123000
DTSTAMP:20260421T064728
CREATED:20260324T100643Z
LAST-MODIFIED:20260324T100646Z
UID:10044973-1863338400-1863347400@dehoofdzaak.org
SUMMARY:Creatief Verbinden
DESCRIPTION:Door middel van creatief bezig zijn kun je hoofd en handen verbinden met elkaar. Ook kun je jezelf verbinden met het materiaal waarmee je werkt. We gaan aan de slag met verschillende materialen in acht verschillende bijeenkomsten. Door gezamenlijk creatief bezig te zijn kunnen we elkaar versterken en verbinden. Je kan je voor de nieuwe reeks aanmelden via: creatief-verbinden-alkmaar@dehoofdzaak.org. \n\n\n\n\n\n\n\n\n\n\n\nCreatief verbinden | De Hoofdzaak
URL:https://dehoofdzaak.org/agenda/creatief-verbinden-4/2029-01-17/
LOCATION:Wijkcentrum Overdie\, Van Maerlantstraat 8-10\, Alkmaar\, 1813 BH
CATEGORIES:Noord-Kennemerland
END:VEVENT
BEGIN:VEVENT
DTSTART;TZID=Europe/Amsterdam:20290117T133000
DTEND;TZID=Europe/Amsterdam:20290117T143000
DTSTAMP:20260421T064728
CREATED:20260317T100025Z
LAST-MODIFIED:20260317T100027Z
UID:10043850-1863351000-1863354600@dehoofdzaak.org
SUMMARY:Gitaar Cursus
DESCRIPTION:Leer akoestische gitaar spelen! In deze cursus leer je liedjes begeleiden met akkoorden en melodieën spelen. De cursus is voor beginners\, ideaal voor mensen die een moeilijke periode doormaken en op zoek zijn naar een nieuwe passie. \n\n\n\n\n\n\n\n\n\n\nGitaarcursus voor beginners | De Hoofdzaak
URL:https://dehoofdzaak.org/agenda/gitaar-cursus/2029-01-17/
LOCATION:Wijkcentrum Overdie\, Van Maerlantstraat 8-10\, Alkmaar\, 1813 BH
CATEGORIES:Noord-Kennemerland
END:VEVENT
BEGIN:VEVENT
DTSTART;TZID=Europe/Amsterdam:20290119T100000
DTEND;TZID=Europe/Amsterdam:20290119T123000
DTSTAMP:20260421T064728
CREATED:20260324T100643Z
LAST-MODIFIED:20260324T100646Z
UID:10044260-1863511200-1863520200@dehoofdzaak.org
SUMMARY:Creatief Verbinden
DESCRIPTION:Door middel van creatief bezig zijn kun je hoofd en handen verbinden met elkaar. Ook kun je jezelf verbinden met het materiaal waarmee je werkt. We gaan aan de slag met verschillende materialen in acht verschillende bijeenkomsten. Door gezamenlijk creatief bezig te zijn kunnen we elkaar versterken en verbinden. Je kan je voor de nieuwe reeks aanmelden via: creatief-verbinden-alkmaar@dehoofdzaak.org. \n\n\n\n\n\n\n\n\n\n\n\nCreatief verbinden | De Hoofdzaak
URL:https://dehoofdzaak.org/agenda/creatief-verbinden-4/2029-01-19/
LOCATION:Wijkcentrum Overdie\, Van Maerlantstraat 8-10\, Alkmaar\, 1813 BH
CATEGORIES:Noord-Kennemerland
END:VEVENT
BEGIN:VEVENT
DTSTART;TZID=Europe/Amsterdam:20290124T100000
DTEND;TZID=Europe/Amsterdam:20290124T123000
DTSTAMP:20260421T064728
CREATED:20260324T100643Z
LAST-MODIFIED:20260324T100646Z
UID:10044974-1863943200-1863952200@dehoofdzaak.org
SUMMARY:Creatief Verbinden
DESCRIPTION:Door middel van creatief bezig zijn kun je hoofd en handen verbinden met elkaar. Ook kun je jezelf verbinden met het materiaal waarmee je werkt. We gaan aan de slag met verschillende materialen in acht verschillende bijeenkomsten. Door gezamenlijk creatief bezig te zijn kunnen we elkaar versterken en verbinden. Je kan je voor de nieuwe reeks aanmelden via: creatief-verbinden-alkmaar@dehoofdzaak.org. \n\n\n\n\n\n\n\n\n\n\n\nCreatief verbinden | De Hoofdzaak
URL:https://dehoofdzaak.org/agenda/creatief-verbinden-4/2029-01-24/
LOCATION:Wijkcentrum Overdie\, Van Maerlantstraat 8-10\, Alkmaar\, 1813 BH
CATEGORIES:Noord-Kennemerland
END:VEVENT
BEGIN:VEVENT
DTSTART;TZID=Europe/Amsterdam:20290124T133000
DTEND;TZID=Europe/Amsterdam:20290124T143000
DTSTAMP:20260421T064728
CREATED:20260317T100025Z
LAST-MODIFIED:20260317T100027Z
UID:10043851-1863955800-1863959400@dehoofdzaak.org
SUMMARY:Gitaar Cursus
DESCRIPTION:Leer akoestische gitaar spelen! In deze cursus leer je liedjes begeleiden met akkoorden en melodieën spelen. De cursus is voor beginners\, ideaal voor mensen die een moeilijke periode doormaken en op zoek zijn naar een nieuwe passie. \n\n\n\n\n\n\n\n\n\n\nGitaarcursus voor beginners | De Hoofdzaak
URL:https://dehoofdzaak.org/agenda/gitaar-cursus/2029-01-24/
LOCATION:Wijkcentrum Overdie\, Van Maerlantstraat 8-10\, Alkmaar\, 1813 BH
CATEGORIES:Noord-Kennemerland
END:VEVENT
BEGIN:VEVENT
DTSTART;TZID=Europe/Amsterdam:20290126T100000
DTEND;TZID=Europe/Amsterdam:20290126T123000
DTSTAMP:20260421T064728
CREATED:20260324T100643Z
LAST-MODIFIED:20260324T100646Z
UID:10044262-1864116000-1864125000@dehoofdzaak.org
SUMMARY:Creatief Verbinden
DESCRIPTION:Door middel van creatief bezig zijn kun je hoofd en handen verbinden met elkaar. Ook kun je jezelf verbinden met het materiaal waarmee je werkt. We gaan aan de slag met verschillende materialen in acht verschillende bijeenkomsten. Door gezamenlijk creatief bezig te zijn kunnen we elkaar versterken en verbinden. Je kan je voor de nieuwe reeks aanmelden via: creatief-verbinden-alkmaar@dehoofdzaak.org. \n\n\n\n\n\n\n\n\n\n\n\nCreatief verbinden | De Hoofdzaak
URL:https://dehoofdzaak.org/agenda/creatief-verbinden-4/2029-01-26/
LOCATION:Wijkcentrum Overdie\, Van Maerlantstraat 8-10\, Alkmaar\, 1813 BH
CATEGORIES:Noord-Kennemerland
END:VEVENT
BEGIN:VEVENT
DTSTART;TZID=Europe/Amsterdam:20290131T100000
DTEND;TZID=Europe/Amsterdam:20290131T123000
DTSTAMP:20260421T064728
CREATED:20260324T100643Z
LAST-MODIFIED:20260324T100646Z
UID:10044975-1864548000-1864557000@dehoofdzaak.org
SUMMARY:Creatief Verbinden
DESCRIPTION:Door middel van creatief bezig zijn kun je hoofd en handen verbinden met elkaar. Ook kun je jezelf verbinden met het materiaal waarmee je werkt. We gaan aan de slag met verschillende materialen in acht verschillende bijeenkomsten. Door gezamenlijk creatief bezig te zijn kunnen we elkaar versterken en verbinden. Je kan je voor de nieuwe reeks aanmelden via: creatief-verbinden-alkmaar@dehoofdzaak.org. \n\n\n\n\n\n\n\n\n\n\n\nCreatief verbinden | De Hoofdzaak
URL:https://dehoofdzaak.org/agenda/creatief-verbinden-4/2029-01-31/
LOCATION:Wijkcentrum Overdie\, Van Maerlantstraat 8-10\, Alkmaar\, 1813 BH
CATEGORIES:Noord-Kennemerland
END:VEVENT
BEGIN:VEVENT
DTSTART;TZID=Europe/Amsterdam:20290131T133000
DTEND;TZID=Europe/Amsterdam:20290131T143000
DTSTAMP:20260421T064728
CREATED:20260317T100025Z
LAST-MODIFIED:20260317T100027Z
UID:10043852-1864560600-1864564200@dehoofdzaak.org
SUMMARY:Gitaar Cursus
DESCRIPTION:Leer akoestische gitaar spelen! In deze cursus leer je liedjes begeleiden met akkoorden en melodieën spelen. De cursus is voor beginners\, ideaal voor mensen die een moeilijke periode doormaken en op zoek zijn naar een nieuwe passie. \n\n\n\n\n\n\n\n\n\n\nGitaarcursus voor beginners | De Hoofdzaak
URL:https://dehoofdzaak.org/agenda/gitaar-cursus/2029-01-31/
LOCATION:Wijkcentrum Overdie\, Van Maerlantstraat 8-10\, Alkmaar\, 1813 BH
CATEGORIES:Noord-Kennemerland
END:VEVENT
BEGIN:VEVENT
DTSTART;TZID=Europe/Amsterdam:20290202T100000
DTEND;TZID=Europe/Amsterdam:20290202T123000
DTSTAMP:20260421T064728
CREATED:20260324T100643Z
LAST-MODIFIED:20260324T100646Z
UID:10044264-1864720800-1864729800@dehoofdzaak.org
SUMMARY:Creatief Verbinden
DESCRIPTION:Door middel van creatief bezig zijn kun je hoofd en handen verbinden met elkaar. Ook kun je jezelf verbinden met het materiaal waarmee je werkt. We gaan aan de slag met verschillende materialen in acht verschillende bijeenkomsten. Door gezamenlijk creatief bezig te zijn kunnen we elkaar versterken en verbinden. Je kan je voor de nieuwe reeks aanmelden via: creatief-verbinden-alkmaar@dehoofdzaak.org. \n\n\n\n\n\n\n\n\n\n\n\nCreatief verbinden | De Hoofdzaak
URL:https://dehoofdzaak.org/agenda/creatief-verbinden-4/2029-02-02/
LOCATION:Wijkcentrum Overdie\, Van Maerlantstraat 8-10\, Alkmaar\, 1813 BH
CATEGORIES:Noord-Kennemerland
END:VEVENT
END:VCALENDAR