BEGIN:VCALENDAR
VERSION:2.0
PRODID:-//De Hoofdzaak - ECPv6.15.20//NONSGML v1.0//EN
CALSCALE:GREGORIAN
METHOD:PUBLISH
X-WR-CALNAME:De Hoofdzaak
X-ORIGINAL-URL:https://dehoofdzaak.org
X-WR-CALDESC:Evenementen voor De Hoofdzaak
REFRESH-INTERVAL;VALUE=DURATION:PT1H
X-Robots-Tag:noindex
X-PUBLISHED-TTL:PT1H
BEGIN:VTIMEZONE
TZID:Europe/Amsterdam
BEGIN:DAYLIGHT
TZOFFSETFROM:+0100
TZOFFSETTO:+0200
TZNAME:CEST
DTSTART:20280326T010000
END:DAYLIGHT
BEGIN:STANDARD
TZOFFSETFROM:+0200
TZOFFSETTO:+0100
TZNAME:CET
DTSTART:20281029T010000
END:STANDARD
BEGIN:DAYLIGHT
TZOFFSETFROM:+0100
TZOFFSETTO:+0200
TZNAME:CEST
DTSTART:20290325T010000
END:DAYLIGHT
BEGIN:STANDARD
TZOFFSETFROM:+0200
TZOFFSETTO:+0100
TZNAME:CET
DTSTART:20291028T010000
END:STANDARD
BEGIN:DAYLIGHT
TZOFFSETFROM:+0100
TZOFFSETTO:+0200
TZNAME:CEST
DTSTART:20300331T010000
END:DAYLIGHT
BEGIN:STANDARD
TZOFFSETFROM:+0200
TZOFFSETTO:+0100
TZNAME:CET
DTSTART:20301027T010000
END:STANDARD
END:VTIMEZONE
BEGIN:VEVENT
DTSTART;TZID=Europe/Amsterdam:20290905T100000
DTEND;TZID=Europe/Amsterdam:20290905T123000
DTSTAMP:20260422T003311
CREATED:20260324T100643Z
LAST-MODIFIED:20260324T100646Z
UID:10045006-1883296800-1883305800@dehoofdzaak.org
SUMMARY:Creatief Verbinden
DESCRIPTION:Door middel van creatief bezig zijn kun je hoofd en handen verbinden met elkaar. Ook kun je jezelf verbinden met het materiaal waarmee je werkt. We gaan aan de slag met verschillende materialen in acht verschillende bijeenkomsten. Door gezamenlijk creatief bezig te zijn kunnen we elkaar versterken en verbinden. Je kan je voor de nieuwe reeks aanmelden via: creatief-verbinden-alkmaar@dehoofdzaak.org. \n\n\n\n\n\n\n\n\n\n\n\nCreatief verbinden | De Hoofdzaak
URL:https://dehoofdzaak.org/agenda/creatief-verbinden-4/2029-09-05/
LOCATION:Wijkcentrum Overdie\, Van Maerlantstraat 8-10\, Alkmaar\, 1813 BH
CATEGORIES:Noord-Kennemerland
END:VEVENT
BEGIN:VEVENT
DTSTART;TZID=Europe/Amsterdam:20290905T133000
DTEND;TZID=Europe/Amsterdam:20290905T143000
DTSTAMP:20260422T003311
CREATED:20260317T100025Z
LAST-MODIFIED:20260317T100027Z
UID:10043883-1883309400-1883313000@dehoofdzaak.org
SUMMARY:Gitaar Cursus
DESCRIPTION:Leer akoestische gitaar spelen! In deze cursus leer je liedjes begeleiden met akkoorden en melodieën spelen. De cursus is voor beginners\, ideaal voor mensen die een moeilijke periode doormaken en op zoek zijn naar een nieuwe passie. \n\n\n\n\n\n\n\n\n\n\nGitaarcursus voor beginners | De Hoofdzaak
URL:https://dehoofdzaak.org/agenda/gitaar-cursus/2029-09-05/
LOCATION:Wijkcentrum Overdie\, Van Maerlantstraat 8-10\, Alkmaar\, 1813 BH
CATEGORIES:Noord-Kennemerland
END:VEVENT
BEGIN:VEVENT
DTSTART;TZID=Europe/Amsterdam:20290907T100000
DTEND;TZID=Europe/Amsterdam:20290907T123000
DTSTAMP:20260422T003311
CREATED:20260324T100643Z
LAST-MODIFIED:20260324T100646Z
UID:10044326-1883469600-1883478600@dehoofdzaak.org
SUMMARY:Creatief Verbinden
DESCRIPTION:Door middel van creatief bezig zijn kun je hoofd en handen verbinden met elkaar. Ook kun je jezelf verbinden met het materiaal waarmee je werkt. We gaan aan de slag met verschillende materialen in acht verschillende bijeenkomsten. Door gezamenlijk creatief bezig te zijn kunnen we elkaar versterken en verbinden. Je kan je voor de nieuwe reeks aanmelden via: creatief-verbinden-alkmaar@dehoofdzaak.org. \n\n\n\n\n\n\n\n\n\n\n\nCreatief verbinden | De Hoofdzaak
URL:https://dehoofdzaak.org/agenda/creatief-verbinden-4/2029-09-07/
LOCATION:Wijkcentrum Overdie\, Van Maerlantstraat 8-10\, Alkmaar\, 1813 BH
CATEGORIES:Noord-Kennemerland
END:VEVENT
BEGIN:VEVENT
DTSTART;TZID=Europe/Amsterdam:20290912T100000
DTEND;TZID=Europe/Amsterdam:20290912T123000
DTSTAMP:20260422T003311
CREATED:20260324T100643Z
LAST-MODIFIED:20260324T100646Z
UID:10045007-1883901600-1883910600@dehoofdzaak.org
SUMMARY:Creatief Verbinden
DESCRIPTION:Door middel van creatief bezig zijn kun je hoofd en handen verbinden met elkaar. Ook kun je jezelf verbinden met het materiaal waarmee je werkt. We gaan aan de slag met verschillende materialen in acht verschillende bijeenkomsten. Door gezamenlijk creatief bezig te zijn kunnen we elkaar versterken en verbinden. Je kan je voor de nieuwe reeks aanmelden via: creatief-verbinden-alkmaar@dehoofdzaak.org. \n\n\n\n\n\n\n\n\n\n\n\nCreatief verbinden | De Hoofdzaak
URL:https://dehoofdzaak.org/agenda/creatief-verbinden-4/2029-09-12/
LOCATION:Wijkcentrum Overdie\, Van Maerlantstraat 8-10\, Alkmaar\, 1813 BH
CATEGORIES:Noord-Kennemerland
END:VEVENT
BEGIN:VEVENT
DTSTART;TZID=Europe/Amsterdam:20290912T133000
DTEND;TZID=Europe/Amsterdam:20290912T143000
DTSTAMP:20260422T003311
CREATED:20260317T100025Z
LAST-MODIFIED:20260317T100027Z
UID:10043884-1883914200-1883917800@dehoofdzaak.org
SUMMARY:Gitaar Cursus
DESCRIPTION:Leer akoestische gitaar spelen! In deze cursus leer je liedjes begeleiden met akkoorden en melodieën spelen. De cursus is voor beginners\, ideaal voor mensen die een moeilijke periode doormaken en op zoek zijn naar een nieuwe passie. \n\n\n\n\n\n\n\n\n\n\nGitaarcursus voor beginners | De Hoofdzaak
URL:https://dehoofdzaak.org/agenda/gitaar-cursus/2029-09-12/
LOCATION:Wijkcentrum Overdie\, Van Maerlantstraat 8-10\, Alkmaar\, 1813 BH
CATEGORIES:Noord-Kennemerland
END:VEVENT
BEGIN:VEVENT
DTSTART;TZID=Europe/Amsterdam:20290914T100000
DTEND;TZID=Europe/Amsterdam:20290914T123000
DTSTAMP:20260422T003311
CREATED:20260324T100643Z
LAST-MODIFIED:20260324T100646Z
UID:10044328-1884074400-1884083400@dehoofdzaak.org
SUMMARY:Creatief Verbinden
DESCRIPTION:Door middel van creatief bezig zijn kun je hoofd en handen verbinden met elkaar. Ook kun je jezelf verbinden met het materiaal waarmee je werkt. We gaan aan de slag met verschillende materialen in acht verschillende bijeenkomsten. Door gezamenlijk creatief bezig te zijn kunnen we elkaar versterken en verbinden. Je kan je voor de nieuwe reeks aanmelden via: creatief-verbinden-alkmaar@dehoofdzaak.org. \n\n\n\n\n\n\n\n\n\n\n\nCreatief verbinden | De Hoofdzaak
URL:https://dehoofdzaak.org/agenda/creatief-verbinden-4/2029-09-14/
LOCATION:Wijkcentrum Overdie\, Van Maerlantstraat 8-10\, Alkmaar\, 1813 BH
CATEGORIES:Noord-Kennemerland
END:VEVENT
BEGIN:VEVENT
DTSTART;TZID=Europe/Amsterdam:20290919T100000
DTEND;TZID=Europe/Amsterdam:20290919T123000
DTSTAMP:20260422T003311
CREATED:20260324T100643Z
LAST-MODIFIED:20260324T100646Z
UID:10045008-1884506400-1884515400@dehoofdzaak.org
SUMMARY:Creatief Verbinden
DESCRIPTION:Door middel van creatief bezig zijn kun je hoofd en handen verbinden met elkaar. Ook kun je jezelf verbinden met het materiaal waarmee je werkt. We gaan aan de slag met verschillende materialen in acht verschillende bijeenkomsten. Door gezamenlijk creatief bezig te zijn kunnen we elkaar versterken en verbinden. Je kan je voor de nieuwe reeks aanmelden via: creatief-verbinden-alkmaar@dehoofdzaak.org. \n\n\n\n\n\n\n\n\n\n\n\nCreatief verbinden | De Hoofdzaak
URL:https://dehoofdzaak.org/agenda/creatief-verbinden-4/2029-09-19/
LOCATION:Wijkcentrum Overdie\, Van Maerlantstraat 8-10\, Alkmaar\, 1813 BH
CATEGORIES:Noord-Kennemerland
END:VEVENT
BEGIN:VEVENT
DTSTART;TZID=Europe/Amsterdam:20290919T133000
DTEND;TZID=Europe/Amsterdam:20290919T143000
DTSTAMP:20260422T003311
CREATED:20260317T100025Z
LAST-MODIFIED:20260317T100027Z
UID:10043885-1884519000-1884522600@dehoofdzaak.org
SUMMARY:Gitaar Cursus
DESCRIPTION:Leer akoestische gitaar spelen! In deze cursus leer je liedjes begeleiden met akkoorden en melodieën spelen. De cursus is voor beginners\, ideaal voor mensen die een moeilijke periode doormaken en op zoek zijn naar een nieuwe passie. \n\n\n\n\n\n\n\n\n\n\nGitaarcursus voor beginners | De Hoofdzaak
URL:https://dehoofdzaak.org/agenda/gitaar-cursus/2029-09-19/
LOCATION:Wijkcentrum Overdie\, Van Maerlantstraat 8-10\, Alkmaar\, 1813 BH
CATEGORIES:Noord-Kennemerland
END:VEVENT
BEGIN:VEVENT
DTSTART;TZID=Europe/Amsterdam:20290921T100000
DTEND;TZID=Europe/Amsterdam:20290921T123000
DTSTAMP:20260422T003311
CREATED:20260324T100643Z
LAST-MODIFIED:20260324T100646Z
UID:10044330-1884679200-1884688200@dehoofdzaak.org
SUMMARY:Creatief Verbinden
DESCRIPTION:Door middel van creatief bezig zijn kun je hoofd en handen verbinden met elkaar. Ook kun je jezelf verbinden met het materiaal waarmee je werkt. We gaan aan de slag met verschillende materialen in acht verschillende bijeenkomsten. Door gezamenlijk creatief bezig te zijn kunnen we elkaar versterken en verbinden. Je kan je voor de nieuwe reeks aanmelden via: creatief-verbinden-alkmaar@dehoofdzaak.org. \n\n\n\n\n\n\n\n\n\n\n\nCreatief verbinden | De Hoofdzaak
URL:https://dehoofdzaak.org/agenda/creatief-verbinden-4/2029-09-21/
LOCATION:Wijkcentrum Overdie\, Van Maerlantstraat 8-10\, Alkmaar\, 1813 BH
CATEGORIES:Noord-Kennemerland
END:VEVENT
BEGIN:VEVENT
DTSTART;TZID=Europe/Amsterdam:20290926T100000
DTEND;TZID=Europe/Amsterdam:20290926T123000
DTSTAMP:20260422T003311
CREATED:20260324T100643Z
LAST-MODIFIED:20260324T100646Z
UID:10045009-1885111200-1885120200@dehoofdzaak.org
SUMMARY:Creatief Verbinden
DESCRIPTION:Door middel van creatief bezig zijn kun je hoofd en handen verbinden met elkaar. Ook kun je jezelf verbinden met het materiaal waarmee je werkt. We gaan aan de slag met verschillende materialen in acht verschillende bijeenkomsten. Door gezamenlijk creatief bezig te zijn kunnen we elkaar versterken en verbinden. Je kan je voor de nieuwe reeks aanmelden via: creatief-verbinden-alkmaar@dehoofdzaak.org. \n\n\n\n\n\n\n\n\n\n\n\nCreatief verbinden | De Hoofdzaak
URL:https://dehoofdzaak.org/agenda/creatief-verbinden-4/2029-09-26/
LOCATION:Wijkcentrum Overdie\, Van Maerlantstraat 8-10\, Alkmaar\, 1813 BH
CATEGORIES:Noord-Kennemerland
END:VEVENT
BEGIN:VEVENT
DTSTART;TZID=Europe/Amsterdam:20290926T133000
DTEND;TZID=Europe/Amsterdam:20290926T143000
DTSTAMP:20260422T003311
CREATED:20260317T100025Z
LAST-MODIFIED:20260317T100027Z
UID:10043886-1885123800-1885127400@dehoofdzaak.org
SUMMARY:Gitaar Cursus
DESCRIPTION:Leer akoestische gitaar spelen! In deze cursus leer je liedjes begeleiden met akkoorden en melodieën spelen. De cursus is voor beginners\, ideaal voor mensen die een moeilijke periode doormaken en op zoek zijn naar een nieuwe passie. \n\n\n\n\n\n\n\n\n\n\nGitaarcursus voor beginners | De Hoofdzaak
URL:https://dehoofdzaak.org/agenda/gitaar-cursus/2029-09-26/
LOCATION:Wijkcentrum Overdie\, Van Maerlantstraat 8-10\, Alkmaar\, 1813 BH
CATEGORIES:Noord-Kennemerland
END:VEVENT
BEGIN:VEVENT
DTSTART;TZID=Europe/Amsterdam:20290928T100000
DTEND;TZID=Europe/Amsterdam:20290928T123000
DTSTAMP:20260422T003311
CREATED:20260324T100643Z
LAST-MODIFIED:20260324T100646Z
UID:10044332-1885284000-1885293000@dehoofdzaak.org
SUMMARY:Creatief Verbinden
DESCRIPTION:Door middel van creatief bezig zijn kun je hoofd en handen verbinden met elkaar. Ook kun je jezelf verbinden met het materiaal waarmee je werkt. We gaan aan de slag met verschillende materialen in acht verschillende bijeenkomsten. Door gezamenlijk creatief bezig te zijn kunnen we elkaar versterken en verbinden. Je kan je voor de nieuwe reeks aanmelden via: creatief-verbinden-alkmaar@dehoofdzaak.org. \n\n\n\n\n\n\n\n\n\n\n\nCreatief verbinden | De Hoofdzaak
URL:https://dehoofdzaak.org/agenda/creatief-verbinden-4/2029-09-28/
LOCATION:Wijkcentrum Overdie\, Van Maerlantstraat 8-10\, Alkmaar\, 1813 BH
CATEGORIES:Noord-Kennemerland
END:VEVENT
BEGIN:VEVENT
DTSTART;TZID=Europe/Amsterdam:20291003T100000
DTEND;TZID=Europe/Amsterdam:20291003T123000
DTSTAMP:20260422T003311
CREATED:20260324T100643Z
LAST-MODIFIED:20260324T100646Z
UID:10045010-1885716000-1885725000@dehoofdzaak.org
SUMMARY:Creatief Verbinden
DESCRIPTION:Door middel van creatief bezig zijn kun je hoofd en handen verbinden met elkaar. Ook kun je jezelf verbinden met het materiaal waarmee je werkt. We gaan aan de slag met verschillende materialen in acht verschillende bijeenkomsten. Door gezamenlijk creatief bezig te zijn kunnen we elkaar versterken en verbinden. Je kan je voor de nieuwe reeks aanmelden via: creatief-verbinden-alkmaar@dehoofdzaak.org. \n\n\n\n\n\n\n\n\n\n\n\nCreatief verbinden | De Hoofdzaak
URL:https://dehoofdzaak.org/agenda/creatief-verbinden-4/2029-10-03/
LOCATION:Wijkcentrum Overdie\, Van Maerlantstraat 8-10\, Alkmaar\, 1813 BH
CATEGORIES:Noord-Kennemerland
END:VEVENT
BEGIN:VEVENT
DTSTART;TZID=Europe/Amsterdam:20291003T133000
DTEND;TZID=Europe/Amsterdam:20291003T143000
DTSTAMP:20260422T003311
CREATED:20260317T100025Z
LAST-MODIFIED:20260317T100027Z
UID:10043887-1885728600-1885732200@dehoofdzaak.org
SUMMARY:Gitaar Cursus
DESCRIPTION:Leer akoestische gitaar spelen! In deze cursus leer je liedjes begeleiden met akkoorden en melodieën spelen. De cursus is voor beginners\, ideaal voor mensen die een moeilijke periode doormaken en op zoek zijn naar een nieuwe passie. \n\n\n\n\n\n\n\n\n\n\nGitaarcursus voor beginners | De Hoofdzaak
URL:https://dehoofdzaak.org/agenda/gitaar-cursus/2029-10-03/
LOCATION:Wijkcentrum Overdie\, Van Maerlantstraat 8-10\, Alkmaar\, 1813 BH
CATEGORIES:Noord-Kennemerland
END:VEVENT
BEGIN:VEVENT
DTSTART;TZID=Europe/Amsterdam:20291005T100000
DTEND;TZID=Europe/Amsterdam:20291005T123000
DTSTAMP:20260422T003311
CREATED:20260324T100643Z
LAST-MODIFIED:20260324T100646Z
UID:10044334-1885888800-1885897800@dehoofdzaak.org
SUMMARY:Creatief Verbinden
DESCRIPTION:Door middel van creatief bezig zijn kun je hoofd en handen verbinden met elkaar. Ook kun je jezelf verbinden met het materiaal waarmee je werkt. We gaan aan de slag met verschillende materialen in acht verschillende bijeenkomsten. Door gezamenlijk creatief bezig te zijn kunnen we elkaar versterken en verbinden. Je kan je voor de nieuwe reeks aanmelden via: creatief-verbinden-alkmaar@dehoofdzaak.org. \n\n\n\n\n\n\n\n\n\n\n\nCreatief verbinden | De Hoofdzaak
URL:https://dehoofdzaak.org/agenda/creatief-verbinden-4/2029-10-05/
LOCATION:Wijkcentrum Overdie\, Van Maerlantstraat 8-10\, Alkmaar\, 1813 BH
CATEGORIES:Noord-Kennemerland
END:VEVENT
BEGIN:VEVENT
DTSTART;TZID=Europe/Amsterdam:20291010T100000
DTEND;TZID=Europe/Amsterdam:20291010T123000
DTSTAMP:20260422T003311
CREATED:20260324T100643Z
LAST-MODIFIED:20260324T100646Z
UID:10045011-1886320800-1886329800@dehoofdzaak.org
SUMMARY:Creatief Verbinden
DESCRIPTION:Door middel van creatief bezig zijn kun je hoofd en handen verbinden met elkaar. Ook kun je jezelf verbinden met het materiaal waarmee je werkt. We gaan aan de slag met verschillende materialen in acht verschillende bijeenkomsten. Door gezamenlijk creatief bezig te zijn kunnen we elkaar versterken en verbinden. Je kan je voor de nieuwe reeks aanmelden via: creatief-verbinden-alkmaar@dehoofdzaak.org. \n\n\n\n\n\n\n\n\n\n\n\nCreatief verbinden | De Hoofdzaak
URL:https://dehoofdzaak.org/agenda/creatief-verbinden-4/2029-10-10/
LOCATION:Wijkcentrum Overdie\, Van Maerlantstraat 8-10\, Alkmaar\, 1813 BH
CATEGORIES:Noord-Kennemerland
END:VEVENT
BEGIN:VEVENT
DTSTART;TZID=Europe/Amsterdam:20291010T133000
DTEND;TZID=Europe/Amsterdam:20291010T143000
DTSTAMP:20260422T003311
CREATED:20260317T100025Z
LAST-MODIFIED:20260317T100027Z
UID:10043888-1886333400-1886337000@dehoofdzaak.org
SUMMARY:Gitaar Cursus
DESCRIPTION:Leer akoestische gitaar spelen! In deze cursus leer je liedjes begeleiden met akkoorden en melodieën spelen. De cursus is voor beginners\, ideaal voor mensen die een moeilijke periode doormaken en op zoek zijn naar een nieuwe passie. \n\n\n\n\n\n\n\n\n\n\nGitaarcursus voor beginners | De Hoofdzaak
URL:https://dehoofdzaak.org/agenda/gitaar-cursus/2029-10-10/
LOCATION:Wijkcentrum Overdie\, Van Maerlantstraat 8-10\, Alkmaar\, 1813 BH
CATEGORIES:Noord-Kennemerland
END:VEVENT
BEGIN:VEVENT
DTSTART;TZID=Europe/Amsterdam:20291012T100000
DTEND;TZID=Europe/Amsterdam:20291012T123000
DTSTAMP:20260422T003311
CREATED:20260324T100643Z
LAST-MODIFIED:20260324T100646Z
UID:10044336-1886493600-1886502600@dehoofdzaak.org
SUMMARY:Creatief Verbinden
DESCRIPTION:Door middel van creatief bezig zijn kun je hoofd en handen verbinden met elkaar. Ook kun je jezelf verbinden met het materiaal waarmee je werkt. We gaan aan de slag met verschillende materialen in acht verschillende bijeenkomsten. Door gezamenlijk creatief bezig te zijn kunnen we elkaar versterken en verbinden. Je kan je voor de nieuwe reeks aanmelden via: creatief-verbinden-alkmaar@dehoofdzaak.org. \n\n\n\n\n\n\n\n\n\n\n\nCreatief verbinden | De Hoofdzaak
URL:https://dehoofdzaak.org/agenda/creatief-verbinden-4/2029-10-12/
LOCATION:Wijkcentrum Overdie\, Van Maerlantstraat 8-10\, Alkmaar\, 1813 BH
CATEGORIES:Noord-Kennemerland
END:VEVENT
BEGIN:VEVENT
DTSTART;TZID=Europe/Amsterdam:20291017T100000
DTEND;TZID=Europe/Amsterdam:20291017T123000
DTSTAMP:20260422T003311
CREATED:20260324T100643Z
LAST-MODIFIED:20260324T100646Z
UID:10045012-1886925600-1886934600@dehoofdzaak.org
SUMMARY:Creatief Verbinden
DESCRIPTION:Door middel van creatief bezig zijn kun je hoofd en handen verbinden met elkaar. Ook kun je jezelf verbinden met het materiaal waarmee je werkt. We gaan aan de slag met verschillende materialen in acht verschillende bijeenkomsten. Door gezamenlijk creatief bezig te zijn kunnen we elkaar versterken en verbinden. Je kan je voor de nieuwe reeks aanmelden via: creatief-verbinden-alkmaar@dehoofdzaak.org. \n\n\n\n\n\n\n\n\n\n\n\nCreatief verbinden | De Hoofdzaak
URL:https://dehoofdzaak.org/agenda/creatief-verbinden-4/2029-10-17/
LOCATION:Wijkcentrum Overdie\, Van Maerlantstraat 8-10\, Alkmaar\, 1813 BH
CATEGORIES:Noord-Kennemerland
END:VEVENT
BEGIN:VEVENT
DTSTART;TZID=Europe/Amsterdam:20291017T133000
DTEND;TZID=Europe/Amsterdam:20291017T143000
DTSTAMP:20260422T003311
CREATED:20260317T100025Z
LAST-MODIFIED:20260317T100027Z
UID:10043889-1886938200-1886941800@dehoofdzaak.org
SUMMARY:Gitaar Cursus
DESCRIPTION:Leer akoestische gitaar spelen! In deze cursus leer je liedjes begeleiden met akkoorden en melodieën spelen. De cursus is voor beginners\, ideaal voor mensen die een moeilijke periode doormaken en op zoek zijn naar een nieuwe passie. \n\n\n\n\n\n\n\n\n\n\nGitaarcursus voor beginners | De Hoofdzaak
URL:https://dehoofdzaak.org/agenda/gitaar-cursus/2029-10-17/
LOCATION:Wijkcentrum Overdie\, Van Maerlantstraat 8-10\, Alkmaar\, 1813 BH
CATEGORIES:Noord-Kennemerland
END:VEVENT
BEGIN:VEVENT
DTSTART;TZID=Europe/Amsterdam:20291019T100000
DTEND;TZID=Europe/Amsterdam:20291019T123000
DTSTAMP:20260422T003311
CREATED:20260324T100643Z
LAST-MODIFIED:20260324T100646Z
UID:10044338-1887098400-1887107400@dehoofdzaak.org
SUMMARY:Creatief Verbinden
DESCRIPTION:Door middel van creatief bezig zijn kun je hoofd en handen verbinden met elkaar. Ook kun je jezelf verbinden met het materiaal waarmee je werkt. We gaan aan de slag met verschillende materialen in acht verschillende bijeenkomsten. Door gezamenlijk creatief bezig te zijn kunnen we elkaar versterken en verbinden. Je kan je voor de nieuwe reeks aanmelden via: creatief-verbinden-alkmaar@dehoofdzaak.org. \n\n\n\n\n\n\n\n\n\n\n\nCreatief verbinden | De Hoofdzaak
URL:https://dehoofdzaak.org/agenda/creatief-verbinden-4/2029-10-19/
LOCATION:Wijkcentrum Overdie\, Van Maerlantstraat 8-10\, Alkmaar\, 1813 BH
CATEGORIES:Noord-Kennemerland
END:VEVENT
BEGIN:VEVENT
DTSTART;TZID=Europe/Amsterdam:20291024T100000
DTEND;TZID=Europe/Amsterdam:20291024T123000
DTSTAMP:20260422T003311
CREATED:20260324T100643Z
LAST-MODIFIED:20260324T100646Z
UID:10045013-1887530400-1887539400@dehoofdzaak.org
SUMMARY:Creatief Verbinden
DESCRIPTION:Door middel van creatief bezig zijn kun je hoofd en handen verbinden met elkaar. Ook kun je jezelf verbinden met het materiaal waarmee je werkt. We gaan aan de slag met verschillende materialen in acht verschillende bijeenkomsten. Door gezamenlijk creatief bezig te zijn kunnen we elkaar versterken en verbinden. Je kan je voor de nieuwe reeks aanmelden via: creatief-verbinden-alkmaar@dehoofdzaak.org. \n\n\n\n\n\n\n\n\n\n\n\nCreatief verbinden | De Hoofdzaak
URL:https://dehoofdzaak.org/agenda/creatief-verbinden-4/2029-10-24/
LOCATION:Wijkcentrum Overdie\, Van Maerlantstraat 8-10\, Alkmaar\, 1813 BH
CATEGORIES:Noord-Kennemerland
END:VEVENT
BEGIN:VEVENT
DTSTART;TZID=Europe/Amsterdam:20291024T133000
DTEND;TZID=Europe/Amsterdam:20291024T143000
DTSTAMP:20260422T003311
CREATED:20260317T100025Z
LAST-MODIFIED:20260317T100027Z
UID:10043890-1887543000-1887546600@dehoofdzaak.org
SUMMARY:Gitaar Cursus
DESCRIPTION:Leer akoestische gitaar spelen! In deze cursus leer je liedjes begeleiden met akkoorden en melodieën spelen. De cursus is voor beginners\, ideaal voor mensen die een moeilijke periode doormaken en op zoek zijn naar een nieuwe passie. \n\n\n\n\n\n\n\n\n\n\nGitaarcursus voor beginners | De Hoofdzaak
URL:https://dehoofdzaak.org/agenda/gitaar-cursus/2029-10-24/
LOCATION:Wijkcentrum Overdie\, Van Maerlantstraat 8-10\, Alkmaar\, 1813 BH
CATEGORIES:Noord-Kennemerland
END:VEVENT
BEGIN:VEVENT
DTSTART;TZID=Europe/Amsterdam:20291026T100000
DTEND;TZID=Europe/Amsterdam:20291026T123000
DTSTAMP:20260422T003311
CREATED:20260324T100643Z
LAST-MODIFIED:20260324T100646Z
UID:10044340-1887703200-1887712200@dehoofdzaak.org
SUMMARY:Creatief Verbinden
DESCRIPTION:Door middel van creatief bezig zijn kun je hoofd en handen verbinden met elkaar. Ook kun je jezelf verbinden met het materiaal waarmee je werkt. We gaan aan de slag met verschillende materialen in acht verschillende bijeenkomsten. Door gezamenlijk creatief bezig te zijn kunnen we elkaar versterken en verbinden. Je kan je voor de nieuwe reeks aanmelden via: creatief-verbinden-alkmaar@dehoofdzaak.org. \n\n\n\n\n\n\n\n\n\n\n\nCreatief verbinden | De Hoofdzaak
URL:https://dehoofdzaak.org/agenda/creatief-verbinden-4/2029-10-26/
LOCATION:Wijkcentrum Overdie\, Van Maerlantstraat 8-10\, Alkmaar\, 1813 BH
CATEGORIES:Noord-Kennemerland
END:VEVENT
BEGIN:VEVENT
DTSTART;TZID=Europe/Amsterdam:20291031T100000
DTEND;TZID=Europe/Amsterdam:20291031T123000
DTSTAMP:20260422T003311
CREATED:20260324T100643Z
LAST-MODIFIED:20260324T100646Z
UID:10045014-1888135200-1888144200@dehoofdzaak.org
SUMMARY:Creatief Verbinden
DESCRIPTION:Door middel van creatief bezig zijn kun je hoofd en handen verbinden met elkaar. Ook kun je jezelf verbinden met het materiaal waarmee je werkt. We gaan aan de slag met verschillende materialen in acht verschillende bijeenkomsten. Door gezamenlijk creatief bezig te zijn kunnen we elkaar versterken en verbinden. Je kan je voor de nieuwe reeks aanmelden via: creatief-verbinden-alkmaar@dehoofdzaak.org. \n\n\n\n\n\n\n\n\n\n\n\nCreatief verbinden | De Hoofdzaak
URL:https://dehoofdzaak.org/agenda/creatief-verbinden-4/2029-10-31/
LOCATION:Wijkcentrum Overdie\, Van Maerlantstraat 8-10\, Alkmaar\, 1813 BH
CATEGORIES:Noord-Kennemerland
END:VEVENT
BEGIN:VEVENT
DTSTART;TZID=Europe/Amsterdam:20291031T133000
DTEND;TZID=Europe/Amsterdam:20291031T143000
DTSTAMP:20260422T003311
CREATED:20260317T100025Z
LAST-MODIFIED:20260317T100027Z
UID:10043891-1888147800-1888151400@dehoofdzaak.org
SUMMARY:Gitaar Cursus
DESCRIPTION:Leer akoestische gitaar spelen! In deze cursus leer je liedjes begeleiden met akkoorden en melodieën spelen. De cursus is voor beginners\, ideaal voor mensen die een moeilijke periode doormaken en op zoek zijn naar een nieuwe passie. \n\n\n\n\n\n\n\n\n\n\nGitaarcursus voor beginners | De Hoofdzaak
URL:https://dehoofdzaak.org/agenda/gitaar-cursus/2029-10-31/
LOCATION:Wijkcentrum Overdie\, Van Maerlantstraat 8-10\, Alkmaar\, 1813 BH
CATEGORIES:Noord-Kennemerland
END:VEVENT
BEGIN:VEVENT
DTSTART;TZID=Europe/Amsterdam:20291102T100000
DTEND;TZID=Europe/Amsterdam:20291102T123000
DTSTAMP:20260422T003311
CREATED:20260324T100643Z
LAST-MODIFIED:20260324T100646Z
UID:10044342-1888308000-1888317000@dehoofdzaak.org
SUMMARY:Creatief Verbinden
DESCRIPTION:Door middel van creatief bezig zijn kun je hoofd en handen verbinden met elkaar. Ook kun je jezelf verbinden met het materiaal waarmee je werkt. We gaan aan de slag met verschillende materialen in acht verschillende bijeenkomsten. Door gezamenlijk creatief bezig te zijn kunnen we elkaar versterken en verbinden. Je kan je voor de nieuwe reeks aanmelden via: creatief-verbinden-alkmaar@dehoofdzaak.org. \n\n\n\n\n\n\n\n\n\n\n\nCreatief verbinden | De Hoofdzaak
URL:https://dehoofdzaak.org/agenda/creatief-verbinden-4/2029-11-02/
LOCATION:Wijkcentrum Overdie\, Van Maerlantstraat 8-10\, Alkmaar\, 1813 BH
CATEGORIES:Noord-Kennemerland
END:VEVENT
BEGIN:VEVENT
DTSTART;TZID=Europe/Amsterdam:20291107T100000
DTEND;TZID=Europe/Amsterdam:20291107T123000
DTSTAMP:20260422T003311
CREATED:20260324T100643Z
LAST-MODIFIED:20260324T100646Z
UID:10045015-1888740000-1888749000@dehoofdzaak.org
SUMMARY:Creatief Verbinden
DESCRIPTION:Door middel van creatief bezig zijn kun je hoofd en handen verbinden met elkaar. Ook kun je jezelf verbinden met het materiaal waarmee je werkt. We gaan aan de slag met verschillende materialen in acht verschillende bijeenkomsten. Door gezamenlijk creatief bezig te zijn kunnen we elkaar versterken en verbinden. Je kan je voor de nieuwe reeks aanmelden via: creatief-verbinden-alkmaar@dehoofdzaak.org. \n\n\n\n\n\n\n\n\n\n\n\nCreatief verbinden | De Hoofdzaak
URL:https://dehoofdzaak.org/agenda/creatief-verbinden-4/2029-11-07/
LOCATION:Wijkcentrum Overdie\, Van Maerlantstraat 8-10\, Alkmaar\, 1813 BH
CATEGORIES:Noord-Kennemerland
END:VEVENT
BEGIN:VEVENT
DTSTART;TZID=Europe/Amsterdam:20291107T133000
DTEND;TZID=Europe/Amsterdam:20291107T143000
DTSTAMP:20260422T003311
CREATED:20260317T100025Z
LAST-MODIFIED:20260317T100027Z
UID:10043892-1888752600-1888756200@dehoofdzaak.org
SUMMARY:Gitaar Cursus
DESCRIPTION:Leer akoestische gitaar spelen! In deze cursus leer je liedjes begeleiden met akkoorden en melodieën spelen. De cursus is voor beginners\, ideaal voor mensen die een moeilijke periode doormaken en op zoek zijn naar een nieuwe passie. \n\n\n\n\n\n\n\n\n\n\nGitaarcursus voor beginners | De Hoofdzaak
URL:https://dehoofdzaak.org/agenda/gitaar-cursus/2029-11-07/
LOCATION:Wijkcentrum Overdie\, Van Maerlantstraat 8-10\, Alkmaar\, 1813 BH
CATEGORIES:Noord-Kennemerland
END:VEVENT
BEGIN:VEVENT
DTSTART;TZID=Europe/Amsterdam:20291109T100000
DTEND;TZID=Europe/Amsterdam:20291109T123000
DTSTAMP:20260422T003311
CREATED:20260324T100643Z
LAST-MODIFIED:20260324T100646Z
UID:10044344-1888912800-1888921800@dehoofdzaak.org
SUMMARY:Creatief Verbinden
DESCRIPTION:Door middel van creatief bezig zijn kun je hoofd en handen verbinden met elkaar. Ook kun je jezelf verbinden met het materiaal waarmee je werkt. We gaan aan de slag met verschillende materialen in acht verschillende bijeenkomsten. Door gezamenlijk creatief bezig te zijn kunnen we elkaar versterken en verbinden. Je kan je voor de nieuwe reeks aanmelden via: creatief-verbinden-alkmaar@dehoofdzaak.org. \n\n\n\n\n\n\n\n\n\n\n\nCreatief verbinden | De Hoofdzaak
URL:https://dehoofdzaak.org/agenda/creatief-verbinden-4/2029-11-09/
LOCATION:Wijkcentrum Overdie\, Van Maerlantstraat 8-10\, Alkmaar\, 1813 BH
CATEGORIES:Noord-Kennemerland
END:VEVENT
END:VCALENDAR