BEGIN:VCALENDAR
VERSION:2.0
PRODID:-//De Hoofdzaak - ECPv6.15.20//NONSGML v1.0//EN
CALSCALE:GREGORIAN
METHOD:PUBLISH
X-ORIGINAL-URL:https://dehoofdzaak.org
X-WR-CALDESC:Evenementen voor De Hoofdzaak
REFRESH-INTERVAL;VALUE=DURATION:PT1H
X-Robots-Tag:noindex
X-PUBLISHED-TTL:PT1H
BEGIN:VTIMEZONE
TZID:Europe/Amsterdam
BEGIN:DAYLIGHT
TZOFFSETFROM:+0100
TZOFFSETTO:+0200
TZNAME:CEST
DTSTART:20290325T010000
END:DAYLIGHT
BEGIN:STANDARD
TZOFFSETFROM:+0200
TZOFFSETTO:+0100
TZNAME:CET
DTSTART:20291028T010000
END:STANDARD
BEGIN:DAYLIGHT
TZOFFSETFROM:+0100
TZOFFSETTO:+0200
TZNAME:CEST
DTSTART:20300331T010000
END:DAYLIGHT
BEGIN:STANDARD
TZOFFSETFROM:+0200
TZOFFSETTO:+0100
TZNAME:CET
DTSTART:20301027T010000
END:STANDARD
BEGIN:DAYLIGHT
TZOFFSETFROM:+0100
TZOFFSETTO:+0200
TZNAME:CEST
DTSTART:20310330T010000
END:DAYLIGHT
BEGIN:STANDARD
TZOFFSETFROM:+0200
TZOFFSETTO:+0100
TZNAME:CET
DTSTART:20311026T010000
END:STANDARD
BEGIN:DAYLIGHT
TZOFFSETFROM:+0100
TZOFFSETTO:+0200
TZNAME:CEST
DTSTART:20320328T010000
END:DAYLIGHT
BEGIN:STANDARD
TZOFFSETFROM:+0200
TZOFFSETTO:+0100
TZNAME:CET
DTSTART:20321031T010000
END:STANDARD
END:VTIMEZONE
BEGIN:VEVENT
DTSTART;TZID=Europe/Amsterdam:20301129T100000
DTEND;TZID=Europe/Amsterdam:20301129T123000
DTSTAMP:20260423T061421
CREATED:20260324T100643Z
LAST-MODIFIED:20260324T100646Z
UID:10044454-1922176800-1922185800@dehoofdzaak.org
SUMMARY:Creatief Verbinden
DESCRIPTION:Door middel van creatief bezig zijn kun je hoofd en handen verbinden met elkaar. Ook kun je jezelf verbinden met het materiaal waarmee je werkt. We gaan aan de slag met verschillende materialen in acht verschillende bijeenkomsten. Door gezamenlijk creatief bezig te zijn kunnen we elkaar versterken en verbinden. Je kan je voor de nieuwe reeks aanmelden via: creatief-verbinden-alkmaar@dehoofdzaak.org. \n\n\n\n\n\n\n\n\n\n\n\nCreatief verbinden | De Hoofdzaak
URL:https://dehoofdzaak.org/agenda/creatief-verbinden-4/2030-11-29/
LOCATION:Wijkcentrum Overdie\, Van Maerlantstraat 8-10\, Alkmaar\, 1813 BH
CATEGORIES:Noord-Kennemerland
END:VEVENT
BEGIN:VEVENT
DTSTART;TZID=Europe/Amsterdam:20301204T100000
DTEND;TZID=Europe/Amsterdam:20301204T123000
DTSTAMP:20260423T061421
CREATED:20260324T100643Z
LAST-MODIFIED:20260324T100646Z
UID:10045071-1922608800-1922617800@dehoofdzaak.org
SUMMARY:Creatief Verbinden
DESCRIPTION:Door middel van creatief bezig zijn kun je hoofd en handen verbinden met elkaar. Ook kun je jezelf verbinden met het materiaal waarmee je werkt. We gaan aan de slag met verschillende materialen in acht verschillende bijeenkomsten. Door gezamenlijk creatief bezig te zijn kunnen we elkaar versterken en verbinden. Je kan je voor de nieuwe reeks aanmelden via: creatief-verbinden-alkmaar@dehoofdzaak.org. \n\n\n\n\n\n\n\n\n\n\n\nCreatief verbinden | De Hoofdzaak
URL:https://dehoofdzaak.org/agenda/creatief-verbinden-4/2030-12-04/
LOCATION:Wijkcentrum Overdie\, Van Maerlantstraat 8-10\, Alkmaar\, 1813 BH
CATEGORIES:Noord-Kennemerland
END:VEVENT
BEGIN:VEVENT
DTSTART;TZID=Europe/Amsterdam:20301204T133000
DTEND;TZID=Europe/Amsterdam:20301204T143000
DTSTAMP:20260423T061421
CREATED:20260317T100025Z
LAST-MODIFIED:20260317T100027Z
UID:10043948-1922621400-1922625000@dehoofdzaak.org
SUMMARY:Gitaar Cursus
DESCRIPTION:Leer akoestische gitaar spelen! In deze cursus leer je liedjes begeleiden met akkoorden en melodieën spelen. De cursus is voor beginners\, ideaal voor mensen die een moeilijke periode doormaken en op zoek zijn naar een nieuwe passie. \n\n\n\n\n\n\n\n\n\n\nGitaarcursus voor beginners | De Hoofdzaak
URL:https://dehoofdzaak.org/agenda/gitaar-cursus/2030-12-04/
LOCATION:Wijkcentrum Overdie\, Van Maerlantstraat 8-10\, Alkmaar\, 1813 BH
CATEGORIES:Noord-Kennemerland
END:VEVENT
BEGIN:VEVENT
DTSTART;TZID=Europe/Amsterdam:20301206T100000
DTEND;TZID=Europe/Amsterdam:20301206T123000
DTSTAMP:20260423T061421
CREATED:20260324T100643Z
LAST-MODIFIED:20260324T100646Z
UID:10044456-1922781600-1922790600@dehoofdzaak.org
SUMMARY:Creatief Verbinden
DESCRIPTION:Door middel van creatief bezig zijn kun je hoofd en handen verbinden met elkaar. Ook kun je jezelf verbinden met het materiaal waarmee je werkt. We gaan aan de slag met verschillende materialen in acht verschillende bijeenkomsten. Door gezamenlijk creatief bezig te zijn kunnen we elkaar versterken en verbinden. Je kan je voor de nieuwe reeks aanmelden via: creatief-verbinden-alkmaar@dehoofdzaak.org. \n\n\n\n\n\n\n\n\n\n\n\nCreatief verbinden | De Hoofdzaak
URL:https://dehoofdzaak.org/agenda/creatief-verbinden-4/2030-12-06/
LOCATION:Wijkcentrum Overdie\, Van Maerlantstraat 8-10\, Alkmaar\, 1813 BH
CATEGORIES:Noord-Kennemerland
END:VEVENT
BEGIN:VEVENT
DTSTART;TZID=Europe/Amsterdam:20301211T100000
DTEND;TZID=Europe/Amsterdam:20301211T123000
DTSTAMP:20260423T061421
CREATED:20260324T100643Z
LAST-MODIFIED:20260324T100646Z
UID:10045072-1923213600-1923222600@dehoofdzaak.org
SUMMARY:Creatief Verbinden
DESCRIPTION:Door middel van creatief bezig zijn kun je hoofd en handen verbinden met elkaar. Ook kun je jezelf verbinden met het materiaal waarmee je werkt. We gaan aan de slag met verschillende materialen in acht verschillende bijeenkomsten. Door gezamenlijk creatief bezig te zijn kunnen we elkaar versterken en verbinden. Je kan je voor de nieuwe reeks aanmelden via: creatief-verbinden-alkmaar@dehoofdzaak.org. \n\n\n\n\n\n\n\n\n\n\n\nCreatief verbinden | De Hoofdzaak
URL:https://dehoofdzaak.org/agenda/creatief-verbinden-4/2030-12-11/
LOCATION:Wijkcentrum Overdie\, Van Maerlantstraat 8-10\, Alkmaar\, 1813 BH
CATEGORIES:Noord-Kennemerland
END:VEVENT
BEGIN:VEVENT
DTSTART;TZID=Europe/Amsterdam:20301211T133000
DTEND;TZID=Europe/Amsterdam:20301211T143000
DTSTAMP:20260423T061421
CREATED:20260317T100025Z
LAST-MODIFIED:20260317T100027Z
UID:10043949-1923226200-1923229800@dehoofdzaak.org
SUMMARY:Gitaar Cursus
DESCRIPTION:Leer akoestische gitaar spelen! In deze cursus leer je liedjes begeleiden met akkoorden en melodieën spelen. De cursus is voor beginners\, ideaal voor mensen die een moeilijke periode doormaken en op zoek zijn naar een nieuwe passie. \n\n\n\n\n\n\n\n\n\n\nGitaarcursus voor beginners | De Hoofdzaak
URL:https://dehoofdzaak.org/agenda/gitaar-cursus/2030-12-11/
LOCATION:Wijkcentrum Overdie\, Van Maerlantstraat 8-10\, Alkmaar\, 1813 BH
CATEGORIES:Noord-Kennemerland
END:VEVENT
BEGIN:VEVENT
DTSTART;TZID=Europe/Amsterdam:20301213T100000
DTEND;TZID=Europe/Amsterdam:20301213T123000
DTSTAMP:20260423T061421
CREATED:20260324T100643Z
LAST-MODIFIED:20260324T100646Z
UID:10044458-1923386400-1923395400@dehoofdzaak.org
SUMMARY:Creatief Verbinden
DESCRIPTION:Door middel van creatief bezig zijn kun je hoofd en handen verbinden met elkaar. Ook kun je jezelf verbinden met het materiaal waarmee je werkt. We gaan aan de slag met verschillende materialen in acht verschillende bijeenkomsten. Door gezamenlijk creatief bezig te zijn kunnen we elkaar versterken en verbinden. Je kan je voor de nieuwe reeks aanmelden via: creatief-verbinden-alkmaar@dehoofdzaak.org. \n\n\n\n\n\n\n\n\n\n\n\nCreatief verbinden | De Hoofdzaak
URL:https://dehoofdzaak.org/agenda/creatief-verbinden-4/2030-12-13/
LOCATION:Wijkcentrum Overdie\, Van Maerlantstraat 8-10\, Alkmaar\, 1813 BH
CATEGORIES:Noord-Kennemerland
END:VEVENT
BEGIN:VEVENT
DTSTART;TZID=Europe/Amsterdam:20301218T100000
DTEND;TZID=Europe/Amsterdam:20301218T123000
DTSTAMP:20260423T061421
CREATED:20260324T100643Z
LAST-MODIFIED:20260324T100646Z
UID:10045073-1923818400-1923827400@dehoofdzaak.org
SUMMARY:Creatief Verbinden
DESCRIPTION:Door middel van creatief bezig zijn kun je hoofd en handen verbinden met elkaar. Ook kun je jezelf verbinden met het materiaal waarmee je werkt. We gaan aan de slag met verschillende materialen in acht verschillende bijeenkomsten. Door gezamenlijk creatief bezig te zijn kunnen we elkaar versterken en verbinden. Je kan je voor de nieuwe reeks aanmelden via: creatief-verbinden-alkmaar@dehoofdzaak.org. \n\n\n\n\n\n\n\n\n\n\n\nCreatief verbinden | De Hoofdzaak
URL:https://dehoofdzaak.org/agenda/creatief-verbinden-4/2030-12-18/
LOCATION:Wijkcentrum Overdie\, Van Maerlantstraat 8-10\, Alkmaar\, 1813 BH
CATEGORIES:Noord-Kennemerland
END:VEVENT
BEGIN:VEVENT
DTSTART;TZID=Europe/Amsterdam:20301218T133000
DTEND;TZID=Europe/Amsterdam:20301218T143000
DTSTAMP:20260423T061421
CREATED:20260317T100025Z
LAST-MODIFIED:20260317T100027Z
UID:10043950-1923831000-1923834600@dehoofdzaak.org
SUMMARY:Gitaar Cursus
DESCRIPTION:Leer akoestische gitaar spelen! In deze cursus leer je liedjes begeleiden met akkoorden en melodieën spelen. De cursus is voor beginners\, ideaal voor mensen die een moeilijke periode doormaken en op zoek zijn naar een nieuwe passie. \n\n\n\n\n\n\n\n\n\n\nGitaarcursus voor beginners | De Hoofdzaak
URL:https://dehoofdzaak.org/agenda/gitaar-cursus/2030-12-18/
LOCATION:Wijkcentrum Overdie\, Van Maerlantstraat 8-10\, Alkmaar\, 1813 BH
CATEGORIES:Noord-Kennemerland
END:VEVENT
BEGIN:VEVENT
DTSTART;TZID=Europe/Amsterdam:20301220T100000
DTEND;TZID=Europe/Amsterdam:20301220T123000
DTSTAMP:20260423T061421
CREATED:20260324T100643Z
LAST-MODIFIED:20260324T100646Z
UID:10044460-1923991200-1924000200@dehoofdzaak.org
SUMMARY:Creatief Verbinden
DESCRIPTION:Door middel van creatief bezig zijn kun je hoofd en handen verbinden met elkaar. Ook kun je jezelf verbinden met het materiaal waarmee je werkt. We gaan aan de slag met verschillende materialen in acht verschillende bijeenkomsten. Door gezamenlijk creatief bezig te zijn kunnen we elkaar versterken en verbinden. Je kan je voor de nieuwe reeks aanmelden via: creatief-verbinden-alkmaar@dehoofdzaak.org. \n\n\n\n\n\n\n\n\n\n\n\nCreatief verbinden | De Hoofdzaak
URL:https://dehoofdzaak.org/agenda/creatief-verbinden-4/2030-12-20/
LOCATION:Wijkcentrum Overdie\, Van Maerlantstraat 8-10\, Alkmaar\, 1813 BH
CATEGORIES:Noord-Kennemerland
END:VEVENT
BEGIN:VEVENT
DTSTART;TZID=Europe/Amsterdam:20301225T100000
DTEND;TZID=Europe/Amsterdam:20301225T123000
DTSTAMP:20260423T061421
CREATED:20260324T100643Z
LAST-MODIFIED:20260324T100646Z
UID:10045074-1924423200-1924432200@dehoofdzaak.org
SUMMARY:Creatief Verbinden
DESCRIPTION:Door middel van creatief bezig zijn kun je hoofd en handen verbinden met elkaar. Ook kun je jezelf verbinden met het materiaal waarmee je werkt. We gaan aan de slag met verschillende materialen in acht verschillende bijeenkomsten. Door gezamenlijk creatief bezig te zijn kunnen we elkaar versterken en verbinden. Je kan je voor de nieuwe reeks aanmelden via: creatief-verbinden-alkmaar@dehoofdzaak.org. \n\n\n\n\n\n\n\n\n\n\n\nCreatief verbinden | De Hoofdzaak
URL:https://dehoofdzaak.org/agenda/creatief-verbinden-4/2030-12-25/
LOCATION:Wijkcentrum Overdie\, Van Maerlantstraat 8-10\, Alkmaar\, 1813 BH
CATEGORIES:Noord-Kennemerland
END:VEVENT
BEGIN:VEVENT
DTSTART;TZID=Europe/Amsterdam:20301225T133000
DTEND;TZID=Europe/Amsterdam:20301225T143000
DTSTAMP:20260423T061421
CREATED:20260317T100025Z
LAST-MODIFIED:20260317T100027Z
UID:10043951-1924435800-1924439400@dehoofdzaak.org
SUMMARY:Gitaar Cursus
DESCRIPTION:Leer akoestische gitaar spelen! In deze cursus leer je liedjes begeleiden met akkoorden en melodieën spelen. De cursus is voor beginners\, ideaal voor mensen die een moeilijke periode doormaken en op zoek zijn naar een nieuwe passie. \n\n\n\n\n\n\n\n\n\n\nGitaarcursus voor beginners | De Hoofdzaak
URL:https://dehoofdzaak.org/agenda/gitaar-cursus/2030-12-25/
LOCATION:Wijkcentrum Overdie\, Van Maerlantstraat 8-10\, Alkmaar\, 1813 BH
CATEGORIES:Noord-Kennemerland
END:VEVENT
BEGIN:VEVENT
DTSTART;TZID=Europe/Amsterdam:20301227T100000
DTEND;TZID=Europe/Amsterdam:20301227T123000
DTSTAMP:20260423T061421
CREATED:20260324T100643Z
LAST-MODIFIED:20260324T100646Z
UID:10044462-1924596000-1924605000@dehoofdzaak.org
SUMMARY:Creatief Verbinden
DESCRIPTION:Door middel van creatief bezig zijn kun je hoofd en handen verbinden met elkaar. Ook kun je jezelf verbinden met het materiaal waarmee je werkt. We gaan aan de slag met verschillende materialen in acht verschillende bijeenkomsten. Door gezamenlijk creatief bezig te zijn kunnen we elkaar versterken en verbinden. Je kan je voor de nieuwe reeks aanmelden via: creatief-verbinden-alkmaar@dehoofdzaak.org. \n\n\n\n\n\n\n\n\n\n\n\nCreatief verbinden | De Hoofdzaak
URL:https://dehoofdzaak.org/agenda/creatief-verbinden-4/2030-12-27/
LOCATION:Wijkcentrum Overdie\, Van Maerlantstraat 8-10\, Alkmaar\, 1813 BH
CATEGORIES:Noord-Kennemerland
END:VEVENT
BEGIN:VEVENT
DTSTART;TZID=Europe/Amsterdam:20310101T100000
DTEND;TZID=Europe/Amsterdam:20310101T123000
DTSTAMP:20260423T061421
CREATED:20260324T100643Z
LAST-MODIFIED:20260324T100646Z
UID:10045075-1925028000-1925037000@dehoofdzaak.org
SUMMARY:Creatief Verbinden
DESCRIPTION:Door middel van creatief bezig zijn kun je hoofd en handen verbinden met elkaar. Ook kun je jezelf verbinden met het materiaal waarmee je werkt. We gaan aan de slag met verschillende materialen in acht verschillende bijeenkomsten. Door gezamenlijk creatief bezig te zijn kunnen we elkaar versterken en verbinden. Je kan je voor de nieuwe reeks aanmelden via: creatief-verbinden-alkmaar@dehoofdzaak.org. \n\n\n\n\n\n\n\n\n\n\n\nCreatief verbinden | De Hoofdzaak
URL:https://dehoofdzaak.org/agenda/creatief-verbinden-4/2031-01-01/
LOCATION:Wijkcentrum Overdie\, Van Maerlantstraat 8-10\, Alkmaar\, 1813 BH
CATEGORIES:Noord-Kennemerland
END:VEVENT
BEGIN:VEVENT
DTSTART;TZID=Europe/Amsterdam:20310101T133000
DTEND;TZID=Europe/Amsterdam:20310101T143000
DTSTAMP:20260423T061421
CREATED:20260317T100025Z
LAST-MODIFIED:20260317T100027Z
UID:10043952-1925040600-1925044200@dehoofdzaak.org
SUMMARY:Gitaar Cursus
DESCRIPTION:Leer akoestische gitaar spelen! In deze cursus leer je liedjes begeleiden met akkoorden en melodieën spelen. De cursus is voor beginners\, ideaal voor mensen die een moeilijke periode doormaken en op zoek zijn naar een nieuwe passie. \n\n\n\n\n\n\n\n\n\n\nGitaarcursus voor beginners | De Hoofdzaak
URL:https://dehoofdzaak.org/agenda/gitaar-cursus/2031-01-01/
LOCATION:Wijkcentrum Overdie\, Van Maerlantstraat 8-10\, Alkmaar\, 1813 BH
CATEGORIES:Noord-Kennemerland
END:VEVENT
BEGIN:VEVENT
DTSTART;TZID=Europe/Amsterdam:20310103T100000
DTEND;TZID=Europe/Amsterdam:20310103T123000
DTSTAMP:20260423T061421
CREATED:20260324T100643Z
LAST-MODIFIED:20260324T100646Z
UID:10044464-1925200800-1925209800@dehoofdzaak.org
SUMMARY:Creatief Verbinden
DESCRIPTION:Door middel van creatief bezig zijn kun je hoofd en handen verbinden met elkaar. Ook kun je jezelf verbinden met het materiaal waarmee je werkt. We gaan aan de slag met verschillende materialen in acht verschillende bijeenkomsten. Door gezamenlijk creatief bezig te zijn kunnen we elkaar versterken en verbinden. Je kan je voor de nieuwe reeks aanmelden via: creatief-verbinden-alkmaar@dehoofdzaak.org. \n\n\n\n\n\n\n\n\n\n\n\nCreatief verbinden | De Hoofdzaak
URL:https://dehoofdzaak.org/agenda/creatief-verbinden-4/2031-01-03/
LOCATION:Wijkcentrum Overdie\, Van Maerlantstraat 8-10\, Alkmaar\, 1813 BH
CATEGORIES:Noord-Kennemerland
END:VEVENT
BEGIN:VEVENT
DTSTART;TZID=Europe/Amsterdam:20310108T100000
DTEND;TZID=Europe/Amsterdam:20310108T123000
DTSTAMP:20260423T061421
CREATED:20260324T100643Z
LAST-MODIFIED:20260324T100646Z
UID:10045076-1925632800-1925641800@dehoofdzaak.org
SUMMARY:Creatief Verbinden
DESCRIPTION:Door middel van creatief bezig zijn kun je hoofd en handen verbinden met elkaar. Ook kun je jezelf verbinden met het materiaal waarmee je werkt. We gaan aan de slag met verschillende materialen in acht verschillende bijeenkomsten. Door gezamenlijk creatief bezig te zijn kunnen we elkaar versterken en verbinden. Je kan je voor de nieuwe reeks aanmelden via: creatief-verbinden-alkmaar@dehoofdzaak.org. \n\n\n\n\n\n\n\n\n\n\n\nCreatief verbinden | De Hoofdzaak
URL:https://dehoofdzaak.org/agenda/creatief-verbinden-4/2031-01-08/
LOCATION:Wijkcentrum Overdie\, Van Maerlantstraat 8-10\, Alkmaar\, 1813 BH
CATEGORIES:Noord-Kennemerland
END:VEVENT
BEGIN:VEVENT
DTSTART;TZID=Europe/Amsterdam:20310108T133000
DTEND;TZID=Europe/Amsterdam:20310108T143000
DTSTAMP:20260423T061421
CREATED:20260317T100025Z
LAST-MODIFIED:20260317T100027Z
UID:10043953-1925645400-1925649000@dehoofdzaak.org
SUMMARY:Gitaar Cursus
DESCRIPTION:Leer akoestische gitaar spelen! In deze cursus leer je liedjes begeleiden met akkoorden en melodieën spelen. De cursus is voor beginners\, ideaal voor mensen die een moeilijke periode doormaken en op zoek zijn naar een nieuwe passie. \n\n\n\n\n\n\n\n\n\n\nGitaarcursus voor beginners | De Hoofdzaak
URL:https://dehoofdzaak.org/agenda/gitaar-cursus/2031-01-08/
LOCATION:Wijkcentrum Overdie\, Van Maerlantstraat 8-10\, Alkmaar\, 1813 BH
CATEGORIES:Noord-Kennemerland
END:VEVENT
BEGIN:VEVENT
DTSTART;TZID=Europe/Amsterdam:20310110T100000
DTEND;TZID=Europe/Amsterdam:20310110T123000
DTSTAMP:20260423T061421
CREATED:20260324T100643Z
LAST-MODIFIED:20260324T100646Z
UID:10044466-1925805600-1925814600@dehoofdzaak.org
SUMMARY:Creatief Verbinden
DESCRIPTION:Door middel van creatief bezig zijn kun je hoofd en handen verbinden met elkaar. Ook kun je jezelf verbinden met het materiaal waarmee je werkt. We gaan aan de slag met verschillende materialen in acht verschillende bijeenkomsten. Door gezamenlijk creatief bezig te zijn kunnen we elkaar versterken en verbinden. Je kan je voor de nieuwe reeks aanmelden via: creatief-verbinden-alkmaar@dehoofdzaak.org. \n\n\n\n\n\n\n\n\n\n\n\nCreatief verbinden | De Hoofdzaak
URL:https://dehoofdzaak.org/agenda/creatief-verbinden-4/2031-01-10/
LOCATION:Wijkcentrum Overdie\, Van Maerlantstraat 8-10\, Alkmaar\, 1813 BH
CATEGORIES:Noord-Kennemerland
END:VEVENT
BEGIN:VEVENT
DTSTART;TZID=Europe/Amsterdam:20310115T100000
DTEND;TZID=Europe/Amsterdam:20310115T123000
DTSTAMP:20260423T061421
CREATED:20260324T100643Z
LAST-MODIFIED:20260324T100646Z
UID:10045077-1926237600-1926246600@dehoofdzaak.org
SUMMARY:Creatief Verbinden
DESCRIPTION:Door middel van creatief bezig zijn kun je hoofd en handen verbinden met elkaar. Ook kun je jezelf verbinden met het materiaal waarmee je werkt. We gaan aan de slag met verschillende materialen in acht verschillende bijeenkomsten. Door gezamenlijk creatief bezig te zijn kunnen we elkaar versterken en verbinden. Je kan je voor de nieuwe reeks aanmelden via: creatief-verbinden-alkmaar@dehoofdzaak.org. \n\n\n\n\n\n\n\n\n\n\n\nCreatief verbinden | De Hoofdzaak
URL:https://dehoofdzaak.org/agenda/creatief-verbinden-4/2031-01-15/
LOCATION:Wijkcentrum Overdie\, Van Maerlantstraat 8-10\, Alkmaar\, 1813 BH
CATEGORIES:Noord-Kennemerland
END:VEVENT
BEGIN:VEVENT
DTSTART;TZID=Europe/Amsterdam:20310115T133000
DTEND;TZID=Europe/Amsterdam:20310115T143000
DTSTAMP:20260423T061421
CREATED:20260317T100025Z
LAST-MODIFIED:20260317T100027Z
UID:10043954-1926250200-1926253800@dehoofdzaak.org
SUMMARY:Gitaar Cursus
DESCRIPTION:Leer akoestische gitaar spelen! In deze cursus leer je liedjes begeleiden met akkoorden en melodieën spelen. De cursus is voor beginners\, ideaal voor mensen die een moeilijke periode doormaken en op zoek zijn naar een nieuwe passie. \n\n\n\n\n\n\n\n\n\n\nGitaarcursus voor beginners | De Hoofdzaak
URL:https://dehoofdzaak.org/agenda/gitaar-cursus/2031-01-15/
LOCATION:Wijkcentrum Overdie\, Van Maerlantstraat 8-10\, Alkmaar\, 1813 BH
CATEGORIES:Noord-Kennemerland
END:VEVENT
BEGIN:VEVENT
DTSTART;TZID=Europe/Amsterdam:20310117T100000
DTEND;TZID=Europe/Amsterdam:20310117T123000
DTSTAMP:20260423T061421
CREATED:20260324T100643Z
LAST-MODIFIED:20260324T100646Z
UID:10044468-1926410400-1926419400@dehoofdzaak.org
SUMMARY:Creatief Verbinden
DESCRIPTION:Door middel van creatief bezig zijn kun je hoofd en handen verbinden met elkaar. Ook kun je jezelf verbinden met het materiaal waarmee je werkt. We gaan aan de slag met verschillende materialen in acht verschillende bijeenkomsten. Door gezamenlijk creatief bezig te zijn kunnen we elkaar versterken en verbinden. Je kan je voor de nieuwe reeks aanmelden via: creatief-verbinden-alkmaar@dehoofdzaak.org. \n\n\n\n\n\n\n\n\n\n\n\nCreatief verbinden | De Hoofdzaak
URL:https://dehoofdzaak.org/agenda/creatief-verbinden-4/2031-01-17/
LOCATION:Wijkcentrum Overdie\, Van Maerlantstraat 8-10\, Alkmaar\, 1813 BH
CATEGORIES:Noord-Kennemerland
END:VEVENT
BEGIN:VEVENT
DTSTART;TZID=Europe/Amsterdam:20310122T100000
DTEND;TZID=Europe/Amsterdam:20310122T123000
DTSTAMP:20260423T061421
CREATED:20260324T100643Z
LAST-MODIFIED:20260324T100646Z
UID:10045078-1926842400-1926851400@dehoofdzaak.org
SUMMARY:Creatief Verbinden
DESCRIPTION:Door middel van creatief bezig zijn kun je hoofd en handen verbinden met elkaar. Ook kun je jezelf verbinden met het materiaal waarmee je werkt. We gaan aan de slag met verschillende materialen in acht verschillende bijeenkomsten. Door gezamenlijk creatief bezig te zijn kunnen we elkaar versterken en verbinden. Je kan je voor de nieuwe reeks aanmelden via: creatief-verbinden-alkmaar@dehoofdzaak.org. \n\n\n\n\n\n\n\n\n\n\n\nCreatief verbinden | De Hoofdzaak
URL:https://dehoofdzaak.org/agenda/creatief-verbinden-4/2031-01-22/
LOCATION:Wijkcentrum Overdie\, Van Maerlantstraat 8-10\, Alkmaar\, 1813 BH
CATEGORIES:Noord-Kennemerland
END:VEVENT
BEGIN:VEVENT
DTSTART;TZID=Europe/Amsterdam:20310122T133000
DTEND;TZID=Europe/Amsterdam:20310122T143000
DTSTAMP:20260423T061421
CREATED:20260317T100025Z
LAST-MODIFIED:20260317T100027Z
UID:10043955-1926855000-1926858600@dehoofdzaak.org
SUMMARY:Gitaar Cursus
DESCRIPTION:Leer akoestische gitaar spelen! In deze cursus leer je liedjes begeleiden met akkoorden en melodieën spelen. De cursus is voor beginners\, ideaal voor mensen die een moeilijke periode doormaken en op zoek zijn naar een nieuwe passie. \n\n\n\n\n\n\n\n\n\n\nGitaarcursus voor beginners | De Hoofdzaak
URL:https://dehoofdzaak.org/agenda/gitaar-cursus/2031-01-22/
LOCATION:Wijkcentrum Overdie\, Van Maerlantstraat 8-10\, Alkmaar\, 1813 BH
CATEGORIES:Noord-Kennemerland
END:VEVENT
BEGIN:VEVENT
DTSTART;TZID=Europe/Amsterdam:20310124T100000
DTEND;TZID=Europe/Amsterdam:20310124T123000
DTSTAMP:20260423T061421
CREATED:20260324T100643Z
LAST-MODIFIED:20260324T100646Z
UID:10044470-1927015200-1927024200@dehoofdzaak.org
SUMMARY:Creatief Verbinden
DESCRIPTION:Door middel van creatief bezig zijn kun je hoofd en handen verbinden met elkaar. Ook kun je jezelf verbinden met het materiaal waarmee je werkt. We gaan aan de slag met verschillende materialen in acht verschillende bijeenkomsten. Door gezamenlijk creatief bezig te zijn kunnen we elkaar versterken en verbinden. Je kan je voor de nieuwe reeks aanmelden via: creatief-verbinden-alkmaar@dehoofdzaak.org. \n\n\n\n\n\n\n\n\n\n\n\nCreatief verbinden | De Hoofdzaak
URL:https://dehoofdzaak.org/agenda/creatief-verbinden-4/2031-01-24/
LOCATION:Wijkcentrum Overdie\, Van Maerlantstraat 8-10\, Alkmaar\, 1813 BH
CATEGORIES:Noord-Kennemerland
END:VEVENT
BEGIN:VEVENT
DTSTART;TZID=Europe/Amsterdam:20310129T100000
DTEND;TZID=Europe/Amsterdam:20310129T123000
DTSTAMP:20260423T061421
CREATED:20260324T100643Z
LAST-MODIFIED:20260324T100646Z
UID:10045079-1927447200-1927456200@dehoofdzaak.org
SUMMARY:Creatief Verbinden
DESCRIPTION:Door middel van creatief bezig zijn kun je hoofd en handen verbinden met elkaar. Ook kun je jezelf verbinden met het materiaal waarmee je werkt. We gaan aan de slag met verschillende materialen in acht verschillende bijeenkomsten. Door gezamenlijk creatief bezig te zijn kunnen we elkaar versterken en verbinden. Je kan je voor de nieuwe reeks aanmelden via: creatief-verbinden-alkmaar@dehoofdzaak.org. \n\n\n\n\n\n\n\n\n\n\n\nCreatief verbinden | De Hoofdzaak
URL:https://dehoofdzaak.org/agenda/creatief-verbinden-4/2031-01-29/
LOCATION:Wijkcentrum Overdie\, Van Maerlantstraat 8-10\, Alkmaar\, 1813 BH
CATEGORIES:Noord-Kennemerland
END:VEVENT
BEGIN:VEVENT
DTSTART;TZID=Europe/Amsterdam:20310129T133000
DTEND;TZID=Europe/Amsterdam:20310129T143000
DTSTAMP:20260423T061421
CREATED:20260317T100025Z
LAST-MODIFIED:20260317T100027Z
UID:10043956-1927459800-1927463400@dehoofdzaak.org
SUMMARY:Gitaar Cursus
DESCRIPTION:Leer akoestische gitaar spelen! In deze cursus leer je liedjes begeleiden met akkoorden en melodieën spelen. De cursus is voor beginners\, ideaal voor mensen die een moeilijke periode doormaken en op zoek zijn naar een nieuwe passie. \n\n\n\n\n\n\n\n\n\n\nGitaarcursus voor beginners | De Hoofdzaak
URL:https://dehoofdzaak.org/agenda/gitaar-cursus/2031-01-29/
LOCATION:Wijkcentrum Overdie\, Van Maerlantstraat 8-10\, Alkmaar\, 1813 BH
CATEGORIES:Noord-Kennemerland
END:VEVENT
BEGIN:VEVENT
DTSTART;TZID=Europe/Amsterdam:20310131T100000
DTEND;TZID=Europe/Amsterdam:20310131T123000
DTSTAMP:20260423T061421
CREATED:20260324T100643Z
LAST-MODIFIED:20260324T100646Z
UID:10044472-1927620000-1927629000@dehoofdzaak.org
SUMMARY:Creatief Verbinden
DESCRIPTION:Door middel van creatief bezig zijn kun je hoofd en handen verbinden met elkaar. Ook kun je jezelf verbinden met het materiaal waarmee je werkt. We gaan aan de slag met verschillende materialen in acht verschillende bijeenkomsten. Door gezamenlijk creatief bezig te zijn kunnen we elkaar versterken en verbinden. Je kan je voor de nieuwe reeks aanmelden via: creatief-verbinden-alkmaar@dehoofdzaak.org. \n\n\n\n\n\n\n\n\n\n\n\nCreatief verbinden | De Hoofdzaak
URL:https://dehoofdzaak.org/agenda/creatief-verbinden-4/2031-01-31/
LOCATION:Wijkcentrum Overdie\, Van Maerlantstraat 8-10\, Alkmaar\, 1813 BH
CATEGORIES:Noord-Kennemerland
END:VEVENT
BEGIN:VEVENT
DTSTART;TZID=Europe/Amsterdam:20310205T100000
DTEND;TZID=Europe/Amsterdam:20310205T123000
DTSTAMP:20260423T061421
CREATED:20260324T100643Z
LAST-MODIFIED:20260324T100646Z
UID:10045080-1928052000-1928061000@dehoofdzaak.org
SUMMARY:Creatief Verbinden
DESCRIPTION:Door middel van creatief bezig zijn kun je hoofd en handen verbinden met elkaar. Ook kun je jezelf verbinden met het materiaal waarmee je werkt. We gaan aan de slag met verschillende materialen in acht verschillende bijeenkomsten. Door gezamenlijk creatief bezig te zijn kunnen we elkaar versterken en verbinden. Je kan je voor de nieuwe reeks aanmelden via: creatief-verbinden-alkmaar@dehoofdzaak.org. \n\n\n\n\n\n\n\n\n\n\n\nCreatief verbinden | De Hoofdzaak
URL:https://dehoofdzaak.org/agenda/creatief-verbinden-4/2031-02-05/
LOCATION:Wijkcentrum Overdie\, Van Maerlantstraat 8-10\, Alkmaar\, 1813 BH
CATEGORIES:Noord-Kennemerland
END:VEVENT
BEGIN:VEVENT
DTSTART;TZID=Europe/Amsterdam:20310205T133000
DTEND;TZID=Europe/Amsterdam:20310205T143000
DTSTAMP:20260423T061421
CREATED:20260317T100025Z
LAST-MODIFIED:20260317T100027Z
UID:10043957-1928064600-1928068200@dehoofdzaak.org
SUMMARY:Gitaar Cursus
DESCRIPTION:Leer akoestische gitaar spelen! In deze cursus leer je liedjes begeleiden met akkoorden en melodieën spelen. De cursus is voor beginners\, ideaal voor mensen die een moeilijke periode doormaken en op zoek zijn naar een nieuwe passie. \n\n\n\n\n\n\n\n\n\n\nGitaarcursus voor beginners | De Hoofdzaak
URL:https://dehoofdzaak.org/agenda/gitaar-cursus/2031-02-05/
LOCATION:Wijkcentrum Overdie\, Van Maerlantstraat 8-10\, Alkmaar\, 1813 BH
CATEGORIES:Noord-Kennemerland
END:VEVENT
END:VCALENDAR