BEGIN:VCALENDAR
VERSION:2.0
PRODID:-//De Hoofdzaak - ECPv6.15.20//NONSGML v1.0//EN
CALSCALE:GREGORIAN
METHOD:PUBLISH
X-WR-CALNAME:De Hoofdzaak
X-ORIGINAL-URL:https://dehoofdzaak.org
X-WR-CALDESC:Evenementen voor De Hoofdzaak
REFRESH-INTERVAL;VALUE=DURATION:PT1H
X-Robots-Tag:noindex
X-PUBLISHED-TTL:PT1H
BEGIN:VTIMEZONE
TZID:Europe/Amsterdam
BEGIN:DAYLIGHT
TZOFFSETFROM:+0100
TZOFFSETTO:+0200
TZNAME:CEST
DTSTART:20300331T010000
END:DAYLIGHT
BEGIN:STANDARD
TZOFFSETFROM:+0200
TZOFFSETTO:+0100
TZNAME:CET
DTSTART:20301027T010000
END:STANDARD
BEGIN:DAYLIGHT
TZOFFSETFROM:+0100
TZOFFSETTO:+0200
TZNAME:CEST
DTSTART:20310330T010000
END:DAYLIGHT
BEGIN:STANDARD
TZOFFSETFROM:+0200
TZOFFSETTO:+0100
TZNAME:CET
DTSTART:20311026T010000
END:STANDARD
BEGIN:DAYLIGHT
TZOFFSETFROM:+0100
TZOFFSETTO:+0200
TZNAME:CEST
DTSTART:20320328T010000
END:DAYLIGHT
BEGIN:STANDARD
TZOFFSETFROM:+0200
TZOFFSETTO:+0100
TZNAME:CET
DTSTART:20321031T010000
END:STANDARD
END:VTIMEZONE
BEGIN:VEVENT
DTSTART;TZID=Europe/Amsterdam:20310221T100000
DTEND;TZID=Europe/Amsterdam:20310221T123000
DTSTAMP:20260423T114104
CREATED:20260324T100643Z
LAST-MODIFIED:20260324T100646Z
UID:10044478-1929434400-1929443400@dehoofdzaak.org
SUMMARY:Creatief Verbinden
DESCRIPTION:Door middel van creatief bezig zijn kun je hoofd en handen verbinden met elkaar. Ook kun je jezelf verbinden met het materiaal waarmee je werkt. We gaan aan de slag met verschillende materialen in acht verschillende bijeenkomsten. Door gezamenlijk creatief bezig te zijn kunnen we elkaar versterken en verbinden. Je kan je voor de nieuwe reeks aanmelden via: creatief-verbinden-alkmaar@dehoofdzaak.org. \n\n\n\n\n\n\n\n\n\n\n\nCreatief verbinden | De Hoofdzaak
URL:https://dehoofdzaak.org/agenda/creatief-verbinden-4/2031-02-21/
LOCATION:Wijkcentrum Overdie\, Van Maerlantstraat 8-10\, Alkmaar\, 1813 BH
CATEGORIES:Noord-Kennemerland
END:VEVENT
BEGIN:VEVENT
DTSTART;TZID=Europe/Amsterdam:20310226T100000
DTEND;TZID=Europe/Amsterdam:20310226T123000
DTSTAMP:20260423T114104
CREATED:20260324T100643Z
LAST-MODIFIED:20260324T100646Z
UID:10045083-1929866400-1929875400@dehoofdzaak.org
SUMMARY:Creatief Verbinden
DESCRIPTION:Door middel van creatief bezig zijn kun je hoofd en handen verbinden met elkaar. Ook kun je jezelf verbinden met het materiaal waarmee je werkt. We gaan aan de slag met verschillende materialen in acht verschillende bijeenkomsten. Door gezamenlijk creatief bezig te zijn kunnen we elkaar versterken en verbinden. Je kan je voor de nieuwe reeks aanmelden via: creatief-verbinden-alkmaar@dehoofdzaak.org. \n\n\n\n\n\n\n\n\n\n\n\nCreatief verbinden | De Hoofdzaak
URL:https://dehoofdzaak.org/agenda/creatief-verbinden-4/2031-02-26/
LOCATION:Wijkcentrum Overdie\, Van Maerlantstraat 8-10\, Alkmaar\, 1813 BH
CATEGORIES:Noord-Kennemerland
END:VEVENT
BEGIN:VEVENT
DTSTART;TZID=Europe/Amsterdam:20310226T133000
DTEND;TZID=Europe/Amsterdam:20310226T143000
DTSTAMP:20260423T114104
CREATED:20260317T100025Z
LAST-MODIFIED:20260317T100027Z
UID:10043960-1929879000-1929882600@dehoofdzaak.org
SUMMARY:Gitaar Cursus
DESCRIPTION:Leer akoestische gitaar spelen! In deze cursus leer je liedjes begeleiden met akkoorden en melodieën spelen. De cursus is voor beginners\, ideaal voor mensen die een moeilijke periode doormaken en op zoek zijn naar een nieuwe passie. \n\n\n\n\n\n\n\n\n\n\nGitaarcursus voor beginners | De Hoofdzaak
URL:https://dehoofdzaak.org/agenda/gitaar-cursus/2031-02-26/
LOCATION:Wijkcentrum Overdie\, Van Maerlantstraat 8-10\, Alkmaar\, 1813 BH
CATEGORIES:Noord-Kennemerland
END:VEVENT
BEGIN:VEVENT
DTSTART;TZID=Europe/Amsterdam:20310228T100000
DTEND;TZID=Europe/Amsterdam:20310228T123000
DTSTAMP:20260423T114104
CREATED:20260324T100643Z
LAST-MODIFIED:20260324T100646Z
UID:10044480-1930039200-1930048200@dehoofdzaak.org
SUMMARY:Creatief Verbinden
DESCRIPTION:Door middel van creatief bezig zijn kun je hoofd en handen verbinden met elkaar. Ook kun je jezelf verbinden met het materiaal waarmee je werkt. We gaan aan de slag met verschillende materialen in acht verschillende bijeenkomsten. Door gezamenlijk creatief bezig te zijn kunnen we elkaar versterken en verbinden. Je kan je voor de nieuwe reeks aanmelden via: creatief-verbinden-alkmaar@dehoofdzaak.org. \n\n\n\n\n\n\n\n\n\n\n\nCreatief verbinden | De Hoofdzaak
URL:https://dehoofdzaak.org/agenda/creatief-verbinden-4/2031-02-28/
LOCATION:Wijkcentrum Overdie\, Van Maerlantstraat 8-10\, Alkmaar\, 1813 BH
CATEGORIES:Noord-Kennemerland
END:VEVENT
BEGIN:VEVENT
DTSTART;TZID=Europe/Amsterdam:20310305T100000
DTEND;TZID=Europe/Amsterdam:20310305T123000
DTSTAMP:20260423T114104
CREATED:20260324T100643Z
LAST-MODIFIED:20260324T100646Z
UID:10045084-1930471200-1930480200@dehoofdzaak.org
SUMMARY:Creatief Verbinden
DESCRIPTION:Door middel van creatief bezig zijn kun je hoofd en handen verbinden met elkaar. Ook kun je jezelf verbinden met het materiaal waarmee je werkt. We gaan aan de slag met verschillende materialen in acht verschillende bijeenkomsten. Door gezamenlijk creatief bezig te zijn kunnen we elkaar versterken en verbinden. Je kan je voor de nieuwe reeks aanmelden via: creatief-verbinden-alkmaar@dehoofdzaak.org. \n\n\n\n\n\n\n\n\n\n\n\nCreatief verbinden | De Hoofdzaak
URL:https://dehoofdzaak.org/agenda/creatief-verbinden-4/2031-03-05/
LOCATION:Wijkcentrum Overdie\, Van Maerlantstraat 8-10\, Alkmaar\, 1813 BH
CATEGORIES:Noord-Kennemerland
END:VEVENT
BEGIN:VEVENT
DTSTART;TZID=Europe/Amsterdam:20310305T133000
DTEND;TZID=Europe/Amsterdam:20310305T143000
DTSTAMP:20260423T114104
CREATED:20260317T100025Z
LAST-MODIFIED:20260317T100027Z
UID:10043961-1930483800-1930487400@dehoofdzaak.org
SUMMARY:Gitaar Cursus
DESCRIPTION:Leer akoestische gitaar spelen! In deze cursus leer je liedjes begeleiden met akkoorden en melodieën spelen. De cursus is voor beginners\, ideaal voor mensen die een moeilijke periode doormaken en op zoek zijn naar een nieuwe passie. \n\n\n\n\n\n\n\n\n\n\nGitaarcursus voor beginners | De Hoofdzaak
URL:https://dehoofdzaak.org/agenda/gitaar-cursus/2031-03-05/
LOCATION:Wijkcentrum Overdie\, Van Maerlantstraat 8-10\, Alkmaar\, 1813 BH
CATEGORIES:Noord-Kennemerland
END:VEVENT
BEGIN:VEVENT
DTSTART;TZID=Europe/Amsterdam:20310307T100000
DTEND;TZID=Europe/Amsterdam:20310307T123000
DTSTAMP:20260423T114104
CREATED:20260324T100643Z
LAST-MODIFIED:20260324T100646Z
UID:10044482-1930644000-1930653000@dehoofdzaak.org
SUMMARY:Creatief Verbinden
DESCRIPTION:Door middel van creatief bezig zijn kun je hoofd en handen verbinden met elkaar. Ook kun je jezelf verbinden met het materiaal waarmee je werkt. We gaan aan de slag met verschillende materialen in acht verschillende bijeenkomsten. Door gezamenlijk creatief bezig te zijn kunnen we elkaar versterken en verbinden. Je kan je voor de nieuwe reeks aanmelden via: creatief-verbinden-alkmaar@dehoofdzaak.org. \n\n\n\n\n\n\n\n\n\n\n\nCreatief verbinden | De Hoofdzaak
URL:https://dehoofdzaak.org/agenda/creatief-verbinden-4/2031-03-07/
LOCATION:Wijkcentrum Overdie\, Van Maerlantstraat 8-10\, Alkmaar\, 1813 BH
CATEGORIES:Noord-Kennemerland
END:VEVENT
BEGIN:VEVENT
DTSTART;TZID=Europe/Amsterdam:20310312T100000
DTEND;TZID=Europe/Amsterdam:20310312T123000
DTSTAMP:20260423T114104
CREATED:20260324T100643Z
LAST-MODIFIED:20260324T100646Z
UID:10045085-1931076000-1931085000@dehoofdzaak.org
SUMMARY:Creatief Verbinden
DESCRIPTION:Door middel van creatief bezig zijn kun je hoofd en handen verbinden met elkaar. Ook kun je jezelf verbinden met het materiaal waarmee je werkt. We gaan aan de slag met verschillende materialen in acht verschillende bijeenkomsten. Door gezamenlijk creatief bezig te zijn kunnen we elkaar versterken en verbinden. Je kan je voor de nieuwe reeks aanmelden via: creatief-verbinden-alkmaar@dehoofdzaak.org. \n\n\n\n\n\n\n\n\n\n\n\nCreatief verbinden | De Hoofdzaak
URL:https://dehoofdzaak.org/agenda/creatief-verbinden-4/2031-03-12/
LOCATION:Wijkcentrum Overdie\, Van Maerlantstraat 8-10\, Alkmaar\, 1813 BH
CATEGORIES:Noord-Kennemerland
END:VEVENT
BEGIN:VEVENT
DTSTART;TZID=Europe/Amsterdam:20310312T133000
DTEND;TZID=Europe/Amsterdam:20310312T143000
DTSTAMP:20260423T114104
CREATED:20260317T100025Z
LAST-MODIFIED:20260317T100027Z
UID:10043962-1931088600-1931092200@dehoofdzaak.org
SUMMARY:Gitaar Cursus
DESCRIPTION:Leer akoestische gitaar spelen! In deze cursus leer je liedjes begeleiden met akkoorden en melodieën spelen. De cursus is voor beginners\, ideaal voor mensen die een moeilijke periode doormaken en op zoek zijn naar een nieuwe passie. \n\n\n\n\n\n\n\n\n\n\nGitaarcursus voor beginners | De Hoofdzaak
URL:https://dehoofdzaak.org/agenda/gitaar-cursus/2031-03-12/
LOCATION:Wijkcentrum Overdie\, Van Maerlantstraat 8-10\, Alkmaar\, 1813 BH
CATEGORIES:Noord-Kennemerland
END:VEVENT
BEGIN:VEVENT
DTSTART;TZID=Europe/Amsterdam:20310314T100000
DTEND;TZID=Europe/Amsterdam:20310314T123000
DTSTAMP:20260423T114104
CREATED:20260324T100643Z
LAST-MODIFIED:20260324T100646Z
UID:10044484-1931248800-1931257800@dehoofdzaak.org
SUMMARY:Creatief Verbinden
DESCRIPTION:Door middel van creatief bezig zijn kun je hoofd en handen verbinden met elkaar. Ook kun je jezelf verbinden met het materiaal waarmee je werkt. We gaan aan de slag met verschillende materialen in acht verschillende bijeenkomsten. Door gezamenlijk creatief bezig te zijn kunnen we elkaar versterken en verbinden. Je kan je voor de nieuwe reeks aanmelden via: creatief-verbinden-alkmaar@dehoofdzaak.org. \n\n\n\n\n\n\n\n\n\n\n\nCreatief verbinden | De Hoofdzaak
URL:https://dehoofdzaak.org/agenda/creatief-verbinden-4/2031-03-14/
LOCATION:Wijkcentrum Overdie\, Van Maerlantstraat 8-10\, Alkmaar\, 1813 BH
CATEGORIES:Noord-Kennemerland
END:VEVENT
BEGIN:VEVENT
DTSTART;TZID=Europe/Amsterdam:20310319T100000
DTEND;TZID=Europe/Amsterdam:20310319T123000
DTSTAMP:20260423T114104
CREATED:20260324T100643Z
LAST-MODIFIED:20260324T100646Z
UID:10045086-1931680800-1931689800@dehoofdzaak.org
SUMMARY:Creatief Verbinden
DESCRIPTION:Door middel van creatief bezig zijn kun je hoofd en handen verbinden met elkaar. Ook kun je jezelf verbinden met het materiaal waarmee je werkt. We gaan aan de slag met verschillende materialen in acht verschillende bijeenkomsten. Door gezamenlijk creatief bezig te zijn kunnen we elkaar versterken en verbinden. Je kan je voor de nieuwe reeks aanmelden via: creatief-verbinden-alkmaar@dehoofdzaak.org. \n\n\n\n\n\n\n\n\n\n\n\nCreatief verbinden | De Hoofdzaak
URL:https://dehoofdzaak.org/agenda/creatief-verbinden-4/2031-03-19/
LOCATION:Wijkcentrum Overdie\, Van Maerlantstraat 8-10\, Alkmaar\, 1813 BH
CATEGORIES:Noord-Kennemerland
END:VEVENT
BEGIN:VEVENT
DTSTART;TZID=Europe/Amsterdam:20310321T100000
DTEND;TZID=Europe/Amsterdam:20310321T123000
DTSTAMP:20260423T114104
CREATED:20260324T100643Z
LAST-MODIFIED:20260324T100646Z
UID:10045087-1931853600-1931862600@dehoofdzaak.org
SUMMARY:Creatief Verbinden
DESCRIPTION:Door middel van creatief bezig zijn kun je hoofd en handen verbinden met elkaar. Ook kun je jezelf verbinden met het materiaal waarmee je werkt. We gaan aan de slag met verschillende materialen in acht verschillende bijeenkomsten. Door gezamenlijk creatief bezig te zijn kunnen we elkaar versterken en verbinden. Je kan je voor de nieuwe reeks aanmelden via: creatief-verbinden-alkmaar@dehoofdzaak.org. \n\n\n\n\n\n\n\n\n\n\n\nCreatief verbinden | De Hoofdzaak
URL:https://dehoofdzaak.org/agenda/creatief-verbinden-4/2031-03-21/
LOCATION:Wijkcentrum Overdie\, Van Maerlantstraat 8-10\, Alkmaar\, 1813 BH
CATEGORIES:Noord-Kennemerland
END:VEVENT
END:VCALENDAR